BEGIN:VCALENDAR
VERSION:2.0
PRODID:-//Church of the Good Shepherd - ECPv6.15.20//NONSGML v1.0//EN
CALSCALE:GREGORIAN
METHOD:PUBLISH
X-WR-CALNAME:Church of the Good Shepherd
X-ORIGINAL-URL:https://gslookout.org
X-WR-CALDESC:Events for Church of the Good Shepherd
REFRESH-INTERVAL;VALUE=DURATION:PT1H
X-Robots-Tag:noindex
X-PUBLISHED-TTL:PT1H
BEGIN:VTIMEZONE
TZID:America/New_York
BEGIN:DAYLIGHT
TZOFFSETFROM:-0500
TZOFFSETTO:-0400
TZNAME:EDT
DTSTART:20300310T070000
END:DAYLIGHT
BEGIN:STANDARD
TZOFFSETFROM:-0400
TZOFFSETTO:-0500
TZNAME:EST
DTSTART:20301103T060000
END:STANDARD
BEGIN:DAYLIGHT
TZOFFSETFROM:-0500
TZOFFSETTO:-0400
TZNAME:EDT
DTSTART:20310309T070000
END:DAYLIGHT
BEGIN:STANDARD
TZOFFSETFROM:-0400
TZOFFSETTO:-0500
TZNAME:EST
DTSTART:20311102T060000
END:STANDARD
BEGIN:DAYLIGHT
TZOFFSETFROM:-0500
TZOFFSETTO:-0400
TZNAME:EDT
DTSTART:20320314T070000
END:DAYLIGHT
BEGIN:STANDARD
TZOFFSETFROM:-0400
TZOFFSETTO:-0500
TZNAME:EST
DTSTART:20321107T060000
END:STANDARD
END:VTIMEZONE
BEGIN:VEVENT
DTSTART;TZID=America/New_York:20310403T083000
DTEND;TZID=America/New_York:20310403T090000
DTSTAMP:20260420T054635
CREATED:20230519T155339Z
LAST-MODIFIED:20230519T155340Z
UID:10019903-1932971400-1932973200@gslookout.org
SUMMARY:Morning Prayer
DESCRIPTION:With Kathleen Crevasse on Facebook
URL:https://gslookout.org/event/morning-prayer-2-2/2031-04-03/
LOCATION:Facebook
CATEGORIES:Worship
END:VEVENT
BEGIN:VEVENT
DTSTART;TZID=America/New_York:20310403T103000
DTEND;TZID=America/New_York:20310403T233000
DTSTAMP:20260420T054635
CREATED:20241122T224001Z
LAST-MODIFIED:20241122T224019Z
UID:10019914-1932978600-1933025400@gslookout.org
SUMMARY:Thursday Bible Study
DESCRIPTION:
URL:https://gslookout.org/event/thursday-bible-study-2/2031-04-03/
LOCATION:Talbird Hall
CATEGORIES:Formation
END:VEVENT
BEGIN:VEVENT
DTSTART;TZID=America/New_York:20310403T130000
DTEND;TZID=America/New_York:20310403T140000
DTSTAMP:20260420T054635
CREATED:20230105T183243Z
LAST-MODIFIED:20230105T183243Z
UID:10019933-1932987600-1932991200@gslookout.org
SUMMARY:Grief Group
DESCRIPTION:For more information on the Grief Group\, please click contact Mother Michele\, michele@gslookout.com.
URL:https://gslookout.org/event/grief-group/2031-04-03/
LOCATION:Lupton Reading Room
CATEGORIES:Fellowship
ORGANIZER;CN="Rev. Michele Simmons":MAILTO:michele@gslookout.com
END:VEVENT
END:VCALENDAR