BEGIN:VCALENDAR
VERSION:2.0
PRODID:-//Church of the Good Shepherd - ECPv6.15.20//NONSGML v1.0//EN
CALSCALE:GREGORIAN
METHOD:PUBLISH
X-WR-CALNAME:Church of the Good Shepherd
X-ORIGINAL-URL:https://gslookout.org
X-WR-CALDESC:Events for Church of the Good Shepherd
REFRESH-INTERVAL;VALUE=DURATION:PT1H
X-Robots-Tag:noindex
X-PUBLISHED-TTL:PT1H
BEGIN:VTIMEZONE
TZID:America/New_York
BEGIN:DAYLIGHT
TZOFFSETFROM:-0500
TZOFFSETTO:-0400
TZNAME:EDT
DTSTART:20260308T070000
END:DAYLIGHT
BEGIN:STANDARD
TZOFFSETFROM:-0400
TZOFFSETTO:-0500
TZNAME:EST
DTSTART:20261101T060000
END:STANDARD
BEGIN:DAYLIGHT
TZOFFSETFROM:-0500
TZOFFSETTO:-0400
TZNAME:EDT
DTSTART:20270314T070000
END:DAYLIGHT
BEGIN:STANDARD
TZOFFSETFROM:-0400
TZOFFSETTO:-0500
TZNAME:EST
DTSTART:20271107T060000
END:STANDARD
BEGIN:DAYLIGHT
TZOFFSETFROM:-0500
TZOFFSETTO:-0400
TZNAME:EDT
DTSTART:20280312T070000
END:DAYLIGHT
BEGIN:STANDARD
TZOFFSETFROM:-0400
TZOFFSETTO:-0500
TZNAME:EST
DTSTART:20281105T060000
END:STANDARD
BEGIN:DAYLIGHT
TZOFFSETFROM:-0500
TZOFFSETTO:-0400
TZNAME:EDT
DTSTART:20290311T070000
END:DAYLIGHT
BEGIN:STANDARD
TZOFFSETFROM:-0400
TZOFFSETTO:-0500
TZNAME:EST
DTSTART:20291104T060000
END:STANDARD
END:VTIMEZONE
BEGIN:VEVENT
DTSTART;TZID=America/New_York:20270506T130000
DTEND;TZID=America/New_York:20270506T140000
DTSTAMP:20260421T004239
CREATED:20230105T183243Z
LAST-MODIFIED:20230105T183243Z
UID:10009597-1809608400-1809612000@gslookout.org
SUMMARY:Grief Group
DESCRIPTION:For more information on the Grief Group\, please click contact Mother Michele\, michele@gslookout.com.
URL:https://gslookout.org/event/grief-group/2027-05-06/
LOCATION:Lupton Reading Room
CATEGORIES:Fellowship
ORGANIZER;CN="Rev. Michele Simmons":MAILTO:michele@gslookout.com
END:VEVENT
BEGIN:VEVENT
DTSTART;TZID=America/New_York:20270520T130000
DTEND;TZID=America/New_York:20270520T140000
DTSTAMP:20260421T004239
CREATED:20230105T183243Z
LAST-MODIFIED:20230105T183243Z
UID:10009598-1810818000-1810821600@gslookout.org
SUMMARY:Grief Group
DESCRIPTION:For more information on the Grief Group\, please click contact Mother Michele\, michele@gslookout.com.
URL:https://gslookout.org/event/grief-group/2027-05-20/
LOCATION:Lupton Reading Room
CATEGORIES:Fellowship
ORGANIZER;CN="Rev. Michele Simmons":MAILTO:michele@gslookout.com
END:VEVENT
BEGIN:VEVENT
DTSTART;TZID=America/New_York:20270603T130000
DTEND;TZID=America/New_York:20270603T140000
DTSTAMP:20260421T004239
CREATED:20230105T183243Z
LAST-MODIFIED:20230105T183243Z
UID:10009599-1812027600-1812031200@gslookout.org
SUMMARY:Grief Group
DESCRIPTION:For more information on the Grief Group\, please click contact Mother Michele\, michele@gslookout.com.
URL:https://gslookout.org/event/grief-group/2027-06-03/
LOCATION:Lupton Reading Room
CATEGORIES:Fellowship
ORGANIZER;CN="Rev. Michele Simmons":MAILTO:michele@gslookout.com
END:VEVENT
BEGIN:VEVENT
DTSTART;TZID=America/New_York:20270617T130000
DTEND;TZID=America/New_York:20270617T140000
DTSTAMP:20260421T004239
CREATED:20230105T183243Z
LAST-MODIFIED:20230105T183243Z
UID:10009600-1813237200-1813240800@gslookout.org
SUMMARY:Grief Group
DESCRIPTION:For more information on the Grief Group\, please click contact Mother Michele\, michele@gslookout.com.
URL:https://gslookout.org/event/grief-group/2027-06-17/
LOCATION:Lupton Reading Room
CATEGORIES:Fellowship
ORGANIZER;CN="Rev. Michele Simmons":MAILTO:michele@gslookout.com
END:VEVENT
BEGIN:VEVENT
DTSTART;TZID=America/New_York:20270701T130000
DTEND;TZID=America/New_York:20270701T140000
DTSTAMP:20260421T004239
CREATED:20230105T183243Z
LAST-MODIFIED:20230105T183243Z
UID:10009601-1814446800-1814450400@gslookout.org
SUMMARY:Grief Group
DESCRIPTION:For more information on the Grief Group\, please click contact Mother Michele\, michele@gslookout.com.
URL:https://gslookout.org/event/grief-group/2027-07-01/
LOCATION:Lupton Reading Room
CATEGORIES:Fellowship
ORGANIZER;CN="Rev. Michele Simmons":MAILTO:michele@gslookout.com
END:VEVENT
BEGIN:VEVENT
DTSTART;TZID=America/New_York:20270715T130000
DTEND;TZID=America/New_York:20270715T140000
DTSTAMP:20260421T004239
CREATED:20230105T183243Z
LAST-MODIFIED:20230105T183243Z
UID:10009602-1815656400-1815660000@gslookout.org
SUMMARY:Grief Group
DESCRIPTION:For more information on the Grief Group\, please click contact Mother Michele\, michele@gslookout.com.
URL:https://gslookout.org/event/grief-group/2027-07-15/
LOCATION:Lupton Reading Room
CATEGORIES:Fellowship
ORGANIZER;CN="Rev. Michele Simmons":MAILTO:michele@gslookout.com
END:VEVENT
BEGIN:VEVENT
DTSTART;TZID=America/New_York:20270729T130000
DTEND;TZID=America/New_York:20270729T140000
DTSTAMP:20260421T004239
CREATED:20230105T183243Z
LAST-MODIFIED:20230105T183243Z
UID:10009603-1816866000-1816869600@gslookout.org
SUMMARY:Grief Group
DESCRIPTION:For more information on the Grief Group\, please click contact Mother Michele\, michele@gslookout.com.
URL:https://gslookout.org/event/grief-group/2027-07-29/
LOCATION:Lupton Reading Room
CATEGORIES:Fellowship
ORGANIZER;CN="Rev. Michele Simmons":MAILTO:michele@gslookout.com
END:VEVENT
BEGIN:VEVENT
DTSTART;TZID=America/New_York:20270812T130000
DTEND;TZID=America/New_York:20270812T140000
DTSTAMP:20260421T004239
CREATED:20230105T183243Z
LAST-MODIFIED:20230105T183243Z
UID:10009604-1818075600-1818079200@gslookout.org
SUMMARY:Grief Group
DESCRIPTION:For more information on the Grief Group\, please click contact Mother Michele\, michele@gslookout.com.
URL:https://gslookout.org/event/grief-group/2027-08-12/
LOCATION:Lupton Reading Room
CATEGORIES:Fellowship
ORGANIZER;CN="Rev. Michele Simmons":MAILTO:michele@gslookout.com
END:VEVENT
BEGIN:VEVENT
DTSTART;TZID=America/New_York:20270826T130000
DTEND;TZID=America/New_York:20270826T140000
DTSTAMP:20260421T004239
CREATED:20230105T183243Z
LAST-MODIFIED:20230105T183243Z
UID:10009605-1819285200-1819288800@gslookout.org
SUMMARY:Grief Group
DESCRIPTION:For more information on the Grief Group\, please click contact Mother Michele\, michele@gslookout.com.
URL:https://gslookout.org/event/grief-group/2027-08-26/
LOCATION:Lupton Reading Room
CATEGORIES:Fellowship
ORGANIZER;CN="Rev. Michele Simmons":MAILTO:michele@gslookout.com
END:VEVENT
BEGIN:VEVENT
DTSTART;TZID=America/New_York:20270909T130000
DTEND;TZID=America/New_York:20270909T140000
DTSTAMP:20260421T004240
CREATED:20230105T183243Z
LAST-MODIFIED:20230105T183243Z
UID:10009606-1820494800-1820498400@gslookout.org
SUMMARY:Grief Group
DESCRIPTION:For more information on the Grief Group\, please click contact Mother Michele\, michele@gslookout.com.
URL:https://gslookout.org/event/grief-group/2027-09-09/
LOCATION:Lupton Reading Room
CATEGORIES:Fellowship
ORGANIZER;CN="Rev. Michele Simmons":MAILTO:michele@gslookout.com
END:VEVENT
BEGIN:VEVENT
DTSTART;TZID=America/New_York:20270923T130000
DTEND;TZID=America/New_York:20270923T140000
DTSTAMP:20260421T004240
CREATED:20230105T183243Z
LAST-MODIFIED:20230105T183243Z
UID:10009607-1821704400-1821708000@gslookout.org
SUMMARY:Grief Group
DESCRIPTION:For more information on the Grief Group\, please click contact Mother Michele\, michele@gslookout.com.
URL:https://gslookout.org/event/grief-group/2027-09-23/
LOCATION:Lupton Reading Room
CATEGORIES:Fellowship
ORGANIZER;CN="Rev. Michele Simmons":MAILTO:michele@gslookout.com
END:VEVENT
BEGIN:VEVENT
DTSTART;TZID=America/New_York:20271007T130000
DTEND;TZID=America/New_York:20271007T140000
DTSTAMP:20260421T004240
CREATED:20230105T183243Z
LAST-MODIFIED:20230105T183243Z
UID:10009608-1822914000-1822917600@gslookout.org
SUMMARY:Grief Group
DESCRIPTION:For more information on the Grief Group\, please click contact Mother Michele\, michele@gslookout.com.
URL:https://gslookout.org/event/grief-group/2027-10-07/
LOCATION:Lupton Reading Room
CATEGORIES:Fellowship
ORGANIZER;CN="Rev. Michele Simmons":MAILTO:michele@gslookout.com
END:VEVENT
BEGIN:VEVENT
DTSTART;TZID=America/New_York:20271021T130000
DTEND;TZID=America/New_York:20271021T140000
DTSTAMP:20260421T004240
CREATED:20230105T183243Z
LAST-MODIFIED:20230105T183243Z
UID:10009609-1824123600-1824127200@gslookout.org
SUMMARY:Grief Group
DESCRIPTION:For more information on the Grief Group\, please click contact Mother Michele\, michele@gslookout.com.
URL:https://gslookout.org/event/grief-group/2027-10-21/
LOCATION:Lupton Reading Room
CATEGORIES:Fellowship
ORGANIZER;CN="Rev. Michele Simmons":MAILTO:michele@gslookout.com
END:VEVENT
BEGIN:VEVENT
DTSTART;TZID=America/New_York:20271104T130000
DTEND;TZID=America/New_York:20271104T140000
DTSTAMP:20260421T004240
CREATED:20230105T183243Z
LAST-MODIFIED:20230105T183243Z
UID:10009610-1825333200-1825336800@gslookout.org
SUMMARY:Grief Group
DESCRIPTION:For more information on the Grief Group\, please click contact Mother Michele\, michele@gslookout.com.
URL:https://gslookout.org/event/grief-group/2027-11-04/
LOCATION:Lupton Reading Room
CATEGORIES:Fellowship
ORGANIZER;CN="Rev. Michele Simmons":MAILTO:michele@gslookout.com
END:VEVENT
BEGIN:VEVENT
DTSTART;TZID=America/New_York:20271118T130000
DTEND;TZID=America/New_York:20271118T140000
DTSTAMP:20260421T004240
CREATED:20230105T183243Z
LAST-MODIFIED:20230105T183243Z
UID:10009611-1826542800-1826546400@gslookout.org
SUMMARY:Grief Group
DESCRIPTION:For more information on the Grief Group\, please click contact Mother Michele\, michele@gslookout.com.
URL:https://gslookout.org/event/grief-group/2027-11-18/
LOCATION:Lupton Reading Room
CATEGORIES:Fellowship
ORGANIZER;CN="Rev. Michele Simmons":MAILTO:michele@gslookout.com
END:VEVENT
BEGIN:VEVENT
DTSTART;TZID=America/New_York:20271202T130000
DTEND;TZID=America/New_York:20271202T140000
DTSTAMP:20260421T004240
CREATED:20230105T183243Z
LAST-MODIFIED:20230105T183243Z
UID:10009612-1827752400-1827756000@gslookout.org
SUMMARY:Grief Group
DESCRIPTION:For more information on the Grief Group\, please click contact Mother Michele\, michele@gslookout.com.
URL:https://gslookout.org/event/grief-group/2027-12-02/
LOCATION:Lupton Reading Room
CATEGORIES:Fellowship
ORGANIZER;CN="Rev. Michele Simmons":MAILTO:michele@gslookout.com
END:VEVENT
BEGIN:VEVENT
DTSTART;TZID=America/New_York:20271216T130000
DTEND;TZID=America/New_York:20271216T140000
DTSTAMP:20260421T004240
CREATED:20230105T183243Z
LAST-MODIFIED:20230105T183243Z
UID:10009613-1828962000-1828965600@gslookout.org
SUMMARY:Grief Group
DESCRIPTION:For more information on the Grief Group\, please click contact Mother Michele\, michele@gslookout.com.
URL:https://gslookout.org/event/grief-group/2027-12-16/
LOCATION:Lupton Reading Room
CATEGORIES:Fellowship
ORGANIZER;CN="Rev. Michele Simmons":MAILTO:michele@gslookout.com
END:VEVENT
BEGIN:VEVENT
DTSTART;TZID=America/New_York:20271230T130000
DTEND;TZID=America/New_York:20271230T140000
DTSTAMP:20260421T004240
CREATED:20230105T183243Z
LAST-MODIFIED:20230105T183243Z
UID:10009614-1830171600-1830175200@gslookout.org
SUMMARY:Grief Group
DESCRIPTION:For more information on the Grief Group\, please click contact Mother Michele\, michele@gslookout.com.
URL:https://gslookout.org/event/grief-group/2027-12-30/
LOCATION:Lupton Reading Room
CATEGORIES:Fellowship
ORGANIZER;CN="Rev. Michele Simmons":MAILTO:michele@gslookout.com
END:VEVENT
BEGIN:VEVENT
DTSTART;TZID=America/New_York:20280113T130000
DTEND;TZID=America/New_York:20280113T140000
DTSTAMP:20260421T004240
CREATED:20230105T183243Z
LAST-MODIFIED:20230105T183243Z
UID:10016481-1831381200-1831384800@gslookout.org
SUMMARY:Grief Group
DESCRIPTION:For more information on the Grief Group\, please click contact Mother Michele\, michele@gslookout.com.
URL:https://gslookout.org/event/grief-group/2028-01-13/
LOCATION:Lupton Reading Room
CATEGORIES:Fellowship
ORGANIZER;CN="Rev. Michele Simmons":MAILTO:michele@gslookout.com
END:VEVENT
BEGIN:VEVENT
DTSTART;TZID=America/New_York:20280127T130000
DTEND;TZID=America/New_York:20280127T140000
DTSTAMP:20260421T004240
CREATED:20230105T183243Z
LAST-MODIFIED:20230105T183243Z
UID:10016482-1832590800-1832594400@gslookout.org
SUMMARY:Grief Group
DESCRIPTION:For more information on the Grief Group\, please click contact Mother Michele\, michele@gslookout.com.
URL:https://gslookout.org/event/grief-group/2028-01-27/
LOCATION:Lupton Reading Room
CATEGORIES:Fellowship
ORGANIZER;CN="Rev. Michele Simmons":MAILTO:michele@gslookout.com
END:VEVENT
BEGIN:VEVENT
DTSTART;TZID=America/New_York:20280210T130000
DTEND;TZID=America/New_York:20280210T140000
DTSTAMP:20260421T004240
CREATED:20230105T183243Z
LAST-MODIFIED:20230105T183243Z
UID:10016483-1833800400-1833804000@gslookout.org
SUMMARY:Grief Group
DESCRIPTION:For more information on the Grief Group\, please click contact Mother Michele\, michele@gslookout.com.
URL:https://gslookout.org/event/grief-group/2028-02-10/
LOCATION:Lupton Reading Room
CATEGORIES:Fellowship
ORGANIZER;CN="Rev. Michele Simmons":MAILTO:michele@gslookout.com
END:VEVENT
BEGIN:VEVENT
DTSTART;TZID=America/New_York:20280224T130000
DTEND;TZID=America/New_York:20280224T140000
DTSTAMP:20260421T004240
CREATED:20230105T183243Z
LAST-MODIFIED:20230105T183243Z
UID:10016484-1835010000-1835013600@gslookout.org
SUMMARY:Grief Group
DESCRIPTION:For more information on the Grief Group\, please click contact Mother Michele\, michele@gslookout.com.
URL:https://gslookout.org/event/grief-group/2028-02-24/
LOCATION:Lupton Reading Room
CATEGORIES:Fellowship
ORGANIZER;CN="Rev. Michele Simmons":MAILTO:michele@gslookout.com
END:VEVENT
BEGIN:VEVENT
DTSTART;TZID=America/New_York:20280309T130000
DTEND;TZID=America/New_York:20280309T140000
DTSTAMP:20260421T004240
CREATED:20230105T183243Z
LAST-MODIFIED:20230105T183243Z
UID:10016485-1836219600-1836223200@gslookout.org
SUMMARY:Grief Group
DESCRIPTION:For more information on the Grief Group\, please click contact Mother Michele\, michele@gslookout.com.
URL:https://gslookout.org/event/grief-group/2028-03-09/
LOCATION:Lupton Reading Room
CATEGORIES:Fellowship
ORGANIZER;CN="Rev. Michele Simmons":MAILTO:michele@gslookout.com
END:VEVENT
BEGIN:VEVENT
DTSTART;TZID=America/New_York:20280323T130000
DTEND;TZID=America/New_York:20280323T140000
DTSTAMP:20260421T004240
CREATED:20230105T183243Z
LAST-MODIFIED:20230105T183243Z
UID:10016486-1837429200-1837432800@gslookout.org
SUMMARY:Grief Group
DESCRIPTION:For more information on the Grief Group\, please click contact Mother Michele\, michele@gslookout.com.
URL:https://gslookout.org/event/grief-group/2028-03-23/
LOCATION:Lupton Reading Room
CATEGORIES:Fellowship
ORGANIZER;CN="Rev. Michele Simmons":MAILTO:michele@gslookout.com
END:VEVENT
BEGIN:VEVENT
DTSTART;TZID=America/New_York:20280406T130000
DTEND;TZID=America/New_York:20280406T140000
DTSTAMP:20260421T004240
CREATED:20230105T183243Z
LAST-MODIFIED:20230105T183243Z
UID:10016487-1838638800-1838642400@gslookout.org
SUMMARY:Grief Group
DESCRIPTION:For more information on the Grief Group\, please click contact Mother Michele\, michele@gslookout.com.
URL:https://gslookout.org/event/grief-group/2028-04-06/
LOCATION:Lupton Reading Room
CATEGORIES:Fellowship
ORGANIZER;CN="Rev. Michele Simmons":MAILTO:michele@gslookout.com
END:VEVENT
BEGIN:VEVENT
DTSTART;TZID=America/New_York:20280420T130000
DTEND;TZID=America/New_York:20280420T140000
DTSTAMP:20260421T004240
CREATED:20230105T183243Z
LAST-MODIFIED:20230105T183243Z
UID:10016488-1839848400-1839852000@gslookout.org
SUMMARY:Grief Group
DESCRIPTION:For more information on the Grief Group\, please click contact Mother Michele\, michele@gslookout.com.
URL:https://gslookout.org/event/grief-group/2028-04-20/
LOCATION:Lupton Reading Room
CATEGORIES:Fellowship
ORGANIZER;CN="Rev. Michele Simmons":MAILTO:michele@gslookout.com
END:VEVENT
BEGIN:VEVENT
DTSTART;TZID=America/New_York:20280504T130000
DTEND;TZID=America/New_York:20280504T140000
DTSTAMP:20260421T004240
CREATED:20230105T183243Z
LAST-MODIFIED:20230105T183243Z
UID:10016489-1841058000-1841061600@gslookout.org
SUMMARY:Grief Group
DESCRIPTION:For more information on the Grief Group\, please click contact Mother Michele\, michele@gslookout.com.
URL:https://gslookout.org/event/grief-group/2028-05-04/
LOCATION:Lupton Reading Room
CATEGORIES:Fellowship
ORGANIZER;CN="Rev. Michele Simmons":MAILTO:michele@gslookout.com
END:VEVENT
BEGIN:VEVENT
DTSTART;TZID=America/New_York:20280518T130000
DTEND;TZID=America/New_York:20280518T140000
DTSTAMP:20260421T004240
CREATED:20230105T183243Z
LAST-MODIFIED:20230105T183243Z
UID:10016490-1842267600-1842271200@gslookout.org
SUMMARY:Grief Group
DESCRIPTION:For more information on the Grief Group\, please click contact Mother Michele\, michele@gslookout.com.
URL:https://gslookout.org/event/grief-group/2028-05-18/
LOCATION:Lupton Reading Room
CATEGORIES:Fellowship
ORGANIZER;CN="Rev. Michele Simmons":MAILTO:michele@gslookout.com
END:VEVENT
BEGIN:VEVENT
DTSTART;TZID=America/New_York:20280601T130000
DTEND;TZID=America/New_York:20280601T140000
DTSTAMP:20260421T004240
CREATED:20230105T183243Z
LAST-MODIFIED:20230105T183243Z
UID:10016491-1843477200-1843480800@gslookout.org
SUMMARY:Grief Group
DESCRIPTION:For more information on the Grief Group\, please click contact Mother Michele\, michele@gslookout.com.
URL:https://gslookout.org/event/grief-group/2028-06-01/
LOCATION:Lupton Reading Room
CATEGORIES:Fellowship
ORGANIZER;CN="Rev. Michele Simmons":MAILTO:michele@gslookout.com
END:VEVENT
BEGIN:VEVENT
DTSTART;TZID=America/New_York:20280615T130000
DTEND;TZID=America/New_York:20280615T140000
DTSTAMP:20260421T004240
CREATED:20230105T183243Z
LAST-MODIFIED:20230105T183243Z
UID:10016492-1844686800-1844690400@gslookout.org
SUMMARY:Grief Group
DESCRIPTION:For more information on the Grief Group\, please click contact Mother Michele\, michele@gslookout.com.
URL:https://gslookout.org/event/grief-group/2028-06-15/
LOCATION:Lupton Reading Room
CATEGORIES:Fellowship
ORGANIZER;CN="Rev. Michele Simmons":MAILTO:michele@gslookout.com
END:VEVENT
END:VCALENDAR