BEGIN:VCALENDAR
VERSION:2.0
PRODID:-//Church of the Good Shepherd - ECPv6.15.20//NONSGML v1.0//EN
CALSCALE:GREGORIAN
METHOD:PUBLISH
X-WR-CALNAME:Church of the Good Shepherd
X-ORIGINAL-URL:https://gslookout.org
X-WR-CALDESC:Events for Church of the Good Shepherd
REFRESH-INTERVAL;VALUE=DURATION:PT1H
X-Robots-Tag:noindex
X-PUBLISHED-TTL:PT1H
BEGIN:VTIMEZONE
TZID:America/New_York
BEGIN:DAYLIGHT
TZOFFSETFROM:-0500
TZOFFSETTO:-0400
TZNAME:EDT
DTSTART:20280312T070000
END:DAYLIGHT
BEGIN:STANDARD
TZOFFSETFROM:-0400
TZOFFSETTO:-0500
TZNAME:EST
DTSTART:20281105T060000
END:STANDARD
BEGIN:DAYLIGHT
TZOFFSETFROM:-0500
TZOFFSETTO:-0400
TZNAME:EDT
DTSTART:20290311T070000
END:DAYLIGHT
BEGIN:STANDARD
TZOFFSETFROM:-0400
TZOFFSETTO:-0500
TZNAME:EST
DTSTART:20291104T060000
END:STANDARD
BEGIN:DAYLIGHT
TZOFFSETFROM:-0500
TZOFFSETTO:-0400
TZNAME:EDT
DTSTART:20300310T070000
END:DAYLIGHT
BEGIN:STANDARD
TZOFFSETFROM:-0400
TZOFFSETTO:-0500
TZNAME:EST
DTSTART:20301103T060000
END:STANDARD
BEGIN:DAYLIGHT
TZOFFSETFROM:-0500
TZOFFSETTO:-0400
TZNAME:EDT
DTSTART:20310309T070000
END:DAYLIGHT
BEGIN:STANDARD
TZOFFSETFROM:-0400
TZOFFSETTO:-0500
TZNAME:EST
DTSTART:20311102T060000
END:STANDARD
END:VTIMEZONE
BEGIN:VEVENT
DTSTART;TZID=America/New_York:20290111T130000
DTEND;TZID=America/New_York:20290111T140000
DTSTAMP:20260421T173254
CREATED:20230105T183243Z
LAST-MODIFIED:20230105T183243Z
UID:10016507-1862830800-1862834400@gslookout.org
SUMMARY:Grief Group
DESCRIPTION:For more information on the Grief Group\, please click contact Mother Michele\, michele@gslookout.com.
URL:https://gslookout.org/event/grief-group/2029-01-11/
LOCATION:Lupton Reading Room
CATEGORIES:Fellowship
ORGANIZER;CN="Rev. Michele Simmons":MAILTO:michele@gslookout.com
END:VEVENT
BEGIN:VEVENT
DTSTART;TZID=America/New_York:20290125T130000
DTEND;TZID=America/New_York:20290125T140000
DTSTAMP:20260421T173254
CREATED:20230105T183243Z
LAST-MODIFIED:20230105T183243Z
UID:10016508-1864040400-1864044000@gslookout.org
SUMMARY:Grief Group
DESCRIPTION:For more information on the Grief Group\, please click contact Mother Michele\, michele@gslookout.com.
URL:https://gslookout.org/event/grief-group/2029-01-25/
LOCATION:Lupton Reading Room
CATEGORIES:Fellowship
ORGANIZER;CN="Rev. Michele Simmons":MAILTO:michele@gslookout.com
END:VEVENT
BEGIN:VEVENT
DTSTART;TZID=America/New_York:20290208T130000
DTEND;TZID=America/New_York:20290208T140000
DTSTAMP:20260421T173254
CREATED:20230105T183243Z
LAST-MODIFIED:20230105T183243Z
UID:10016509-1865250000-1865253600@gslookout.org
SUMMARY:Grief Group
DESCRIPTION:For more information on the Grief Group\, please click contact Mother Michele\, michele@gslookout.com.
URL:https://gslookout.org/event/grief-group/2029-02-08/
LOCATION:Lupton Reading Room
CATEGORIES:Fellowship
ORGANIZER;CN="Rev. Michele Simmons":MAILTO:michele@gslookout.com
END:VEVENT
BEGIN:VEVENT
DTSTART;TZID=America/New_York:20290222T130000
DTEND;TZID=America/New_York:20290222T140000
DTSTAMP:20260421T173254
CREATED:20230105T183243Z
LAST-MODIFIED:20230105T183243Z
UID:10016510-1866459600-1866463200@gslookout.org
SUMMARY:Grief Group
DESCRIPTION:For more information on the Grief Group\, please click contact Mother Michele\, michele@gslookout.com.
URL:https://gslookout.org/event/grief-group/2029-02-22/
LOCATION:Lupton Reading Room
CATEGORIES:Fellowship
ORGANIZER;CN="Rev. Michele Simmons":MAILTO:michele@gslookout.com
END:VEVENT
BEGIN:VEVENT
DTSTART;TZID=America/New_York:20290308T130000
DTEND;TZID=America/New_York:20290308T140000
DTSTAMP:20260421T173254
CREATED:20230105T183243Z
LAST-MODIFIED:20230105T183243Z
UID:10016511-1867669200-1867672800@gslookout.org
SUMMARY:Grief Group
DESCRIPTION:For more information on the Grief Group\, please click contact Mother Michele\, michele@gslookout.com.
URL:https://gslookout.org/event/grief-group/2029-03-08/
LOCATION:Lupton Reading Room
CATEGORIES:Fellowship
ORGANIZER;CN="Rev. Michele Simmons":MAILTO:michele@gslookout.com
END:VEVENT
BEGIN:VEVENT
DTSTART;TZID=America/New_York:20290322T130000
DTEND;TZID=America/New_York:20290322T140000
DTSTAMP:20260421T173254
CREATED:20230105T183243Z
LAST-MODIFIED:20230105T183243Z
UID:10016512-1868878800-1868882400@gslookout.org
SUMMARY:Grief Group
DESCRIPTION:For more information on the Grief Group\, please click contact Mother Michele\, michele@gslookout.com.
URL:https://gslookout.org/event/grief-group/2029-03-22/
LOCATION:Lupton Reading Room
CATEGORIES:Fellowship
ORGANIZER;CN="Rev. Michele Simmons":MAILTO:michele@gslookout.com
END:VEVENT
BEGIN:VEVENT
DTSTART;TZID=America/New_York:20290405T130000
DTEND;TZID=America/New_York:20290405T140000
DTSTAMP:20260421T173254
CREATED:20230105T183243Z
LAST-MODIFIED:20230105T183243Z
UID:10016513-1870088400-1870092000@gslookout.org
SUMMARY:Grief Group
DESCRIPTION:For more information on the Grief Group\, please click contact Mother Michele\, michele@gslookout.com.
URL:https://gslookout.org/event/grief-group/2029-04-05/
LOCATION:Lupton Reading Room
CATEGORIES:Fellowship
ORGANIZER;CN="Rev. Michele Simmons":MAILTO:michele@gslookout.com
END:VEVENT
BEGIN:VEVENT
DTSTART;TZID=America/New_York:20290419T130000
DTEND;TZID=America/New_York:20290419T140000
DTSTAMP:20260421T173254
CREATED:20230105T183243Z
LAST-MODIFIED:20230105T183243Z
UID:10016514-1871298000-1871301600@gslookout.org
SUMMARY:Grief Group
DESCRIPTION:For more information on the Grief Group\, please click contact Mother Michele\, michele@gslookout.com.
URL:https://gslookout.org/event/grief-group/2029-04-19/
LOCATION:Lupton Reading Room
CATEGORIES:Fellowship
ORGANIZER;CN="Rev. Michele Simmons":MAILTO:michele@gslookout.com
END:VEVENT
BEGIN:VEVENT
DTSTART;TZID=America/New_York:20290503T130000
DTEND;TZID=America/New_York:20290503T140000
DTSTAMP:20260421T173254
CREATED:20230105T183243Z
LAST-MODIFIED:20230105T183243Z
UID:10016515-1872507600-1872511200@gslookout.org
SUMMARY:Grief Group
DESCRIPTION:For more information on the Grief Group\, please click contact Mother Michele\, michele@gslookout.com.
URL:https://gslookout.org/event/grief-group/2029-05-03/
LOCATION:Lupton Reading Room
CATEGORIES:Fellowship
ORGANIZER;CN="Rev. Michele Simmons":MAILTO:michele@gslookout.com
END:VEVENT
BEGIN:VEVENT
DTSTART;TZID=America/New_York:20290517T130000
DTEND;TZID=America/New_York:20290517T140000
DTSTAMP:20260421T173254
CREATED:20230105T183243Z
LAST-MODIFIED:20230105T183243Z
UID:10016516-1873717200-1873720800@gslookout.org
SUMMARY:Grief Group
DESCRIPTION:For more information on the Grief Group\, please click contact Mother Michele\, michele@gslookout.com.
URL:https://gslookout.org/event/grief-group/2029-05-17/
LOCATION:Lupton Reading Room
CATEGORIES:Fellowship
ORGANIZER;CN="Rev. Michele Simmons":MAILTO:michele@gslookout.com
END:VEVENT
BEGIN:VEVENT
DTSTART;TZID=America/New_York:20290531T130000
DTEND;TZID=America/New_York:20290531T140000
DTSTAMP:20260421T173254
CREATED:20230105T183243Z
LAST-MODIFIED:20230105T183243Z
UID:10016517-1874926800-1874930400@gslookout.org
SUMMARY:Grief Group
DESCRIPTION:For more information on the Grief Group\, please click contact Mother Michele\, michele@gslookout.com.
URL:https://gslookout.org/event/grief-group/2029-05-31/
LOCATION:Lupton Reading Room
CATEGORIES:Fellowship
ORGANIZER;CN="Rev. Michele Simmons":MAILTO:michele@gslookout.com
END:VEVENT
BEGIN:VEVENT
DTSTART;TZID=America/New_York:20290614T130000
DTEND;TZID=America/New_York:20290614T140000
DTSTAMP:20260421T173254
CREATED:20230105T183243Z
LAST-MODIFIED:20230105T183243Z
UID:10016518-1876136400-1876140000@gslookout.org
SUMMARY:Grief Group
DESCRIPTION:For more information on the Grief Group\, please click contact Mother Michele\, michele@gslookout.com.
URL:https://gslookout.org/event/grief-group/2029-06-14/
LOCATION:Lupton Reading Room
CATEGORIES:Fellowship
ORGANIZER;CN="Rev. Michele Simmons":MAILTO:michele@gslookout.com
END:VEVENT
BEGIN:VEVENT
DTSTART;TZID=America/New_York:20290628T130000
DTEND;TZID=America/New_York:20290628T140000
DTSTAMP:20260421T173254
CREATED:20230105T183243Z
LAST-MODIFIED:20230105T183243Z
UID:10016519-1877346000-1877349600@gslookout.org
SUMMARY:Grief Group
DESCRIPTION:For more information on the Grief Group\, please click contact Mother Michele\, michele@gslookout.com.
URL:https://gslookout.org/event/grief-group/2029-06-28/
LOCATION:Lupton Reading Room
CATEGORIES:Fellowship
ORGANIZER;CN="Rev. Michele Simmons":MAILTO:michele@gslookout.com
END:VEVENT
BEGIN:VEVENT
DTSTART;TZID=America/New_York:20290712T130000
DTEND;TZID=America/New_York:20290712T140000
DTSTAMP:20260421T173254
CREATED:20230105T183243Z
LAST-MODIFIED:20230105T183243Z
UID:10016520-1878555600-1878559200@gslookout.org
SUMMARY:Grief Group
DESCRIPTION:For more information on the Grief Group\, please click contact Mother Michele\, michele@gslookout.com.
URL:https://gslookout.org/event/grief-group/2029-07-12/
LOCATION:Lupton Reading Room
CATEGORIES:Fellowship
ORGANIZER;CN="Rev. Michele Simmons":MAILTO:michele@gslookout.com
END:VEVENT
BEGIN:VEVENT
DTSTART;TZID=America/New_York:20290726T130000
DTEND;TZID=America/New_York:20290726T140000
DTSTAMP:20260421T173254
CREATED:20230105T183243Z
LAST-MODIFIED:20230105T183243Z
UID:10016521-1879765200-1879768800@gslookout.org
SUMMARY:Grief Group
DESCRIPTION:For more information on the Grief Group\, please click contact Mother Michele\, michele@gslookout.com.
URL:https://gslookout.org/event/grief-group/2029-07-26/
LOCATION:Lupton Reading Room
CATEGORIES:Fellowship
ORGANIZER;CN="Rev. Michele Simmons":MAILTO:michele@gslookout.com
END:VEVENT
BEGIN:VEVENT
DTSTART;TZID=America/New_York:20290809T130000
DTEND;TZID=America/New_York:20290809T140000
DTSTAMP:20260421T173254
CREATED:20230105T183243Z
LAST-MODIFIED:20230105T183243Z
UID:10016522-1880974800-1880978400@gslookout.org
SUMMARY:Grief Group
DESCRIPTION:For more information on the Grief Group\, please click contact Mother Michele\, michele@gslookout.com.
URL:https://gslookout.org/event/grief-group/2029-08-09/
LOCATION:Lupton Reading Room
CATEGORIES:Fellowship
ORGANIZER;CN="Rev. Michele Simmons":MAILTO:michele@gslookout.com
END:VEVENT
BEGIN:VEVENT
DTSTART;TZID=America/New_York:20290823T130000
DTEND;TZID=America/New_York:20290823T140000
DTSTAMP:20260421T173254
CREATED:20230105T183243Z
LAST-MODIFIED:20230105T183243Z
UID:10016523-1882184400-1882188000@gslookout.org
SUMMARY:Grief Group
DESCRIPTION:For more information on the Grief Group\, please click contact Mother Michele\, michele@gslookout.com.
URL:https://gslookout.org/event/grief-group/2029-08-23/
LOCATION:Lupton Reading Room
CATEGORIES:Fellowship
ORGANIZER;CN="Rev. Michele Simmons":MAILTO:michele@gslookout.com
END:VEVENT
BEGIN:VEVENT
DTSTART;TZID=America/New_York:20290906T130000
DTEND;TZID=America/New_York:20290906T140000
DTSTAMP:20260421T173254
CREATED:20230105T183243Z
LAST-MODIFIED:20230105T183243Z
UID:10016524-1883394000-1883397600@gslookout.org
SUMMARY:Grief Group
DESCRIPTION:For more information on the Grief Group\, please click contact Mother Michele\, michele@gslookout.com.
URL:https://gslookout.org/event/grief-group/2029-09-06/
LOCATION:Lupton Reading Room
CATEGORIES:Fellowship
ORGANIZER;CN="Rev. Michele Simmons":MAILTO:michele@gslookout.com
END:VEVENT
BEGIN:VEVENT
DTSTART;TZID=America/New_York:20290920T130000
DTEND;TZID=America/New_York:20290920T140000
DTSTAMP:20260421T173254
CREATED:20230105T183243Z
LAST-MODIFIED:20230105T183243Z
UID:10016525-1884603600-1884607200@gslookout.org
SUMMARY:Grief Group
DESCRIPTION:For more information on the Grief Group\, please click contact Mother Michele\, michele@gslookout.com.
URL:https://gslookout.org/event/grief-group/2029-09-20/
LOCATION:Lupton Reading Room
CATEGORIES:Fellowship
ORGANIZER;CN="Rev. Michele Simmons":MAILTO:michele@gslookout.com
END:VEVENT
BEGIN:VEVENT
DTSTART;TZID=America/New_York:20291004T130000
DTEND;TZID=America/New_York:20291004T140000
DTSTAMP:20260421T173254
CREATED:20230105T183243Z
LAST-MODIFIED:20230105T183243Z
UID:10016526-1885813200-1885816800@gslookout.org
SUMMARY:Grief Group
DESCRIPTION:For more information on the Grief Group\, please click contact Mother Michele\, michele@gslookout.com.
URL:https://gslookout.org/event/grief-group/2029-10-04/
LOCATION:Lupton Reading Room
CATEGORIES:Fellowship
ORGANIZER;CN="Rev. Michele Simmons":MAILTO:michele@gslookout.com
END:VEVENT
BEGIN:VEVENT
DTSTART;TZID=America/New_York:20291018T130000
DTEND;TZID=America/New_York:20291018T140000
DTSTAMP:20260421T173254
CREATED:20230105T183243Z
LAST-MODIFIED:20230105T183243Z
UID:10016527-1887022800-1887026400@gslookout.org
SUMMARY:Grief Group
DESCRIPTION:For more information on the Grief Group\, please click contact Mother Michele\, michele@gslookout.com.
URL:https://gslookout.org/event/grief-group/2029-10-18/
LOCATION:Lupton Reading Room
CATEGORIES:Fellowship
ORGANIZER;CN="Rev. Michele Simmons":MAILTO:michele@gslookout.com
END:VEVENT
BEGIN:VEVENT
DTSTART;TZID=America/New_York:20291101T130000
DTEND;TZID=America/New_York:20291101T140000
DTSTAMP:20260421T173254
CREATED:20230105T183243Z
LAST-MODIFIED:20230105T183243Z
UID:10016528-1888232400-1888236000@gslookout.org
SUMMARY:Grief Group
DESCRIPTION:For more information on the Grief Group\, please click contact Mother Michele\, michele@gslookout.com.
URL:https://gslookout.org/event/grief-group/2029-11-01/
LOCATION:Lupton Reading Room
CATEGORIES:Fellowship
ORGANIZER;CN="Rev. Michele Simmons":MAILTO:michele@gslookout.com
END:VEVENT
BEGIN:VEVENT
DTSTART;TZID=America/New_York:20291115T130000
DTEND;TZID=America/New_York:20291115T140000
DTSTAMP:20260421T173254
CREATED:20230105T183243Z
LAST-MODIFIED:20230105T183243Z
UID:10016529-1889442000-1889445600@gslookout.org
SUMMARY:Grief Group
DESCRIPTION:For more information on the Grief Group\, please click contact Mother Michele\, michele@gslookout.com.
URL:https://gslookout.org/event/grief-group/2029-11-15/
LOCATION:Lupton Reading Room
CATEGORIES:Fellowship
ORGANIZER;CN="Rev. Michele Simmons":MAILTO:michele@gslookout.com
END:VEVENT
BEGIN:VEVENT
DTSTART;TZID=America/New_York:20291129T130000
DTEND;TZID=America/New_York:20291129T140000
DTSTAMP:20260421T173254
CREATED:20230105T183243Z
LAST-MODIFIED:20230105T183243Z
UID:10016530-1890651600-1890655200@gslookout.org
SUMMARY:Grief Group
DESCRIPTION:For more information on the Grief Group\, please click contact Mother Michele\, michele@gslookout.com.
URL:https://gslookout.org/event/grief-group/2029-11-29/
LOCATION:Lupton Reading Room
CATEGORIES:Fellowship
ORGANIZER;CN="Rev. Michele Simmons":MAILTO:michele@gslookout.com
END:VEVENT
BEGIN:VEVENT
DTSTART;TZID=America/New_York:20291213T130000
DTEND;TZID=America/New_York:20291213T140000
DTSTAMP:20260421T173254
CREATED:20230105T183243Z
LAST-MODIFIED:20230105T183243Z
UID:10016531-1891861200-1891864800@gslookout.org
SUMMARY:Grief Group
DESCRIPTION:For more information on the Grief Group\, please click contact Mother Michele\, michele@gslookout.com.
URL:https://gslookout.org/event/grief-group/2029-12-13/
LOCATION:Lupton Reading Room
CATEGORIES:Fellowship
ORGANIZER;CN="Rev. Michele Simmons":MAILTO:michele@gslookout.com
END:VEVENT
BEGIN:VEVENT
DTSTART;TZID=America/New_York:20291227T130000
DTEND;TZID=America/New_York:20291227T140000
DTSTAMP:20260421T173254
CREATED:20230105T183243Z
LAST-MODIFIED:20230105T183243Z
UID:10016532-1893070800-1893074400@gslookout.org
SUMMARY:Grief Group
DESCRIPTION:For more information on the Grief Group\, please click contact Mother Michele\, michele@gslookout.com.
URL:https://gslookout.org/event/grief-group/2029-12-27/
LOCATION:Lupton Reading Room
CATEGORIES:Fellowship
ORGANIZER;CN="Rev. Michele Simmons":MAILTO:michele@gslookout.com
END:VEVENT
BEGIN:VEVENT
DTSTART;TZID=America/New_York:20300110T130000
DTEND;TZID=America/New_York:20300110T140000
DTSTAMP:20260421T173254
CREATED:20230105T183243Z
LAST-MODIFIED:20230105T183243Z
UID:10016533-1894280400-1894284000@gslookout.org
SUMMARY:Grief Group
DESCRIPTION:For more information on the Grief Group\, please click contact Mother Michele\, michele@gslookout.com.
URL:https://gslookout.org/event/grief-group/2030-01-10/
LOCATION:Lupton Reading Room
CATEGORIES:Fellowship
ORGANIZER;CN="Rev. Michele Simmons":MAILTO:michele@gslookout.com
END:VEVENT
BEGIN:VEVENT
DTSTART;TZID=America/New_York:20300124T130000
DTEND;TZID=America/New_York:20300124T140000
DTSTAMP:20260421T173254
CREATED:20230105T183243Z
LAST-MODIFIED:20230105T183243Z
UID:10016534-1895490000-1895493600@gslookout.org
SUMMARY:Grief Group
DESCRIPTION:For more information on the Grief Group\, please click contact Mother Michele\, michele@gslookout.com.
URL:https://gslookout.org/event/grief-group/2030-01-24/
LOCATION:Lupton Reading Room
CATEGORIES:Fellowship
ORGANIZER;CN="Rev. Michele Simmons":MAILTO:michele@gslookout.com
END:VEVENT
BEGIN:VEVENT
DTSTART;TZID=America/New_York:20300207T130000
DTEND;TZID=America/New_York:20300207T140000
DTSTAMP:20260421T173254
CREATED:20230105T183243Z
LAST-MODIFIED:20230105T183243Z
UID:10016535-1896699600-1896703200@gslookout.org
SUMMARY:Grief Group
DESCRIPTION:For more information on the Grief Group\, please click contact Mother Michele\, michele@gslookout.com.
URL:https://gslookout.org/event/grief-group/2030-02-07/
LOCATION:Lupton Reading Room
CATEGORIES:Fellowship
ORGANIZER;CN="Rev. Michele Simmons":MAILTO:michele@gslookout.com
END:VEVENT
BEGIN:VEVENT
DTSTART;TZID=America/New_York:20300221T130000
DTEND;TZID=America/New_York:20300221T140000
DTSTAMP:20260421T173254
CREATED:20230105T183243Z
LAST-MODIFIED:20230105T183243Z
UID:10016536-1897909200-1897912800@gslookout.org
SUMMARY:Grief Group
DESCRIPTION:For more information on the Grief Group\, please click contact Mother Michele\, michele@gslookout.com.
URL:https://gslookout.org/event/grief-group/2030-02-21/
LOCATION:Lupton Reading Room
CATEGORIES:Fellowship
ORGANIZER;CN="Rev. Michele Simmons":MAILTO:michele@gslookout.com
END:VEVENT
END:VCALENDAR