BEGIN:VCALENDAR
VERSION:2.0
PRODID:-//Church of the Good Shepherd - ECPv6.15.20//NONSGML v1.0//EN
CALSCALE:GREGORIAN
METHOD:PUBLISH
X-ORIGINAL-URL:https://gslookout.org
X-WR-CALDESC:Events for Church of the Good Shepherd
REFRESH-INTERVAL;VALUE=DURATION:PT1H
X-Robots-Tag:noindex
X-PUBLISHED-TTL:PT1H
BEGIN:VTIMEZONE
TZID:America/New_York
BEGIN:DAYLIGHT
TZOFFSETFROM:-0500
TZOFFSETTO:-0400
TZNAME:EDT
DTSTART:20290311T070000
END:DAYLIGHT
BEGIN:STANDARD
TZOFFSETFROM:-0400
TZOFFSETTO:-0500
TZNAME:EST
DTSTART:20291104T060000
END:STANDARD
BEGIN:DAYLIGHT
TZOFFSETFROM:-0500
TZOFFSETTO:-0400
TZNAME:EDT
DTSTART:20300310T070000
END:DAYLIGHT
BEGIN:STANDARD
TZOFFSETFROM:-0400
TZOFFSETTO:-0500
TZNAME:EST
DTSTART:20301103T060000
END:STANDARD
BEGIN:DAYLIGHT
TZOFFSETFROM:-0500
TZOFFSETTO:-0400
TZNAME:EDT
DTSTART:20310309T070000
END:DAYLIGHT
BEGIN:STANDARD
TZOFFSETFROM:-0400
TZOFFSETTO:-0500
TZNAME:EST
DTSTART:20311102T060000
END:STANDARD
BEGIN:DAYLIGHT
TZOFFSETFROM:-0500
TZOFFSETTO:-0400
TZNAME:EDT
DTSTART:20320314T070000
END:DAYLIGHT
BEGIN:STANDARD
TZOFFSETFROM:-0400
TZOFFSETTO:-0500
TZNAME:EST
DTSTART:20321107T060000
END:STANDARD
END:VTIMEZONE
BEGIN:VEVENT
DTSTART;TZID=America/New_York:20300307T130000
DTEND;TZID=America/New_York:20300307T140000
DTSTAMP:20260421T222855
CREATED:20230105T183243Z
LAST-MODIFIED:20230105T183243Z
UID:10016537-1899118800-1899122400@gslookout.org
SUMMARY:Grief Group
DESCRIPTION:For more information on the Grief Group\, please click contact Mother Michele\, michele@gslookout.com.
URL:https://gslookout.org/event/grief-group/2030-03-07/
LOCATION:Lupton Reading Room
CATEGORIES:Fellowship
ORGANIZER;CN="Rev. Michele Simmons":MAILTO:michele@gslookout.com
END:VEVENT
BEGIN:VEVENT
DTSTART;TZID=America/New_York:20300321T130000
DTEND;TZID=America/New_York:20300321T140000
DTSTAMP:20260421T222855
CREATED:20230105T183243Z
LAST-MODIFIED:20230105T183243Z
UID:10016538-1900328400-1900332000@gslookout.org
SUMMARY:Grief Group
DESCRIPTION:For more information on the Grief Group\, please click contact Mother Michele\, michele@gslookout.com.
URL:https://gslookout.org/event/grief-group/2030-03-21/
LOCATION:Lupton Reading Room
CATEGORIES:Fellowship
ORGANIZER;CN="Rev. Michele Simmons":MAILTO:michele@gslookout.com
END:VEVENT
BEGIN:VEVENT
DTSTART;TZID=America/New_York:20300404T130000
DTEND;TZID=America/New_York:20300404T140000
DTSTAMP:20260421T222855
CREATED:20230105T183243Z
LAST-MODIFIED:20230105T183243Z
UID:10016863-1901538000-1901541600@gslookout.org
SUMMARY:Grief Group
DESCRIPTION:For more information on the Grief Group\, please click contact Mother Michele\, michele@gslookout.com.
URL:https://gslookout.org/event/grief-group/2030-04-04/
LOCATION:Lupton Reading Room
CATEGORIES:Fellowship
ORGANIZER;CN="Rev. Michele Simmons":MAILTO:michele@gslookout.com
END:VEVENT
BEGIN:VEVENT
DTSTART;TZID=America/New_York:20300418T130000
DTEND;TZID=America/New_York:20300418T140000
DTSTAMP:20260421T222855
CREATED:20230105T183243Z
LAST-MODIFIED:20230105T183243Z
UID:10017653-1902747600-1902751200@gslookout.org
SUMMARY:Grief Group
DESCRIPTION:For more information on the Grief Group\, please click contact Mother Michele\, michele@gslookout.com.
URL:https://gslookout.org/event/grief-group/2030-04-18/
LOCATION:Lupton Reading Room
CATEGORIES:Fellowship
ORGANIZER;CN="Rev. Michele Simmons":MAILTO:michele@gslookout.com
END:VEVENT
BEGIN:VEVENT
DTSTART;TZID=America/New_York:20300502T130000
DTEND;TZID=America/New_York:20300502T140000
DTSTAMP:20260421T222855
CREATED:20230105T183243Z
LAST-MODIFIED:20230105T183243Z
UID:10017769-1903957200-1903960800@gslookout.org
SUMMARY:Grief Group
DESCRIPTION:For more information on the Grief Group\, please click contact Mother Michele\, michele@gslookout.com.
URL:https://gslookout.org/event/grief-group/2030-05-02/
LOCATION:Lupton Reading Room
CATEGORIES:Fellowship
ORGANIZER;CN="Rev. Michele Simmons":MAILTO:michele@gslookout.com
END:VEVENT
BEGIN:VEVENT
DTSTART;TZID=America/New_York:20300516T130000
DTEND;TZID=America/New_York:20300516T140000
DTSTAMP:20260421T222855
CREATED:20230105T183243Z
LAST-MODIFIED:20230105T183243Z
UID:10017808-1905166800-1905170400@gslookout.org
SUMMARY:Grief Group
DESCRIPTION:For more information on the Grief Group\, please click contact Mother Michele\, michele@gslookout.com.
URL:https://gslookout.org/event/grief-group/2030-05-16/
LOCATION:Lupton Reading Room
CATEGORIES:Fellowship
ORGANIZER;CN="Rev. Michele Simmons":MAILTO:michele@gslookout.com
END:VEVENT
BEGIN:VEVENT
DTSTART;TZID=America/New_York:20300530T130000
DTEND;TZID=America/New_York:20300530T140000
DTSTAMP:20260421T222855
CREATED:20230105T183243Z
LAST-MODIFIED:20230105T183243Z
UID:10017857-1906376400-1906380000@gslookout.org
SUMMARY:Grief Group
DESCRIPTION:For more information on the Grief Group\, please click contact Mother Michele\, michele@gslookout.com.
URL:https://gslookout.org/event/grief-group/2030-05-30/
LOCATION:Lupton Reading Room
CATEGORIES:Fellowship
ORGANIZER;CN="Rev. Michele Simmons":MAILTO:michele@gslookout.com
END:VEVENT
BEGIN:VEVENT
DTSTART;TZID=America/New_York:20300613T130000
DTEND;TZID=America/New_York:20300613T140000
DTSTAMP:20260421T222855
CREATED:20230105T183243Z
LAST-MODIFIED:20230105T183243Z
UID:10018896-1907586000-1907589600@gslookout.org
SUMMARY:Grief Group
DESCRIPTION:For more information on the Grief Group\, please click contact Mother Michele\, michele@gslookout.com.
URL:https://gslookout.org/event/grief-group/2030-06-13/
LOCATION:Lupton Reading Room
CATEGORIES:Fellowship
ORGANIZER;CN="Rev. Michele Simmons":MAILTO:michele@gslookout.com
END:VEVENT
BEGIN:VEVENT
DTSTART;TZID=America/New_York:20300627T130000
DTEND;TZID=America/New_York:20300627T140000
DTSTAMP:20260421T222855
CREATED:20230105T183243Z
LAST-MODIFIED:20230105T183243Z
UID:10018939-1908795600-1908799200@gslookout.org
SUMMARY:Grief Group
DESCRIPTION:For more information on the Grief Group\, please click contact Mother Michele\, michele@gslookout.com.
URL:https://gslookout.org/event/grief-group/2030-06-27/
LOCATION:Lupton Reading Room
CATEGORIES:Fellowship
ORGANIZER;CN="Rev. Michele Simmons":MAILTO:michele@gslookout.com
END:VEVENT
BEGIN:VEVENT
DTSTART;TZID=America/New_York:20300711T130000
DTEND;TZID=America/New_York:20300711T140000
DTSTAMP:20260421T222855
CREATED:20230105T183243Z
LAST-MODIFIED:20230105T183243Z
UID:10019015-1910005200-1910008800@gslookout.org
SUMMARY:Grief Group
DESCRIPTION:For more information on the Grief Group\, please click contact Mother Michele\, michele@gslookout.com.
URL:https://gslookout.org/event/grief-group/2030-07-11/
LOCATION:Lupton Reading Room
CATEGORIES:Fellowship
ORGANIZER;CN="Rev. Michele Simmons":MAILTO:michele@gslookout.com
END:VEVENT
BEGIN:VEVENT
DTSTART;TZID=America/New_York:20300725T130000
DTEND;TZID=America/New_York:20300725T140000
DTSTAMP:20260421T222855
CREATED:20230105T183243Z
LAST-MODIFIED:20230105T183243Z
UID:10019060-1911214800-1911218400@gslookout.org
SUMMARY:Grief Group
DESCRIPTION:For more information on the Grief Group\, please click contact Mother Michele\, michele@gslookout.com.
URL:https://gslookout.org/event/grief-group/2030-07-25/
LOCATION:Lupton Reading Room
CATEGORIES:Fellowship
ORGANIZER;CN="Rev. Michele Simmons":MAILTO:michele@gslookout.com
END:VEVENT
BEGIN:VEVENT
DTSTART;TZID=America/New_York:20300808T130000
DTEND;TZID=America/New_York:20300808T140000
DTSTAMP:20260421T222855
CREATED:20230105T183243Z
LAST-MODIFIED:20230105T183243Z
UID:10019127-1912424400-1912428000@gslookout.org
SUMMARY:Grief Group
DESCRIPTION:For more information on the Grief Group\, please click contact Mother Michele\, michele@gslookout.com.
URL:https://gslookout.org/event/grief-group/2030-08-08/
LOCATION:Lupton Reading Room
CATEGORIES:Fellowship
ORGANIZER;CN="Rev. Michele Simmons":MAILTO:michele@gslookout.com
END:VEVENT
BEGIN:VEVENT
DTSTART;TZID=America/New_York:20300822T130000
DTEND;TZID=America/New_York:20300822T140000
DTSTAMP:20260421T222855
CREATED:20230105T183243Z
LAST-MODIFIED:20230105T183243Z
UID:10019173-1913634000-1913637600@gslookout.org
SUMMARY:Grief Group
DESCRIPTION:For more information on the Grief Group\, please click contact Mother Michele\, michele@gslookout.com.
URL:https://gslookout.org/event/grief-group/2030-08-22/
LOCATION:Lupton Reading Room
CATEGORIES:Fellowship
ORGANIZER;CN="Rev. Michele Simmons":MAILTO:michele@gslookout.com
END:VEVENT
BEGIN:VEVENT
DTSTART;TZID=America/New_York:20300905T130000
DTEND;TZID=America/New_York:20300905T140000
DTSTAMP:20260421T222855
CREATED:20230105T183243Z
LAST-MODIFIED:20230105T183243Z
UID:10019226-1914843600-1914847200@gslookout.org
SUMMARY:Grief Group
DESCRIPTION:For more information on the Grief Group\, please click contact Mother Michele\, michele@gslookout.com.
URL:https://gslookout.org/event/grief-group/2030-09-05/
LOCATION:Lupton Reading Room
CATEGORIES:Fellowship
ORGANIZER;CN="Rev. Michele Simmons":MAILTO:michele@gslookout.com
END:VEVENT
BEGIN:VEVENT
DTSTART;TZID=America/New_York:20300919T130000
DTEND;TZID=America/New_York:20300919T140000
DTSTAMP:20260421T222855
CREATED:20230105T183243Z
LAST-MODIFIED:20230105T183243Z
UID:10019299-1916053200-1916056800@gslookout.org
SUMMARY:Grief Group
DESCRIPTION:For more information on the Grief Group\, please click contact Mother Michele\, michele@gslookout.com.
URL:https://gslookout.org/event/grief-group/2030-09-19/
LOCATION:Lupton Reading Room
CATEGORIES:Fellowship
ORGANIZER;CN="Rev. Michele Simmons":MAILTO:michele@gslookout.com
END:VEVENT
BEGIN:VEVENT
DTSTART;TZID=America/New_York:20301003T130000
DTEND;TZID=America/New_York:20301003T140000
DTSTAMP:20260421T222855
CREATED:20230105T183243Z
LAST-MODIFIED:20230105T183243Z
UID:10019344-1917262800-1917266400@gslookout.org
SUMMARY:Grief Group
DESCRIPTION:For more information on the Grief Group\, please click contact Mother Michele\, michele@gslookout.com.
URL:https://gslookout.org/event/grief-group/2030-10-03/
LOCATION:Lupton Reading Room
CATEGORIES:Fellowship
ORGANIZER;CN="Rev. Michele Simmons":MAILTO:michele@gslookout.com
END:VEVENT
BEGIN:VEVENT
DTSTART;TZID=America/New_York:20301017T130000
DTEND;TZID=America/New_York:20301017T140000
DTSTAMP:20260421T222855
CREATED:20230105T183243Z
LAST-MODIFIED:20230105T183243Z
UID:10019390-1918472400-1918476000@gslookout.org
SUMMARY:Grief Group
DESCRIPTION:For more information on the Grief Group\, please click contact Mother Michele\, michele@gslookout.com.
URL:https://gslookout.org/event/grief-group/2030-10-17/
LOCATION:Lupton Reading Room
CATEGORIES:Fellowship
ORGANIZER;CN="Rev. Michele Simmons":MAILTO:michele@gslookout.com
END:VEVENT
BEGIN:VEVENT
DTSTART;TZID=America/New_York:20301031T130000
DTEND;TZID=America/New_York:20301031T140000
DTSTAMP:20260421T222855
CREATED:20230105T183243Z
LAST-MODIFIED:20230105T183243Z
UID:10019435-1919682000-1919685600@gslookout.org
SUMMARY:Grief Group
DESCRIPTION:For more information on the Grief Group\, please click contact Mother Michele\, michele@gslookout.com.
URL:https://gslookout.org/event/grief-group/2030-10-31/
LOCATION:Lupton Reading Room
CATEGORIES:Fellowship
ORGANIZER;CN="Rev. Michele Simmons":MAILTO:michele@gslookout.com
END:VEVENT
BEGIN:VEVENT
DTSTART;TZID=America/New_York:20301114T130000
DTEND;TZID=America/New_York:20301114T140000
DTSTAMP:20260421T222855
CREATED:20230105T183243Z
LAST-MODIFIED:20230105T183243Z
UID:10019480-1920891600-1920895200@gslookout.org
SUMMARY:Grief Group
DESCRIPTION:For more information on the Grief Group\, please click contact Mother Michele\, michele@gslookout.com.
URL:https://gslookout.org/event/grief-group/2030-11-14/
LOCATION:Lupton Reading Room
CATEGORIES:Fellowship
ORGANIZER;CN="Rev. Michele Simmons":MAILTO:michele@gslookout.com
END:VEVENT
BEGIN:VEVENT
DTSTART;TZID=America/New_York:20301128T130000
DTEND;TZID=America/New_York:20301128T140000
DTSTAMP:20260421T222855
CREATED:20230105T183243Z
LAST-MODIFIED:20230105T183243Z
UID:10019533-1922101200-1922104800@gslookout.org
SUMMARY:Grief Group
DESCRIPTION:For more information on the Grief Group\, please click contact Mother Michele\, michele@gslookout.com.
URL:https://gslookout.org/event/grief-group/2030-11-28/
LOCATION:Lupton Reading Room
CATEGORIES:Fellowship
ORGANIZER;CN="Rev. Michele Simmons":MAILTO:michele@gslookout.com
END:VEVENT
BEGIN:VEVENT
DTSTART;TZID=America/New_York:20301212T130000
DTEND;TZID=America/New_York:20301212T140000
DTSTAMP:20260421T222855
CREATED:20230105T183243Z
LAST-MODIFIED:20230105T183243Z
UID:10019577-1923310800-1923314400@gslookout.org
SUMMARY:Grief Group
DESCRIPTION:For more information on the Grief Group\, please click contact Mother Michele\, michele@gslookout.com.
URL:https://gslookout.org/event/grief-group/2030-12-12/
LOCATION:Lupton Reading Room
CATEGORIES:Fellowship
ORGANIZER;CN="Rev. Michele Simmons":MAILTO:michele@gslookout.com
END:VEVENT
BEGIN:VEVENT
DTSTART;TZID=America/New_York:20301226T130000
DTEND;TZID=America/New_York:20301226T140000
DTSTAMP:20260421T222855
CREATED:20230105T183243Z
LAST-MODIFIED:20230105T183243Z
UID:10019620-1924520400-1924524000@gslookout.org
SUMMARY:Grief Group
DESCRIPTION:For more information on the Grief Group\, please click contact Mother Michele\, michele@gslookout.com.
URL:https://gslookout.org/event/grief-group/2030-12-26/
LOCATION:Lupton Reading Room
CATEGORIES:Fellowship
ORGANIZER;CN="Rev. Michele Simmons":MAILTO:michele@gslookout.com
END:VEVENT
BEGIN:VEVENT
DTSTART;TZID=America/New_York:20310109T130000
DTEND;TZID=America/New_York:20310109T140000
DTSTAMP:20260421T222855
CREATED:20230105T183243Z
LAST-MODIFIED:20230105T183243Z
UID:10019674-1925730000-1925733600@gslookout.org
SUMMARY:Grief Group
DESCRIPTION:For more information on the Grief Group\, please click contact Mother Michele\, michele@gslookout.com.
URL:https://gslookout.org/event/grief-group/2031-01-09/
LOCATION:Lupton Reading Room
CATEGORIES:Fellowship
ORGANIZER;CN="Rev. Michele Simmons":MAILTO:michele@gslookout.com
END:VEVENT
BEGIN:VEVENT
DTSTART;TZID=America/New_York:20310123T130000
DTEND;TZID=America/New_York:20310123T140000
DTSTAMP:20260421T222855
CREATED:20230105T183243Z
LAST-MODIFIED:20230105T183243Z
UID:10019717-1926939600-1926943200@gslookout.org
SUMMARY:Grief Group
DESCRIPTION:For more information on the Grief Group\, please click contact Mother Michele\, michele@gslookout.com.
URL:https://gslookout.org/event/grief-group/2031-01-23/
LOCATION:Lupton Reading Room
CATEGORIES:Fellowship
ORGANIZER;CN="Rev. Michele Simmons":MAILTO:michele@gslookout.com
END:VEVENT
BEGIN:VEVENT
DTSTART;TZID=America/New_York:20310206T130000
DTEND;TZID=America/New_York:20310206T140000
DTSTAMP:20260421T222855
CREATED:20230105T183243Z
LAST-MODIFIED:20230105T183243Z
UID:10019764-1928149200-1928152800@gslookout.org
SUMMARY:Grief Group
DESCRIPTION:For more information on the Grief Group\, please click contact Mother Michele\, michele@gslookout.com.
URL:https://gslookout.org/event/grief-group/2031-02-06/
LOCATION:Lupton Reading Room
CATEGORIES:Fellowship
ORGANIZER;CN="Rev. Michele Simmons":MAILTO:michele@gslookout.com
END:VEVENT
BEGIN:VEVENT
DTSTART;TZID=America/New_York:20310220T130000
DTEND;TZID=America/New_York:20310220T140000
DTSTAMP:20260421T222855
CREATED:20230105T183243Z
LAST-MODIFIED:20230105T183243Z
UID:10019807-1929358800-1929362400@gslookout.org
SUMMARY:Grief Group
DESCRIPTION:For more information on the Grief Group\, please click contact Mother Michele\, michele@gslookout.com.
URL:https://gslookout.org/event/grief-group/2031-02-20/
LOCATION:Lupton Reading Room
CATEGORIES:Fellowship
ORGANIZER;CN="Rev. Michele Simmons":MAILTO:michele@gslookout.com
END:VEVENT
BEGIN:VEVENT
DTSTART;TZID=America/New_York:20310306T130000
DTEND;TZID=America/New_York:20310306T140000
DTSTAMP:20260421T222855
CREATED:20230105T183243Z
LAST-MODIFIED:20230105T183243Z
UID:10019841-1930568400-1930572000@gslookout.org
SUMMARY:Grief Group
DESCRIPTION:For more information on the Grief Group\, please click contact Mother Michele\, michele@gslookout.com.
URL:https://gslookout.org/event/grief-group/2031-03-06/
LOCATION:Lupton Reading Room
CATEGORIES:Fellowship
ORGANIZER;CN="Rev. Michele Simmons":MAILTO:michele@gslookout.com
END:VEVENT
BEGIN:VEVENT
DTSTART;TZID=America/New_York:20310320T130000
DTEND;TZID=America/New_York:20310320T140000
DTSTAMP:20260421T222855
CREATED:20230105T183243Z
LAST-MODIFIED:20230105T183243Z
UID:10019884-1931778000-1931781600@gslookout.org
SUMMARY:Grief Group
DESCRIPTION:For more information on the Grief Group\, please click contact Mother Michele\, michele@gslookout.com.
URL:https://gslookout.org/event/grief-group/2031-03-20/
LOCATION:Lupton Reading Room
CATEGORIES:Fellowship
ORGANIZER;CN="Rev. Michele Simmons":MAILTO:michele@gslookout.com
END:VEVENT
BEGIN:VEVENT
DTSTART;TZID=America/New_York:20310403T130000
DTEND;TZID=America/New_York:20310403T140000
DTSTAMP:20260421T222855
CREATED:20230105T183243Z
LAST-MODIFIED:20230105T183243Z
UID:10019933-1932987600-1932991200@gslookout.org
SUMMARY:Grief Group
DESCRIPTION:For more information on the Grief Group\, please click contact Mother Michele\, michele@gslookout.com.
URL:https://gslookout.org/event/grief-group/2031-04-03/
LOCATION:Lupton Reading Room
CATEGORIES:Fellowship
ORGANIZER;CN="Rev. Michele Simmons":MAILTO:michele@gslookout.com
END:VEVENT
END:VCALENDAR