BEGIN:VCALENDAR
VERSION:2.0
PRODID:-//Church of the Good Shepherd - ECPv6.15.20//NONSGML v1.0//EN
CALSCALE:GREGORIAN
METHOD:PUBLISH
X-WR-CALNAME:Church of the Good Shepherd
X-ORIGINAL-URL:https://gslookout.org
X-WR-CALDESC:Events for Church of the Good Shepherd
REFRESH-INTERVAL;VALUE=DURATION:PT1H
X-Robots-Tag:noindex
X-PUBLISHED-TTL:PT1H
BEGIN:VTIMEZONE
TZID:America/New_York
BEGIN:DAYLIGHT
TZOFFSETFROM:-0500
TZOFFSETTO:-0400
TZNAME:EDT
DTSTART:20270314T070000
END:DAYLIGHT
BEGIN:STANDARD
TZOFFSETFROM:-0400
TZOFFSETTO:-0500
TZNAME:EST
DTSTART:20271107T060000
END:STANDARD
BEGIN:DAYLIGHT
TZOFFSETFROM:-0500
TZOFFSETTO:-0400
TZNAME:EDT
DTSTART:20280312T070000
END:DAYLIGHT
BEGIN:STANDARD
TZOFFSETFROM:-0400
TZOFFSETTO:-0500
TZNAME:EST
DTSTART:20281105T060000
END:STANDARD
BEGIN:DAYLIGHT
TZOFFSETFROM:-0500
TZOFFSETTO:-0400
TZNAME:EDT
DTSTART:20290311T070000
END:DAYLIGHT
BEGIN:STANDARD
TZOFFSETFROM:-0400
TZOFFSETTO:-0500
TZNAME:EST
DTSTART:20291104T060000
END:STANDARD
END:VTIMEZONE
BEGIN:VEVENT
DTSTART;TZID=America/New_York:20280702T091500
DTEND;TZID=America/New_York:20280702T101500
DTSTAMP:20260419T081247
CREATED:20230127T162550Z
LAST-MODIFIED:20230127T162550Z
UID:10018794-1846142100-1846145700@gslookout.org
SUMMARY:Lectionary Bible Study
DESCRIPTION:
URL:https://gslookout.org/event/lectionary-bible-study/2028-07-02/
LOCATION:Library
CATEGORIES:Formation
END:VEVENT
BEGIN:VEVENT
DTSTART;TZID=America/New_York:20280702T091500
DTEND;TZID=America/New_York:20280702T101500
DTSTAMP:20260419T081247
CREATED:20230127T163036Z
LAST-MODIFIED:20230127T163036Z
UID:10014972-1846142100-1846145700@gslookout.org
SUMMARY:Coffee & Conversations
DESCRIPTION:
URL:https://gslookout.org/event/coffee-conversations/2028-07-02/
LOCATION:Lupton Reading Room
CATEGORIES:Formation
END:VEVENT
BEGIN:VEVENT
DTSTART;TZID=America/New_York:20280702T103000
DTEND;TZID=America/New_York:20280702T233000
DTSTAMP:20260419T081247
CREATED:20230908T210148Z
LAST-MODIFIED:20230908T210149Z
UID:10014676-1846146600-1846193400@gslookout.org
SUMMARY:Youth Breakfast & Sunday School
DESCRIPTION:
URL:https://gslookout.org/event/youth-breakfast-sunday-school-2/2028-07-02/
LOCATION:Youth Building
CATEGORIES:Formation,Youth
END:VEVENT
BEGIN:VEVENT
DTSTART;TZID=America/New_York:20280704T100000
DTEND;TZID=America/New_York:20280704T103000
DTSTAMP:20260419T081247
CREATED:20221103T210703Z
LAST-MODIFIED:20230627T182417Z
UID:10015727-1846317600-1846319400@gslookout.org
SUMMARY:Intercessory Prayer Group
DESCRIPTION:
URL:https://gslookout.org/event/intercessory-prayer-group-2/2028-07-04/
LOCATION:Chapel
CATEGORIES:Formation,Worship
END:VEVENT
BEGIN:VEVENT
DTSTART;TZID=America/New_York:20280704T113000
DTEND;TZID=America/New_York:20280704T120000
DTSTAMP:20260419T081247
CREATED:20221103T210420Z
LAST-MODIFIED:20230627T182618Z
UID:10015907-1846323000-1846324800@gslookout.org
SUMMARY:Centering Prayer
DESCRIPTION:
URL:https://gslookout.org/event/centering-prayer-2/2028-07-04/
LOCATION:Lou Garcia Room
CATEGORIES:Formation
END:VEVENT
BEGIN:VEVENT
DTSTART;TZID=America/New_York:20280705T070000
DTEND;TZID=America/New_York:20280705T200000
DTSTAMP:20260419T081247
CREATED:20230127T161734Z
LAST-MODIFIED:20230127T161734Z
UID:10016211-1846393200-1846440000@gslookout.org
SUMMARY:Men's Bible Study
DESCRIPTION:
URL:https://gslookout.org/event/mens-bible-study/2028-07-05/
LOCATION:Talbird Hall
CATEGORIES:Formation
END:VEVENT
BEGIN:VEVENT
DTSTART;TZID=America/New_York:20280705T183000
DTEND;TZID=America/New_York:20280705T193000
DTSTAMP:20260419T081247
CREATED:20230127T163955Z
LAST-MODIFIED:20230127T165113Z
UID:10015028-1846434600-1846438200@gslookout.org
SUMMARY:Wednesday Night Youth
DESCRIPTION:
URL:https://gslookout.org/event/wednesday-night-youth/2028-07-05/
LOCATION:Youth Building
CATEGORIES:Formation,Youth
END:VEVENT
BEGIN:VEVENT
DTSTART;TZID=America/New_York:20280706T103000
DTEND;TZID=America/New_York:20280706T233000
DTSTAMP:20260419T081247
CREATED:20241122T224001Z
LAST-MODIFIED:20241122T224019Z
UID:10015201-1846492200-1846539000@gslookout.org
SUMMARY:Thursday Bible Study
DESCRIPTION:
URL:https://gslookout.org/event/thursday-bible-study-2/2028-07-06/
LOCATION:Talbird Hall
CATEGORIES:Formation
END:VEVENT
BEGIN:VEVENT
DTSTART;TZID=America/New_York:20280709T091500
DTEND;TZID=America/New_York:20280709T101500
DTSTAMP:20260419T081247
CREATED:20230127T162550Z
LAST-MODIFIED:20230127T162550Z
UID:10018795-1846746900-1846750500@gslookout.org
SUMMARY:Lectionary Bible Study
DESCRIPTION:
URL:https://gslookout.org/event/lectionary-bible-study/2028-07-09/
LOCATION:Library
CATEGORIES:Formation
END:VEVENT
BEGIN:VEVENT
DTSTART;TZID=America/New_York:20280709T091500
DTEND;TZID=America/New_York:20280709T101500
DTSTAMP:20260419T081247
CREATED:20230127T163036Z
LAST-MODIFIED:20230127T163036Z
UID:10014973-1846746900-1846750500@gslookout.org
SUMMARY:Coffee & Conversations
DESCRIPTION:
URL:https://gslookout.org/event/coffee-conversations/2028-07-09/
LOCATION:Lupton Reading Room
CATEGORIES:Formation
END:VEVENT
BEGIN:VEVENT
DTSTART;TZID=America/New_York:20280709T103000
DTEND;TZID=America/New_York:20280709T233000
DTSTAMP:20260419T081247
CREATED:20230908T210148Z
LAST-MODIFIED:20230908T210149Z
UID:10014677-1846751400-1846798200@gslookout.org
SUMMARY:Youth Breakfast & Sunday School
DESCRIPTION:
URL:https://gslookout.org/event/youth-breakfast-sunday-school-2/2028-07-09/
LOCATION:Youth Building
CATEGORIES:Formation,Youth
END:VEVENT
BEGIN:VEVENT
DTSTART;TZID=America/New_York:20280711T100000
DTEND;TZID=America/New_York:20280711T103000
DTSTAMP:20260419T081247
CREATED:20221103T210703Z
LAST-MODIFIED:20230627T182417Z
UID:10015728-1846922400-1846924200@gslookout.org
SUMMARY:Intercessory Prayer Group
DESCRIPTION:
URL:https://gslookout.org/event/intercessory-prayer-group-2/2028-07-11/
LOCATION:Chapel
CATEGORIES:Formation,Worship
END:VEVENT
BEGIN:VEVENT
DTSTART;TZID=America/New_York:20280711T113000
DTEND;TZID=America/New_York:20280711T120000
DTSTAMP:20260419T081247
CREATED:20221103T210420Z
LAST-MODIFIED:20230627T182618Z
UID:10015908-1846927800-1846929600@gslookout.org
SUMMARY:Centering Prayer
DESCRIPTION:
URL:https://gslookout.org/event/centering-prayer-2/2028-07-11/
LOCATION:Lou Garcia Room
CATEGORIES:Formation
END:VEVENT
BEGIN:VEVENT
DTSTART;TZID=America/New_York:20280712T070000
DTEND;TZID=America/New_York:20280712T200000
DTSTAMP:20260419T081247
CREATED:20230127T161734Z
LAST-MODIFIED:20230127T161734Z
UID:10016212-1846998000-1847044800@gslookout.org
SUMMARY:Men's Bible Study
DESCRIPTION:
URL:https://gslookout.org/event/mens-bible-study/2028-07-12/
LOCATION:Talbird Hall
CATEGORIES:Formation
END:VEVENT
BEGIN:VEVENT
DTSTART;TZID=America/New_York:20280712T183000
DTEND;TZID=America/New_York:20280712T193000
DTSTAMP:20260419T081247
CREATED:20230127T163955Z
LAST-MODIFIED:20230127T165113Z
UID:10015029-1847039400-1847043000@gslookout.org
SUMMARY:Wednesday Night Youth
DESCRIPTION:
URL:https://gslookout.org/event/wednesday-night-youth/2028-07-12/
LOCATION:Youth Building
CATEGORIES:Formation,Youth
END:VEVENT
BEGIN:VEVENT
DTSTART;TZID=America/New_York:20280713T103000
DTEND;TZID=America/New_York:20280713T233000
DTSTAMP:20260419T081247
CREATED:20241122T224001Z
LAST-MODIFIED:20241122T224019Z
UID:10015202-1847097000-1847143800@gslookout.org
SUMMARY:Thursday Bible Study
DESCRIPTION:
URL:https://gslookout.org/event/thursday-bible-study-2/2028-07-13/
LOCATION:Talbird Hall
CATEGORIES:Formation
END:VEVENT
BEGIN:VEVENT
DTSTART;TZID=America/New_York:20280716T091500
DTEND;TZID=America/New_York:20280716T101500
DTSTAMP:20260419T081247
CREATED:20230127T162550Z
LAST-MODIFIED:20230127T162550Z
UID:10018796-1847351700-1847355300@gslookout.org
SUMMARY:Lectionary Bible Study
DESCRIPTION:
URL:https://gslookout.org/event/lectionary-bible-study/2028-07-16/
LOCATION:Library
CATEGORIES:Formation
END:VEVENT
BEGIN:VEVENT
DTSTART;TZID=America/New_York:20280716T091500
DTEND;TZID=America/New_York:20280716T101500
DTSTAMP:20260419T081247
CREATED:20230127T163036Z
LAST-MODIFIED:20230127T163036Z
UID:10014974-1847351700-1847355300@gslookout.org
SUMMARY:Coffee & Conversations
DESCRIPTION:
URL:https://gslookout.org/event/coffee-conversations/2028-07-16/
LOCATION:Lupton Reading Room
CATEGORIES:Formation
END:VEVENT
BEGIN:VEVENT
DTSTART;TZID=America/New_York:20280716T103000
DTEND;TZID=America/New_York:20280716T233000
DTSTAMP:20260419T081247
CREATED:20230908T210148Z
LAST-MODIFIED:20230908T210149Z
UID:10014678-1847356200-1847403000@gslookout.org
SUMMARY:Youth Breakfast & Sunday School
DESCRIPTION:
URL:https://gslookout.org/event/youth-breakfast-sunday-school-2/2028-07-16/
LOCATION:Youth Building
CATEGORIES:Formation,Youth
END:VEVENT
BEGIN:VEVENT
DTSTART;TZID=America/New_York:20280718T100000
DTEND;TZID=America/New_York:20280718T103000
DTSTAMP:20260419T081247
CREATED:20221103T210703Z
LAST-MODIFIED:20230627T182417Z
UID:10015729-1847527200-1847529000@gslookout.org
SUMMARY:Intercessory Prayer Group
DESCRIPTION:
URL:https://gslookout.org/event/intercessory-prayer-group-2/2028-07-18/
LOCATION:Chapel
CATEGORIES:Formation,Worship
END:VEVENT
BEGIN:VEVENT
DTSTART;TZID=America/New_York:20280718T113000
DTEND;TZID=America/New_York:20280718T120000
DTSTAMP:20260419T081247
CREATED:20221103T210420Z
LAST-MODIFIED:20230627T182618Z
UID:10015909-1847532600-1847534400@gslookout.org
SUMMARY:Centering Prayer
DESCRIPTION:
URL:https://gslookout.org/event/centering-prayer-2/2028-07-18/
LOCATION:Lou Garcia Room
CATEGORIES:Formation
END:VEVENT
BEGIN:VEVENT
DTSTART;TZID=America/New_York:20280719T070000
DTEND;TZID=America/New_York:20280719T200000
DTSTAMP:20260419T081247
CREATED:20230127T161734Z
LAST-MODIFIED:20230127T161734Z
UID:10016213-1847602800-1847649600@gslookout.org
SUMMARY:Men's Bible Study
DESCRIPTION:
URL:https://gslookout.org/event/mens-bible-study/2028-07-19/
LOCATION:Talbird Hall
CATEGORIES:Formation
END:VEVENT
BEGIN:VEVENT
DTSTART;TZID=America/New_York:20280719T183000
DTEND;TZID=America/New_York:20280719T193000
DTSTAMP:20260419T081247
CREATED:20230127T163955Z
LAST-MODIFIED:20230127T165113Z
UID:10015030-1847644200-1847647800@gslookout.org
SUMMARY:Wednesday Night Youth
DESCRIPTION:
URL:https://gslookout.org/event/wednesday-night-youth/2028-07-19/
LOCATION:Youth Building
CATEGORIES:Formation,Youth
END:VEVENT
BEGIN:VEVENT
DTSTART;TZID=America/New_York:20280720T103000
DTEND;TZID=America/New_York:20280720T233000
DTSTAMP:20260419T081247
CREATED:20241122T224001Z
LAST-MODIFIED:20241122T224019Z
UID:10015203-1847701800-1847748600@gslookout.org
SUMMARY:Thursday Bible Study
DESCRIPTION:
URL:https://gslookout.org/event/thursday-bible-study-2/2028-07-20/
LOCATION:Talbird Hall
CATEGORIES:Formation
END:VEVENT
BEGIN:VEVENT
DTSTART;TZID=America/New_York:20280723T091500
DTEND;TZID=America/New_York:20280723T101500
DTSTAMP:20260419T081247
CREATED:20230127T162550Z
LAST-MODIFIED:20230127T162550Z
UID:10018797-1847956500-1847960100@gslookout.org
SUMMARY:Lectionary Bible Study
DESCRIPTION:
URL:https://gslookout.org/event/lectionary-bible-study/2028-07-23/
LOCATION:Library
CATEGORIES:Formation
END:VEVENT
BEGIN:VEVENT
DTSTART;TZID=America/New_York:20280723T091500
DTEND;TZID=America/New_York:20280723T101500
DTSTAMP:20260419T081247
CREATED:20230127T163036Z
LAST-MODIFIED:20230127T163036Z
UID:10014975-1847956500-1847960100@gslookout.org
SUMMARY:Coffee & Conversations
DESCRIPTION:
URL:https://gslookout.org/event/coffee-conversations/2028-07-23/
LOCATION:Lupton Reading Room
CATEGORIES:Formation
END:VEVENT
BEGIN:VEVENT
DTSTART;TZID=America/New_York:20280723T103000
DTEND;TZID=America/New_York:20280723T233000
DTSTAMP:20260419T081247
CREATED:20230908T210148Z
LAST-MODIFIED:20230908T210149Z
UID:10014679-1847961000-1848007800@gslookout.org
SUMMARY:Youth Breakfast & Sunday School
DESCRIPTION:
URL:https://gslookout.org/event/youth-breakfast-sunday-school-2/2028-07-23/
LOCATION:Youth Building
CATEGORIES:Formation,Youth
END:VEVENT
BEGIN:VEVENT
DTSTART;TZID=America/New_York:20280725T100000
DTEND;TZID=America/New_York:20280725T103000
DTSTAMP:20260419T081247
CREATED:20221103T210703Z
LAST-MODIFIED:20230627T182417Z
UID:10015730-1848132000-1848133800@gslookout.org
SUMMARY:Intercessory Prayer Group
DESCRIPTION:
URL:https://gslookout.org/event/intercessory-prayer-group-2/2028-07-25/
LOCATION:Chapel
CATEGORIES:Formation,Worship
END:VEVENT
BEGIN:VEVENT
DTSTART;TZID=America/New_York:20280725T113000
DTEND;TZID=America/New_York:20280725T120000
DTSTAMP:20260419T081247
CREATED:20221103T210420Z
LAST-MODIFIED:20230627T182618Z
UID:10015910-1848137400-1848139200@gslookout.org
SUMMARY:Centering Prayer
DESCRIPTION:
URL:https://gslookout.org/event/centering-prayer-2/2028-07-25/
LOCATION:Lou Garcia Room
CATEGORIES:Formation
END:VEVENT
BEGIN:VEVENT
DTSTART;TZID=America/New_York:20280726T070000
DTEND;TZID=America/New_York:20280726T200000
DTSTAMP:20260419T081247
CREATED:20230127T161734Z
LAST-MODIFIED:20230127T161734Z
UID:10016214-1848207600-1848254400@gslookout.org
SUMMARY:Men's Bible Study
DESCRIPTION:
URL:https://gslookout.org/event/mens-bible-study/2028-07-26/
LOCATION:Talbird Hall
CATEGORIES:Formation
END:VEVENT
END:VCALENDAR