BEGIN:VCALENDAR
VERSION:2.0
PRODID:-//Church of the Good Shepherd - ECPv6.15.20//NONSGML v1.0//EN
CALSCALE:GREGORIAN
METHOD:PUBLISH
X-WR-CALNAME:Church of the Good Shepherd
X-ORIGINAL-URL:https://gslookout.org
X-WR-CALDESC:Events for Church of the Good Shepherd
REFRESH-INTERVAL;VALUE=DURATION:PT1H
X-Robots-Tag:noindex
X-PUBLISHED-TTL:PT1H
BEGIN:VTIMEZONE
TZID:America/New_York
BEGIN:DAYLIGHT
TZOFFSETFROM:-0500
TZOFFSETTO:-0400
TZNAME:EDT
DTSTART:20270314T070000
END:DAYLIGHT
BEGIN:STANDARD
TZOFFSETFROM:-0400
TZOFFSETTO:-0500
TZNAME:EST
DTSTART:20271107T060000
END:STANDARD
BEGIN:DAYLIGHT
TZOFFSETFROM:-0500
TZOFFSETTO:-0400
TZNAME:EDT
DTSTART:20280312T070000
END:DAYLIGHT
BEGIN:STANDARD
TZOFFSETFROM:-0400
TZOFFSETTO:-0500
TZNAME:EST
DTSTART:20281105T060000
END:STANDARD
BEGIN:DAYLIGHT
TZOFFSETFROM:-0500
TZOFFSETTO:-0400
TZNAME:EDT
DTSTART:20290311T070000
END:DAYLIGHT
BEGIN:STANDARD
TZOFFSETFROM:-0400
TZOFFSETTO:-0500
TZNAME:EST
DTSTART:20291104T060000
END:STANDARD
END:VTIMEZONE
BEGIN:VEVENT
DTSTART;TZID=America/New_York:20280903T091500
DTEND;TZID=America/New_York:20280903T101500
DTSTAMP:20260419T112944
CREATED:20230127T162550Z
LAST-MODIFIED:20230127T162550Z
UID:10018803-1851585300-1851588900@gslookout.org
SUMMARY:Lectionary Bible Study
DESCRIPTION:
URL:https://gslookout.org/event/lectionary-bible-study/2028-09-03/
LOCATION:Library
CATEGORIES:Formation
END:VEVENT
BEGIN:VEVENT
DTSTART;TZID=America/New_York:20280903T091500
DTEND;TZID=America/New_York:20280903T101500
DTSTAMP:20260419T112944
CREATED:20230127T163036Z
LAST-MODIFIED:20230127T163036Z
UID:10014981-1851585300-1851588900@gslookout.org
SUMMARY:Coffee & Conversations
DESCRIPTION:
URL:https://gslookout.org/event/coffee-conversations/2028-09-03/
LOCATION:Lupton Reading Room
CATEGORIES:Formation
END:VEVENT
BEGIN:VEVENT
DTSTART;TZID=America/New_York:20280903T103000
DTEND;TZID=America/New_York:20280903T233000
DTSTAMP:20260419T112944
CREATED:20230908T210148Z
LAST-MODIFIED:20230908T210149Z
UID:10014685-1851589800-1851636600@gslookout.org
SUMMARY:Youth Breakfast & Sunday School
DESCRIPTION:
URL:https://gslookout.org/event/youth-breakfast-sunday-school-2/2028-09-03/
LOCATION:Youth Building
CATEGORIES:Formation,Youth
END:VEVENT
BEGIN:VEVENT
DTSTART;TZID=America/New_York:20280905T100000
DTEND;TZID=America/New_York:20280905T103000
DTSTAMP:20260419T112944
CREATED:20221103T210703Z
LAST-MODIFIED:20230627T182417Z
UID:10015736-1851760800-1851762600@gslookout.org
SUMMARY:Intercessory Prayer Group
DESCRIPTION:
URL:https://gslookout.org/event/intercessory-prayer-group-2/2028-09-05/
LOCATION:Chapel
CATEGORIES:Formation,Worship
END:VEVENT
BEGIN:VEVENT
DTSTART;TZID=America/New_York:20280905T113000
DTEND;TZID=America/New_York:20280905T120000
DTSTAMP:20260419T112944
CREATED:20221103T210420Z
LAST-MODIFIED:20230627T182618Z
UID:10015916-1851766200-1851768000@gslookout.org
SUMMARY:Centering Prayer
DESCRIPTION:
URL:https://gslookout.org/event/centering-prayer-2/2028-09-05/
LOCATION:Lou Garcia Room
CATEGORIES:Formation
END:VEVENT
BEGIN:VEVENT
DTSTART;TZID=America/New_York:20280906T070000
DTEND;TZID=America/New_York:20280906T200000
DTSTAMP:20260419T112944
CREATED:20230127T161734Z
LAST-MODIFIED:20230127T161734Z
UID:10016220-1851836400-1851883200@gslookout.org
SUMMARY:Men's Bible Study
DESCRIPTION:
URL:https://gslookout.org/event/mens-bible-study/2028-09-06/
LOCATION:Talbird Hall
CATEGORIES:Formation
END:VEVENT
BEGIN:VEVENT
DTSTART;TZID=America/New_York:20280906T183000
DTEND;TZID=America/New_York:20280906T193000
DTSTAMP:20260419T112944
CREATED:20230127T163955Z
LAST-MODIFIED:20230127T165113Z
UID:10015037-1851877800-1851881400@gslookout.org
SUMMARY:Wednesday Night Youth
DESCRIPTION:
URL:https://gslookout.org/event/wednesday-night-youth/2028-09-06/
LOCATION:Youth Building
CATEGORIES:Formation,Youth
END:VEVENT
BEGIN:VEVENT
DTSTART;TZID=America/New_York:20280907T103000
DTEND;TZID=America/New_York:20280907T233000
DTSTAMP:20260419T112944
CREATED:20241122T224001Z
LAST-MODIFIED:20241122T224019Z
UID:10015210-1851935400-1851982200@gslookout.org
SUMMARY:Thursday Bible Study
DESCRIPTION:
URL:https://gslookout.org/event/thursday-bible-study-2/2028-09-07/
LOCATION:Talbird Hall
CATEGORIES:Formation
END:VEVENT
BEGIN:VEVENT
DTSTART;TZID=America/New_York:20280910T091500
DTEND;TZID=America/New_York:20280910T101500
DTSTAMP:20260419T112944
CREATED:20230127T162550Z
LAST-MODIFIED:20230127T162550Z
UID:10018804-1852190100-1852193700@gslookout.org
SUMMARY:Lectionary Bible Study
DESCRIPTION:
URL:https://gslookout.org/event/lectionary-bible-study/2028-09-10/
LOCATION:Library
CATEGORIES:Formation
END:VEVENT
BEGIN:VEVENT
DTSTART;TZID=America/New_York:20280910T091500
DTEND;TZID=America/New_York:20280910T101500
DTSTAMP:20260419T112945
CREATED:20230127T163036Z
LAST-MODIFIED:20230127T163036Z
UID:10014982-1852190100-1852193700@gslookout.org
SUMMARY:Coffee & Conversations
DESCRIPTION:
URL:https://gslookout.org/event/coffee-conversations/2028-09-10/
LOCATION:Lupton Reading Room
CATEGORIES:Formation
END:VEVENT
BEGIN:VEVENT
DTSTART;TZID=America/New_York:20280910T103000
DTEND;TZID=America/New_York:20280910T233000
DTSTAMP:20260419T112945
CREATED:20230908T210148Z
LAST-MODIFIED:20230908T210149Z
UID:10014994-1852194600-1852241400@gslookout.org
SUMMARY:Youth Breakfast & Sunday School
DESCRIPTION:
URL:https://gslookout.org/event/youth-breakfast-sunday-school-2/2028-09-10/
LOCATION:Youth Building
CATEGORIES:Formation,Youth
END:VEVENT
BEGIN:VEVENT
DTSTART;TZID=America/New_York:20280912T100000
DTEND;TZID=America/New_York:20280912T103000
DTSTAMP:20260419T112945
CREATED:20221103T210703Z
LAST-MODIFIED:20230627T182417Z
UID:10015737-1852365600-1852367400@gslookout.org
SUMMARY:Intercessory Prayer Group
DESCRIPTION:
URL:https://gslookout.org/event/intercessory-prayer-group-2/2028-09-12/
LOCATION:Chapel
CATEGORIES:Formation,Worship
END:VEVENT
BEGIN:VEVENT
DTSTART;TZID=America/New_York:20280912T113000
DTEND;TZID=America/New_York:20280912T120000
DTSTAMP:20260419T112945
CREATED:20221103T210420Z
LAST-MODIFIED:20230627T182618Z
UID:10015917-1852371000-1852372800@gslookout.org
SUMMARY:Centering Prayer
DESCRIPTION:
URL:https://gslookout.org/event/centering-prayer-2/2028-09-12/
LOCATION:Lou Garcia Room
CATEGORIES:Formation
END:VEVENT
BEGIN:VEVENT
DTSTART;TZID=America/New_York:20280913T070000
DTEND;TZID=America/New_York:20280913T200000
DTSTAMP:20260419T112945
CREATED:20230127T161734Z
LAST-MODIFIED:20230127T161734Z
UID:10016221-1852441200-1852488000@gslookout.org
SUMMARY:Men's Bible Study
DESCRIPTION:
URL:https://gslookout.org/event/mens-bible-study/2028-09-13/
LOCATION:Talbird Hall
CATEGORIES:Formation
END:VEVENT
BEGIN:VEVENT
DTSTART;TZID=America/New_York:20280913T183000
DTEND;TZID=America/New_York:20280913T193000
DTSTAMP:20260419T112945
CREATED:20230127T163955Z
LAST-MODIFIED:20230127T165113Z
UID:10015038-1852482600-1852486200@gslookout.org
SUMMARY:Wednesday Night Youth
DESCRIPTION:
URL:https://gslookout.org/event/wednesday-night-youth/2028-09-13/
LOCATION:Youth Building
CATEGORIES:Formation,Youth
END:VEVENT
BEGIN:VEVENT
DTSTART;TZID=America/New_York:20280914T103000
DTEND;TZID=America/New_York:20280914T233000
DTSTAMP:20260419T112945
CREATED:20241122T224001Z
LAST-MODIFIED:20241122T224019Z
UID:10015211-1852540200-1852587000@gslookout.org
SUMMARY:Thursday Bible Study
DESCRIPTION:
URL:https://gslookout.org/event/thursday-bible-study-2/2028-09-14/
LOCATION:Talbird Hall
CATEGORIES:Formation
END:VEVENT
BEGIN:VEVENT
DTSTART;TZID=America/New_York:20280917T091500
DTEND;TZID=America/New_York:20280917T101500
DTSTAMP:20260419T112945
CREATED:20230127T162550Z
LAST-MODIFIED:20230127T162550Z
UID:10018805-1852794900-1852798500@gslookout.org
SUMMARY:Lectionary Bible Study
DESCRIPTION:
URL:https://gslookout.org/event/lectionary-bible-study/2028-09-17/
LOCATION:Library
CATEGORIES:Formation
END:VEVENT
BEGIN:VEVENT
DTSTART;TZID=America/New_York:20280917T091500
DTEND;TZID=America/New_York:20280917T101500
DTSTAMP:20260419T112945
CREATED:20230127T163036Z
LAST-MODIFIED:20230127T163036Z
UID:10014983-1852794900-1852798500@gslookout.org
SUMMARY:Coffee & Conversations
DESCRIPTION:
URL:https://gslookout.org/event/coffee-conversations/2028-09-17/
LOCATION:Lupton Reading Room
CATEGORIES:Formation
END:VEVENT
BEGIN:VEVENT
DTSTART;TZID=America/New_York:20280917T103000
DTEND;TZID=America/New_York:20280917T233000
DTSTAMP:20260419T112945
CREATED:20230908T210148Z
LAST-MODIFIED:20230908T210149Z
UID:10014995-1852799400-1852846200@gslookout.org
SUMMARY:Youth Breakfast & Sunday School
DESCRIPTION:
URL:https://gslookout.org/event/youth-breakfast-sunday-school-2/2028-09-17/
LOCATION:Youth Building
CATEGORIES:Formation,Youth
END:VEVENT
BEGIN:VEVENT
DTSTART;TZID=America/New_York:20280919T100000
DTEND;TZID=America/New_York:20280919T103000
DTSTAMP:20260419T112945
CREATED:20221103T210703Z
LAST-MODIFIED:20230627T182417Z
UID:10015738-1852970400-1852972200@gslookout.org
SUMMARY:Intercessory Prayer Group
DESCRIPTION:
URL:https://gslookout.org/event/intercessory-prayer-group-2/2028-09-19/
LOCATION:Chapel
CATEGORIES:Formation,Worship
END:VEVENT
BEGIN:VEVENT
DTSTART;TZID=America/New_York:20280919T113000
DTEND;TZID=America/New_York:20280919T120000
DTSTAMP:20260419T112945
CREATED:20221103T210420Z
LAST-MODIFIED:20230627T182618Z
UID:10015918-1852975800-1852977600@gslookout.org
SUMMARY:Centering Prayer
DESCRIPTION:
URL:https://gslookout.org/event/centering-prayer-2/2028-09-19/
LOCATION:Lou Garcia Room
CATEGORIES:Formation
END:VEVENT
BEGIN:VEVENT
DTSTART;TZID=America/New_York:20280920T070000
DTEND;TZID=America/New_York:20280920T200000
DTSTAMP:20260419T112945
CREATED:20230127T161734Z
LAST-MODIFIED:20230127T161734Z
UID:10016222-1853046000-1853092800@gslookout.org
SUMMARY:Men's Bible Study
DESCRIPTION:
URL:https://gslookout.org/event/mens-bible-study/2028-09-20/
LOCATION:Talbird Hall
CATEGORIES:Formation
END:VEVENT
BEGIN:VEVENT
DTSTART;TZID=America/New_York:20280920T183000
DTEND;TZID=America/New_York:20280920T193000
DTSTAMP:20260419T112945
CREATED:20230127T163955Z
LAST-MODIFIED:20230127T165113Z
UID:10015039-1853087400-1853091000@gslookout.org
SUMMARY:Wednesday Night Youth
DESCRIPTION:
URL:https://gslookout.org/event/wednesday-night-youth/2028-09-20/
LOCATION:Youth Building
CATEGORIES:Formation,Youth
END:VEVENT
BEGIN:VEVENT
DTSTART;TZID=America/New_York:20280921T103000
DTEND;TZID=America/New_York:20280921T233000
DTSTAMP:20260419T112945
CREATED:20241122T224001Z
LAST-MODIFIED:20241122T224019Z
UID:10015212-1853145000-1853191800@gslookout.org
SUMMARY:Thursday Bible Study
DESCRIPTION:
URL:https://gslookout.org/event/thursday-bible-study-2/2028-09-21/
LOCATION:Talbird Hall
CATEGORIES:Formation
END:VEVENT
BEGIN:VEVENT
DTSTART;TZID=America/New_York:20280924T091500
DTEND;TZID=America/New_York:20280924T101500
DTSTAMP:20260419T112945
CREATED:20230127T162550Z
LAST-MODIFIED:20230127T162550Z
UID:10018806-1853399700-1853403300@gslookout.org
SUMMARY:Lectionary Bible Study
DESCRIPTION:
URL:https://gslookout.org/event/lectionary-bible-study/2028-09-24/
LOCATION:Library
CATEGORIES:Formation
END:VEVENT
BEGIN:VEVENT
DTSTART;TZID=America/New_York:20280924T091500
DTEND;TZID=America/New_York:20280924T101500
DTSTAMP:20260419T112945
CREATED:20230127T163036Z
LAST-MODIFIED:20230127T163036Z
UID:10014984-1853399700-1853403300@gslookout.org
SUMMARY:Coffee & Conversations
DESCRIPTION:
URL:https://gslookout.org/event/coffee-conversations/2028-09-24/
LOCATION:Lupton Reading Room
CATEGORIES:Formation
END:VEVENT
BEGIN:VEVENT
DTSTART;TZID=America/New_York:20280924T103000
DTEND;TZID=America/New_York:20280924T233000
DTSTAMP:20260419T112945
CREATED:20230908T210148Z
LAST-MODIFIED:20230908T210149Z
UID:10014996-1853404200-1853451000@gslookout.org
SUMMARY:Youth Breakfast & Sunday School
DESCRIPTION:
URL:https://gslookout.org/event/youth-breakfast-sunday-school-2/2028-09-24/
LOCATION:Youth Building
CATEGORIES:Formation,Youth
END:VEVENT
BEGIN:VEVENT
DTSTART;TZID=America/New_York:20280926T100000
DTEND;TZID=America/New_York:20280926T103000
DTSTAMP:20260419T112945
CREATED:20221103T210703Z
LAST-MODIFIED:20230627T182417Z
UID:10015739-1853575200-1853577000@gslookout.org
SUMMARY:Intercessory Prayer Group
DESCRIPTION:
URL:https://gslookout.org/event/intercessory-prayer-group-2/2028-09-26/
LOCATION:Chapel
CATEGORIES:Formation,Worship
END:VEVENT
BEGIN:VEVENT
DTSTART;TZID=America/New_York:20280926T113000
DTEND;TZID=America/New_York:20280926T120000
DTSTAMP:20260419T112945
CREATED:20221103T210420Z
LAST-MODIFIED:20230627T182618Z
UID:10015919-1853580600-1853582400@gslookout.org
SUMMARY:Centering Prayer
DESCRIPTION:
URL:https://gslookout.org/event/centering-prayer-2/2028-09-26/
LOCATION:Lou Garcia Room
CATEGORIES:Formation
END:VEVENT
BEGIN:VEVENT
DTSTART;TZID=America/New_York:20280927T070000
DTEND;TZID=America/New_York:20280927T200000
DTSTAMP:20260419T112945
CREATED:20230127T161734Z
LAST-MODIFIED:20230127T161734Z
UID:10016223-1853650800-1853697600@gslookout.org
SUMMARY:Men's Bible Study
DESCRIPTION:
URL:https://gslookout.org/event/mens-bible-study/2028-09-27/
LOCATION:Talbird Hall
CATEGORIES:Formation
END:VEVENT
END:VCALENDAR