BEGIN:VCALENDAR
VERSION:2.0
PRODID:-//Church of the Good Shepherd - ECPv6.15.20//NONSGML v1.0//EN
CALSCALE:GREGORIAN
METHOD:PUBLISH
X-WR-CALNAME:Church of the Good Shepherd
X-ORIGINAL-URL:https://gslookout.org
X-WR-CALDESC:Events for Church of the Good Shepherd
REFRESH-INTERVAL;VALUE=DURATION:PT1H
X-Robots-Tag:noindex
X-PUBLISHED-TTL:PT1H
BEGIN:VTIMEZONE
TZID:America/New_York
BEGIN:DAYLIGHT
TZOFFSETFROM:-0500
TZOFFSETTO:-0400
TZNAME:EDT
DTSTART:20270314T070000
END:DAYLIGHT
BEGIN:STANDARD
TZOFFSETFROM:-0400
TZOFFSETTO:-0500
TZNAME:EST
DTSTART:20271107T060000
END:STANDARD
BEGIN:DAYLIGHT
TZOFFSETFROM:-0500
TZOFFSETTO:-0400
TZNAME:EDT
DTSTART:20280312T070000
END:DAYLIGHT
BEGIN:STANDARD
TZOFFSETFROM:-0400
TZOFFSETTO:-0500
TZNAME:EST
DTSTART:20281105T060000
END:STANDARD
BEGIN:DAYLIGHT
TZOFFSETFROM:-0500
TZOFFSETTO:-0400
TZNAME:EDT
DTSTART:20290311T070000
END:DAYLIGHT
BEGIN:STANDARD
TZOFFSETFROM:-0400
TZOFFSETTO:-0500
TZNAME:EST
DTSTART:20291104T060000
END:STANDARD
END:VTIMEZONE
BEGIN:VEVENT
DTSTART;TZID=America/New_York:20281001T091500
DTEND;TZID=America/New_York:20281001T101500
DTSTAMP:20260419T150346
CREATED:20230127T162550Z
LAST-MODIFIED:20230127T162550Z
UID:10018807-1854004500-1854008100@gslookout.org
SUMMARY:Lectionary Bible Study
DESCRIPTION:
URL:https://gslookout.org/event/lectionary-bible-study/2028-10-01/
LOCATION:Library
CATEGORIES:Formation
END:VEVENT
BEGIN:VEVENT
DTSTART;TZID=America/New_York:20281001T091500
DTEND;TZID=America/New_York:20281001T101500
DTSTAMP:20260419T150346
CREATED:20230127T163036Z
LAST-MODIFIED:20230127T163036Z
UID:10014985-1854004500-1854008100@gslookout.org
SUMMARY:Coffee & Conversations
DESCRIPTION:
URL:https://gslookout.org/event/coffee-conversations/2028-10-01/
LOCATION:Lupton Reading Room
CATEGORIES:Formation
END:VEVENT
BEGIN:VEVENT
DTSTART;TZID=America/New_York:20281001T103000
DTEND;TZID=America/New_York:20281001T233000
DTSTAMP:20260419T150346
CREATED:20230908T210148Z
LAST-MODIFIED:20230908T210149Z
UID:10014997-1854009000-1854055800@gslookout.org
SUMMARY:Youth Breakfast & Sunday School
DESCRIPTION:
URL:https://gslookout.org/event/youth-breakfast-sunday-school-2/2028-10-01/
LOCATION:Youth Building
CATEGORIES:Formation,Youth
END:VEVENT
BEGIN:VEVENT
DTSTART;TZID=America/New_York:20281003T100000
DTEND;TZID=America/New_York:20281003T103000
DTSTAMP:20260419T150346
CREATED:20221103T210703Z
LAST-MODIFIED:20230627T182417Z
UID:10015740-1854180000-1854181800@gslookout.org
SUMMARY:Intercessory Prayer Group
DESCRIPTION:
URL:https://gslookout.org/event/intercessory-prayer-group-2/2028-10-03/
LOCATION:Chapel
CATEGORIES:Formation,Worship
END:VEVENT
BEGIN:VEVENT
DTSTART;TZID=America/New_York:20281003T113000
DTEND;TZID=America/New_York:20281003T120000
DTSTAMP:20260419T150346
CREATED:20221103T210420Z
LAST-MODIFIED:20230627T182618Z
UID:10015920-1854185400-1854187200@gslookout.org
SUMMARY:Centering Prayer
DESCRIPTION:
URL:https://gslookout.org/event/centering-prayer-2/2028-10-03/
LOCATION:Lou Garcia Room
CATEGORIES:Formation
END:VEVENT
BEGIN:VEVENT
DTSTART;TZID=America/New_York:20281004T070000
DTEND;TZID=America/New_York:20281004T200000
DTSTAMP:20260419T150346
CREATED:20230127T161734Z
LAST-MODIFIED:20230127T161734Z
UID:10016224-1854255600-1854302400@gslookout.org
SUMMARY:Men's Bible Study
DESCRIPTION:
URL:https://gslookout.org/event/mens-bible-study/2028-10-04/
LOCATION:Talbird Hall
CATEGORIES:Formation
END:VEVENT
BEGIN:VEVENT
DTSTART;TZID=America/New_York:20281004T183000
DTEND;TZID=America/New_York:20281004T193000
DTSTAMP:20260419T150346
CREATED:20230127T163955Z
LAST-MODIFIED:20230127T165113Z
UID:10015041-1854297000-1854300600@gslookout.org
SUMMARY:Wednesday Night Youth
DESCRIPTION:
URL:https://gslookout.org/event/wednesday-night-youth/2028-10-04/
LOCATION:Youth Building
CATEGORIES:Formation,Youth
END:VEVENT
BEGIN:VEVENT
DTSTART;TZID=America/New_York:20281005T103000
DTEND;TZID=America/New_York:20281005T233000
DTSTAMP:20260419T150346
CREATED:20241122T224001Z
LAST-MODIFIED:20241122T224019Z
UID:10015214-1854354600-1854401400@gslookout.org
SUMMARY:Thursday Bible Study
DESCRIPTION:
URL:https://gslookout.org/event/thursday-bible-study-2/2028-10-05/
LOCATION:Talbird Hall
CATEGORIES:Formation
END:VEVENT
BEGIN:VEVENT
DTSTART;TZID=America/New_York:20281008T091500
DTEND;TZID=America/New_York:20281008T101500
DTSTAMP:20260419T150346
CREATED:20230127T162550Z
LAST-MODIFIED:20230127T162550Z
UID:10018808-1854609300-1854612900@gslookout.org
SUMMARY:Lectionary Bible Study
DESCRIPTION:
URL:https://gslookout.org/event/lectionary-bible-study/2028-10-08/
LOCATION:Library
CATEGORIES:Formation
END:VEVENT
BEGIN:VEVENT
DTSTART;TZID=America/New_York:20281008T091500
DTEND;TZID=America/New_York:20281008T101500
DTSTAMP:20260419T150346
CREATED:20230127T163036Z
LAST-MODIFIED:20230127T163036Z
UID:10014986-1854609300-1854612900@gslookout.org
SUMMARY:Coffee & Conversations
DESCRIPTION:
URL:https://gslookout.org/event/coffee-conversations/2028-10-08/
LOCATION:Lupton Reading Room
CATEGORIES:Formation
END:VEVENT
BEGIN:VEVENT
DTSTART;TZID=America/New_York:20281008T103000
DTEND;TZID=America/New_York:20281008T233000
DTSTAMP:20260419T150346
CREATED:20230908T210148Z
LAST-MODIFIED:20230908T210149Z
UID:10014998-1854613800-1854660600@gslookout.org
SUMMARY:Youth Breakfast & Sunday School
DESCRIPTION:
URL:https://gslookout.org/event/youth-breakfast-sunday-school-2/2028-10-08/
LOCATION:Youth Building
CATEGORIES:Formation,Youth
END:VEVENT
BEGIN:VEVENT
DTSTART;TZID=America/New_York:20281010T100000
DTEND;TZID=America/New_York:20281010T103000
DTSTAMP:20260419T150346
CREATED:20221103T210703Z
LAST-MODIFIED:20230627T182417Z
UID:10015741-1854784800-1854786600@gslookout.org
SUMMARY:Intercessory Prayer Group
DESCRIPTION:
URL:https://gslookout.org/event/intercessory-prayer-group-2/2028-10-10/
LOCATION:Chapel
CATEGORIES:Formation,Worship
END:VEVENT
BEGIN:VEVENT
DTSTART;TZID=America/New_York:20281010T113000
DTEND;TZID=America/New_York:20281010T120000
DTSTAMP:20260419T150346
CREATED:20221103T210420Z
LAST-MODIFIED:20230627T182618Z
UID:10015921-1854790200-1854792000@gslookout.org
SUMMARY:Centering Prayer
DESCRIPTION:
URL:https://gslookout.org/event/centering-prayer-2/2028-10-10/
LOCATION:Lou Garcia Room
CATEGORIES:Formation
END:VEVENT
BEGIN:VEVENT
DTSTART;TZID=America/New_York:20281011T070000
DTEND;TZID=America/New_York:20281011T200000
DTSTAMP:20260419T150346
CREATED:20230127T161734Z
LAST-MODIFIED:20230127T161734Z
UID:10016225-1854860400-1854907200@gslookout.org
SUMMARY:Men's Bible Study
DESCRIPTION:
URL:https://gslookout.org/event/mens-bible-study/2028-10-11/
LOCATION:Talbird Hall
CATEGORIES:Formation
END:VEVENT
BEGIN:VEVENT
DTSTART;TZID=America/New_York:20281011T183000
DTEND;TZID=America/New_York:20281011T193000
DTSTAMP:20260419T150346
CREATED:20230127T163955Z
LAST-MODIFIED:20230127T165113Z
UID:10015042-1854901800-1854905400@gslookout.org
SUMMARY:Wednesday Night Youth
DESCRIPTION:
URL:https://gslookout.org/event/wednesday-night-youth/2028-10-11/
LOCATION:Youth Building
CATEGORIES:Formation,Youth
END:VEVENT
BEGIN:VEVENT
DTSTART;TZID=America/New_York:20281012T103000
DTEND;TZID=America/New_York:20281012T233000
DTSTAMP:20260419T150346
CREATED:20241122T224001Z
LAST-MODIFIED:20241122T224019Z
UID:10015215-1854959400-1855006200@gslookout.org
SUMMARY:Thursday Bible Study
DESCRIPTION:
URL:https://gslookout.org/event/thursday-bible-study-2/2028-10-12/
LOCATION:Talbird Hall
CATEGORIES:Formation
END:VEVENT
BEGIN:VEVENT
DTSTART;TZID=America/New_York:20281015T091500
DTEND;TZID=America/New_York:20281015T101500
DTSTAMP:20260419T150346
CREATED:20230127T162550Z
LAST-MODIFIED:20230127T162550Z
UID:10018809-1855214100-1855217700@gslookout.org
SUMMARY:Lectionary Bible Study
DESCRIPTION:
URL:https://gslookout.org/event/lectionary-bible-study/2028-10-15/
LOCATION:Library
CATEGORIES:Formation
END:VEVENT
BEGIN:VEVENT
DTSTART;TZID=America/New_York:20281015T091500
DTEND;TZID=America/New_York:20281015T101500
DTSTAMP:20260419T150346
CREATED:20230127T163036Z
LAST-MODIFIED:20230127T163036Z
UID:10014987-1855214100-1855217700@gslookout.org
SUMMARY:Coffee & Conversations
DESCRIPTION:
URL:https://gslookout.org/event/coffee-conversations/2028-10-15/
LOCATION:Lupton Reading Room
CATEGORIES:Formation
END:VEVENT
BEGIN:VEVENT
DTSTART;TZID=America/New_York:20281015T103000
DTEND;TZID=America/New_York:20281015T233000
DTSTAMP:20260419T150346
CREATED:20230908T210148Z
LAST-MODIFIED:20230908T210149Z
UID:10014999-1855218600-1855265400@gslookout.org
SUMMARY:Youth Breakfast & Sunday School
DESCRIPTION:
URL:https://gslookout.org/event/youth-breakfast-sunday-school-2/2028-10-15/
LOCATION:Youth Building
CATEGORIES:Formation,Youth
END:VEVENT
BEGIN:VEVENT
DTSTART;TZID=America/New_York:20281017T100000
DTEND;TZID=America/New_York:20281017T103000
DTSTAMP:20260419T150346
CREATED:20221103T210703Z
LAST-MODIFIED:20230627T182417Z
UID:10015742-1855389600-1855391400@gslookout.org
SUMMARY:Intercessory Prayer Group
DESCRIPTION:
URL:https://gslookout.org/event/intercessory-prayer-group-2/2028-10-17/
LOCATION:Chapel
CATEGORIES:Formation,Worship
END:VEVENT
BEGIN:VEVENT
DTSTART;TZID=America/New_York:20281017T113000
DTEND;TZID=America/New_York:20281017T120000
DTSTAMP:20260419T150346
CREATED:20221103T210420Z
LAST-MODIFIED:20230627T182618Z
UID:10015922-1855395000-1855396800@gslookout.org
SUMMARY:Centering Prayer
DESCRIPTION:
URL:https://gslookout.org/event/centering-prayer-2/2028-10-17/
LOCATION:Lou Garcia Room
CATEGORIES:Formation
END:VEVENT
BEGIN:VEVENT
DTSTART;TZID=America/New_York:20281018T070000
DTEND;TZID=America/New_York:20281018T200000
DTSTAMP:20260419T150346
CREATED:20230127T161734Z
LAST-MODIFIED:20230127T161734Z
UID:10016226-1855465200-1855512000@gslookout.org
SUMMARY:Men's Bible Study
DESCRIPTION:
URL:https://gslookout.org/event/mens-bible-study/2028-10-18/
LOCATION:Talbird Hall
CATEGORIES:Formation
END:VEVENT
BEGIN:VEVENT
DTSTART;TZID=America/New_York:20281018T183000
DTEND;TZID=America/New_York:20281018T193000
DTSTAMP:20260419T150346
CREATED:20230127T163955Z
LAST-MODIFIED:20230127T165113Z
UID:10015043-1855506600-1855510200@gslookout.org
SUMMARY:Wednesday Night Youth
DESCRIPTION:
URL:https://gslookout.org/event/wednesday-night-youth/2028-10-18/
LOCATION:Youth Building
CATEGORIES:Formation,Youth
END:VEVENT
BEGIN:VEVENT
DTSTART;TZID=America/New_York:20281019T103000
DTEND;TZID=America/New_York:20281019T233000
DTSTAMP:20260419T150346
CREATED:20241122T224001Z
LAST-MODIFIED:20241122T224019Z
UID:10015216-1855564200-1855611000@gslookout.org
SUMMARY:Thursday Bible Study
DESCRIPTION:
URL:https://gslookout.org/event/thursday-bible-study-2/2028-10-19/
LOCATION:Talbird Hall
CATEGORIES:Formation
END:VEVENT
BEGIN:VEVENT
DTSTART;TZID=America/New_York:20281022T091500
DTEND;TZID=America/New_York:20281022T101500
DTSTAMP:20260419T150346
CREATED:20230127T162550Z
LAST-MODIFIED:20230127T162550Z
UID:10018810-1855818900-1855822500@gslookout.org
SUMMARY:Lectionary Bible Study
DESCRIPTION:
URL:https://gslookout.org/event/lectionary-bible-study/2028-10-22/
LOCATION:Library
CATEGORIES:Formation
END:VEVENT
BEGIN:VEVENT
DTSTART;TZID=America/New_York:20281022T091500
DTEND;TZID=America/New_York:20281022T101500
DTSTAMP:20260419T150346
CREATED:20230127T163036Z
LAST-MODIFIED:20230127T163036Z
UID:10014988-1855818900-1855822500@gslookout.org
SUMMARY:Coffee & Conversations
DESCRIPTION:
URL:https://gslookout.org/event/coffee-conversations/2028-10-22/
LOCATION:Lupton Reading Room
CATEGORIES:Formation
END:VEVENT
BEGIN:VEVENT
DTSTART;TZID=America/New_York:20281022T103000
DTEND;TZID=America/New_York:20281022T233000
DTSTAMP:20260419T150346
CREATED:20230908T210148Z
LAST-MODIFIED:20230908T210149Z
UID:10015000-1855823400-1855870200@gslookout.org
SUMMARY:Youth Breakfast & Sunday School
DESCRIPTION:
URL:https://gslookout.org/event/youth-breakfast-sunday-school-2/2028-10-22/
LOCATION:Youth Building
CATEGORIES:Formation,Youth
END:VEVENT
BEGIN:VEVENT
DTSTART;TZID=America/New_York:20281024T100000
DTEND;TZID=America/New_York:20281024T103000
DTSTAMP:20260419T150346
CREATED:20221103T210703Z
LAST-MODIFIED:20230627T182417Z
UID:10015743-1855994400-1855996200@gslookout.org
SUMMARY:Intercessory Prayer Group
DESCRIPTION:
URL:https://gslookout.org/event/intercessory-prayer-group-2/2028-10-24/
LOCATION:Chapel
CATEGORIES:Formation,Worship
END:VEVENT
BEGIN:VEVENT
DTSTART;TZID=America/New_York:20281024T113000
DTEND;TZID=America/New_York:20281024T120000
DTSTAMP:20260419T150346
CREATED:20221103T210420Z
LAST-MODIFIED:20230627T182618Z
UID:10015923-1855999800-1856001600@gslookout.org
SUMMARY:Centering Prayer
DESCRIPTION:
URL:https://gslookout.org/event/centering-prayer-2/2028-10-24/
LOCATION:Lou Garcia Room
CATEGORIES:Formation
END:VEVENT
BEGIN:VEVENT
DTSTART;TZID=America/New_York:20281025T070000
DTEND;TZID=America/New_York:20281025T200000
DTSTAMP:20260419T150346
CREATED:20230127T161734Z
LAST-MODIFIED:20230127T161734Z
UID:10016227-1856070000-1856116800@gslookout.org
SUMMARY:Men's Bible Study
DESCRIPTION:
URL:https://gslookout.org/event/mens-bible-study/2028-10-25/
LOCATION:Talbird Hall
CATEGORIES:Formation
END:VEVENT
END:VCALENDAR