BEGIN:VCALENDAR
VERSION:2.0
PRODID:-//Church of the Good Shepherd - ECPv6.15.20//NONSGML v1.0//EN
CALSCALE:GREGORIAN
METHOD:PUBLISH
X-WR-CALNAME:Church of the Good Shepherd
X-ORIGINAL-URL:https://gslookout.org
X-WR-CALDESC:Events for Church of the Good Shepherd
REFRESH-INTERVAL;VALUE=DURATION:PT1H
X-Robots-Tag:noindex
X-PUBLISHED-TTL:PT1H
BEGIN:VTIMEZONE
TZID:America/New_York
BEGIN:DAYLIGHT
TZOFFSETFROM:-0500
TZOFFSETTO:-0400
TZNAME:EDT
DTSTART:20280312T070000
END:DAYLIGHT
BEGIN:STANDARD
TZOFFSETFROM:-0400
TZOFFSETTO:-0500
TZNAME:EST
DTSTART:20281105T060000
END:STANDARD
BEGIN:DAYLIGHT
TZOFFSETFROM:-0500
TZOFFSETTO:-0400
TZNAME:EDT
DTSTART:20290311T070000
END:DAYLIGHT
BEGIN:STANDARD
TZOFFSETFROM:-0400
TZOFFSETTO:-0500
TZNAME:EST
DTSTART:20291104T060000
END:STANDARD
BEGIN:DAYLIGHT
TZOFFSETFROM:-0500
TZOFFSETTO:-0400
TZNAME:EDT
DTSTART:20300310T070000
END:DAYLIGHT
BEGIN:STANDARD
TZOFFSETFROM:-0400
TZOFFSETTO:-0500
TZNAME:EST
DTSTART:20301103T060000
END:STANDARD
END:VTIMEZONE
BEGIN:VEVENT
DTSTART;TZID=America/New_York:20290201T103000
DTEND;TZID=America/New_York:20290201T233000
DTSTAMP:20260419T235445
CREATED:20241122T224001Z
LAST-MODIFIED:20241122T224019Z
UID:10015231-1864636200-1864683000@gslookout.org
SUMMARY:Thursday Bible Study
DESCRIPTION:
URL:https://gslookout.org/event/thursday-bible-study-2/2029-02-01/
LOCATION:Talbird Hall
CATEGORIES:Formation
END:VEVENT
BEGIN:VEVENT
DTSTART;TZID=America/New_York:20290204T091500
DTEND;TZID=America/New_York:20290204T101500
DTSTAMP:20260419T235445
CREATED:20230127T162550Z
LAST-MODIFIED:20230127T162550Z
UID:10018825-1864890900-1864894500@gslookout.org
SUMMARY:Lectionary Bible Study
DESCRIPTION:
URL:https://gslookout.org/event/lectionary-bible-study/2029-02-04/
LOCATION:Library
CATEGORIES:Formation
END:VEVENT
BEGIN:VEVENT
DTSTART;TZID=America/New_York:20290204T091500
DTEND;TZID=America/New_York:20290204T101500
DTSTAMP:20260419T235445
CREATED:20230127T163036Z
LAST-MODIFIED:20230127T163036Z
UID:10016618-1864890900-1864894500@gslookout.org
SUMMARY:Coffee & Conversations
DESCRIPTION:
URL:https://gslookout.org/event/coffee-conversations/2029-02-04/
LOCATION:Lupton Reading Room
CATEGORIES:Formation
END:VEVENT
BEGIN:VEVENT
DTSTART;TZID=America/New_York:20290204T103000
DTEND;TZID=America/New_York:20290204T233000
DTSTAMP:20260419T235445
CREATED:20230908T210148Z
LAST-MODIFIED:20230908T210149Z
UID:10017693-1864895400-1864942200@gslookout.org
SUMMARY:Youth Breakfast & Sunday School
DESCRIPTION:
URL:https://gslookout.org/event/youth-breakfast-sunday-school-2/2029-02-04/
LOCATION:Youth Building
CATEGORIES:Formation,Youth
END:VEVENT
BEGIN:VEVENT
DTSTART;TZID=America/New_York:20290206T100000
DTEND;TZID=America/New_York:20290206T103000
DTSTAMP:20260419T235445
CREATED:20221103T210703Z
LAST-MODIFIED:20230627T182417Z
UID:10015758-1865066400-1865068200@gslookout.org
SUMMARY:Intercessory Prayer Group
DESCRIPTION:
URL:https://gslookout.org/event/intercessory-prayer-group-2/2029-02-06/
LOCATION:Chapel
CATEGORIES:Formation,Worship
END:VEVENT
BEGIN:VEVENT
DTSTART;TZID=America/New_York:20290206T113000
DTEND;TZID=America/New_York:20290206T120000
DTSTAMP:20260419T235445
CREATED:20221103T210420Z
LAST-MODIFIED:20230627T182618Z
UID:10015938-1865071800-1865073600@gslookout.org
SUMMARY:Centering Prayer
DESCRIPTION:
URL:https://gslookout.org/event/centering-prayer-2/2029-02-06/
LOCATION:Lou Garcia Room
CATEGORIES:Formation
END:VEVENT
BEGIN:VEVENT
DTSTART;TZID=America/New_York:20290207T070000
DTEND;TZID=America/New_York:20290207T200000
DTSTAMP:20260419T235445
CREATED:20230127T161734Z
LAST-MODIFIED:20230127T161734Z
UID:10016242-1865142000-1865188800@gslookout.org
SUMMARY:Men's Bible Study
DESCRIPTION:
URL:https://gslookout.org/event/mens-bible-study/2029-02-07/
LOCATION:Talbird Hall
CATEGORIES:Formation
END:VEVENT
BEGIN:VEVENT
DTSTART;TZID=America/New_York:20290207T183000
DTEND;TZID=America/New_York:20290207T193000
DTSTAMP:20260419T235445
CREATED:20230127T163955Z
LAST-MODIFIED:20230127T165113Z
UID:10015142-1865183400-1865187000@gslookout.org
SUMMARY:Wednesday Night Youth
DESCRIPTION:
URL:https://gslookout.org/event/wednesday-night-youth/2029-02-07/
LOCATION:Youth Building
CATEGORIES:Formation,Youth
END:VEVENT
BEGIN:VEVENT
DTSTART;TZID=America/New_York:20290208T103000
DTEND;TZID=America/New_York:20290208T233000
DTSTAMP:20260419T235445
CREATED:20241122T224001Z
LAST-MODIFIED:20241122T224019Z
UID:10015232-1865241000-1865287800@gslookout.org
SUMMARY:Thursday Bible Study
DESCRIPTION:
URL:https://gslookout.org/event/thursday-bible-study-2/2029-02-08/
LOCATION:Talbird Hall
CATEGORIES:Formation
END:VEVENT
BEGIN:VEVENT
DTSTART;TZID=America/New_York:20290211T091500
DTEND;TZID=America/New_York:20290211T101500
DTSTAMP:20260419T235445
CREATED:20230127T162550Z
LAST-MODIFIED:20230127T162550Z
UID:10018826-1865495700-1865499300@gslookout.org
SUMMARY:Lectionary Bible Study
DESCRIPTION:
URL:https://gslookout.org/event/lectionary-bible-study/2029-02-11/
LOCATION:Library
CATEGORIES:Formation
END:VEVENT
BEGIN:VEVENT
DTSTART;TZID=America/New_York:20290211T091500
DTEND;TZID=America/New_York:20290211T101500
DTSTAMP:20260419T235445
CREATED:20230127T163036Z
LAST-MODIFIED:20230127T163036Z
UID:10016619-1865495700-1865499300@gslookout.org
SUMMARY:Coffee & Conversations
DESCRIPTION:
URL:https://gslookout.org/event/coffee-conversations/2029-02-11/
LOCATION:Lupton Reading Room
CATEGORIES:Formation
END:VEVENT
BEGIN:VEVENT
DTSTART;TZID=America/New_York:20290211T103000
DTEND;TZID=America/New_York:20290211T233000
DTSTAMP:20260419T235445
CREATED:20230908T210148Z
LAST-MODIFIED:20230908T210149Z
UID:10017694-1865500200-1865547000@gslookout.org
SUMMARY:Youth Breakfast & Sunday School
DESCRIPTION:
URL:https://gslookout.org/event/youth-breakfast-sunday-school-2/2029-02-11/
LOCATION:Youth Building
CATEGORIES:Formation,Youth
END:VEVENT
BEGIN:VEVENT
DTSTART;TZID=America/New_York:20290213T100000
DTEND;TZID=America/New_York:20290213T103000
DTSTAMP:20260419T235445
CREATED:20221103T210703Z
LAST-MODIFIED:20230627T182417Z
UID:10015759-1865671200-1865673000@gslookout.org
SUMMARY:Intercessory Prayer Group
DESCRIPTION:
URL:https://gslookout.org/event/intercessory-prayer-group-2/2029-02-13/
LOCATION:Chapel
CATEGORIES:Formation,Worship
END:VEVENT
BEGIN:VEVENT
DTSTART;TZID=America/New_York:20290213T113000
DTEND;TZID=America/New_York:20290213T120000
DTSTAMP:20260419T235445
CREATED:20221103T210420Z
LAST-MODIFIED:20230627T182618Z
UID:10015939-1865676600-1865678400@gslookout.org
SUMMARY:Centering Prayer
DESCRIPTION:
URL:https://gslookout.org/event/centering-prayer-2/2029-02-13/
LOCATION:Lou Garcia Room
CATEGORIES:Formation
END:VEVENT
BEGIN:VEVENT
DTSTART;TZID=America/New_York:20290214T070000
DTEND;TZID=America/New_York:20290214T200000
DTSTAMP:20260419T235445
CREATED:20230127T161734Z
LAST-MODIFIED:20230127T161734Z
UID:10016243-1865746800-1865793600@gslookout.org
SUMMARY:Men's Bible Study
DESCRIPTION:
URL:https://gslookout.org/event/mens-bible-study/2029-02-14/
LOCATION:Talbird Hall
CATEGORIES:Formation
END:VEVENT
BEGIN:VEVENT
DTSTART;TZID=America/New_York:20290214T183000
DTEND;TZID=America/New_York:20290214T193000
DTSTAMP:20260419T235445
CREATED:20230127T163955Z
LAST-MODIFIED:20230127T165113Z
UID:10016778-1865788200-1865791800@gslookout.org
SUMMARY:Wednesday Night Youth
DESCRIPTION:
URL:https://gslookout.org/event/wednesday-night-youth/2029-02-14/
LOCATION:Youth Building
CATEGORIES:Formation,Youth
END:VEVENT
BEGIN:VEVENT
DTSTART;TZID=America/New_York:20290215T103000
DTEND;TZID=America/New_York:20290215T233000
DTSTAMP:20260419T235445
CREATED:20241122T224001Z
LAST-MODIFIED:20241122T224019Z
UID:10015233-1865845800-1865892600@gslookout.org
SUMMARY:Thursday Bible Study
DESCRIPTION:
URL:https://gslookout.org/event/thursday-bible-study-2/2029-02-15/
LOCATION:Talbird Hall
CATEGORIES:Formation
END:VEVENT
BEGIN:VEVENT
DTSTART;TZID=America/New_York:20290218T091500
DTEND;TZID=America/New_York:20290218T101500
DTSTAMP:20260419T235445
CREATED:20230127T162550Z
LAST-MODIFIED:20230127T162550Z
UID:10018827-1866100500-1866104100@gslookout.org
SUMMARY:Lectionary Bible Study
DESCRIPTION:
URL:https://gslookout.org/event/lectionary-bible-study/2029-02-18/
LOCATION:Library
CATEGORIES:Formation
END:VEVENT
BEGIN:VEVENT
DTSTART;TZID=America/New_York:20290218T091500
DTEND;TZID=America/New_York:20290218T101500
DTSTAMP:20260419T235445
CREATED:20230127T163036Z
LAST-MODIFIED:20230127T163036Z
UID:10016620-1866100500-1866104100@gslookout.org
SUMMARY:Coffee & Conversations
DESCRIPTION:
URL:https://gslookout.org/event/coffee-conversations/2029-02-18/
LOCATION:Lupton Reading Room
CATEGORIES:Formation
END:VEVENT
BEGIN:VEVENT
DTSTART;TZID=America/New_York:20290218T103000
DTEND;TZID=America/New_York:20290218T233000
DTSTAMP:20260419T235445
CREATED:20230908T210148Z
LAST-MODIFIED:20230908T210149Z
UID:10017695-1866105000-1866151800@gslookout.org
SUMMARY:Youth Breakfast & Sunday School
DESCRIPTION:
URL:https://gslookout.org/event/youth-breakfast-sunday-school-2/2029-02-18/
LOCATION:Youth Building
CATEGORIES:Formation,Youth
END:VEVENT
BEGIN:VEVENT
DTSTART;TZID=America/New_York:20290220T100000
DTEND;TZID=America/New_York:20290220T103000
DTSTAMP:20260419T235445
CREATED:20221103T210703Z
LAST-MODIFIED:20230627T182417Z
UID:10015760-1866276000-1866277800@gslookout.org
SUMMARY:Intercessory Prayer Group
DESCRIPTION:
URL:https://gslookout.org/event/intercessory-prayer-group-2/2029-02-20/
LOCATION:Chapel
CATEGORIES:Formation,Worship
END:VEVENT
BEGIN:VEVENT
DTSTART;TZID=America/New_York:20290220T113000
DTEND;TZID=America/New_York:20290220T120000
DTSTAMP:20260419T235445
CREATED:20221103T210420Z
LAST-MODIFIED:20230627T182618Z
UID:10015940-1866281400-1866283200@gslookout.org
SUMMARY:Centering Prayer
DESCRIPTION:
URL:https://gslookout.org/event/centering-prayer-2/2029-02-20/
LOCATION:Lou Garcia Room
CATEGORIES:Formation
END:VEVENT
BEGIN:VEVENT
DTSTART;TZID=America/New_York:20290221T070000
DTEND;TZID=America/New_York:20290221T200000
DTSTAMP:20260419T235445
CREATED:20230127T161734Z
LAST-MODIFIED:20230127T161734Z
UID:10016244-1866351600-1866398400@gslookout.org
SUMMARY:Men's Bible Study
DESCRIPTION:
URL:https://gslookout.org/event/mens-bible-study/2029-02-21/
LOCATION:Talbird Hall
CATEGORIES:Formation
END:VEVENT
BEGIN:VEVENT
DTSTART;TZID=America/New_York:20290221T183000
DTEND;TZID=America/New_York:20290221T193000
DTSTAMP:20260419T235445
CREATED:20230127T163955Z
LAST-MODIFIED:20230127T165113Z
UID:10016779-1866393000-1866396600@gslookout.org
SUMMARY:Wednesday Night Youth
DESCRIPTION:
URL:https://gslookout.org/event/wednesday-night-youth/2029-02-21/
LOCATION:Youth Building
CATEGORIES:Formation,Youth
END:VEVENT
BEGIN:VEVENT
DTSTART;TZID=America/New_York:20290222T103000
DTEND;TZID=America/New_York:20290222T233000
DTSTAMP:20260419T235445
CREATED:20241122T224001Z
LAST-MODIFIED:20241122T224019Z
UID:10015234-1866450600-1866497400@gslookout.org
SUMMARY:Thursday Bible Study
DESCRIPTION:
URL:https://gslookout.org/event/thursday-bible-study-2/2029-02-22/
LOCATION:Talbird Hall
CATEGORIES:Formation
END:VEVENT
BEGIN:VEVENT
DTSTART;TZID=America/New_York:20290225T091500
DTEND;TZID=America/New_York:20290225T101500
DTSTAMP:20260419T235445
CREATED:20230127T162550Z
LAST-MODIFIED:20230127T162550Z
UID:10018828-1866705300-1866708900@gslookout.org
SUMMARY:Lectionary Bible Study
DESCRIPTION:
URL:https://gslookout.org/event/lectionary-bible-study/2029-02-25/
LOCATION:Library
CATEGORIES:Formation
END:VEVENT
BEGIN:VEVENT
DTSTART;TZID=America/New_York:20290225T091500
DTEND;TZID=America/New_York:20290225T101500
DTSTAMP:20260419T235445
CREATED:20230127T163036Z
LAST-MODIFIED:20230127T163036Z
UID:10016621-1866705300-1866708900@gslookout.org
SUMMARY:Coffee & Conversations
DESCRIPTION:
URL:https://gslookout.org/event/coffee-conversations/2029-02-25/
LOCATION:Lupton Reading Room
CATEGORIES:Formation
END:VEVENT
BEGIN:VEVENT
DTSTART;TZID=America/New_York:20290225T103000
DTEND;TZID=America/New_York:20290225T233000
DTSTAMP:20260419T235445
CREATED:20230908T210148Z
LAST-MODIFIED:20230908T210149Z
UID:10017696-1866709800-1866756600@gslookout.org
SUMMARY:Youth Breakfast & Sunday School
DESCRIPTION:
URL:https://gslookout.org/event/youth-breakfast-sunday-school-2/2029-02-25/
LOCATION:Youth Building
CATEGORIES:Formation,Youth
END:VEVENT
BEGIN:VEVENT
DTSTART;TZID=America/New_York:20290227T100000
DTEND;TZID=America/New_York:20290227T103000
DTSTAMP:20260419T235445
CREATED:20221103T210703Z
LAST-MODIFIED:20230627T182417Z
UID:10015761-1866880800-1866882600@gslookout.org
SUMMARY:Intercessory Prayer Group
DESCRIPTION:
URL:https://gslookout.org/event/intercessory-prayer-group-2/2029-02-27/
LOCATION:Chapel
CATEGORIES:Formation,Worship
END:VEVENT
BEGIN:VEVENT
DTSTART;TZID=America/New_York:20290227T113000
DTEND;TZID=America/New_York:20290227T120000
DTSTAMP:20260419T235445
CREATED:20221103T210420Z
LAST-MODIFIED:20230627T182618Z
UID:10015941-1866886200-1866888000@gslookout.org
SUMMARY:Centering Prayer
DESCRIPTION:
URL:https://gslookout.org/event/centering-prayer-2/2029-02-27/
LOCATION:Lou Garcia Room
CATEGORIES:Formation
END:VEVENT
END:VCALENDAR