BEGIN:VCALENDAR
VERSION:2.0
PRODID:-//Church of the Good Shepherd - ECPv6.15.20//NONSGML v1.0//EN
CALSCALE:GREGORIAN
METHOD:PUBLISH
X-WR-CALNAME:Church of the Good Shepherd
X-ORIGINAL-URL:https://gslookout.org
X-WR-CALDESC:Events for Church of the Good Shepherd
REFRESH-INTERVAL;VALUE=DURATION:PT1H
X-Robots-Tag:noindex
X-PUBLISHED-TTL:PT1H
BEGIN:VTIMEZONE
TZID:America/New_York
BEGIN:DAYLIGHT
TZOFFSETFROM:-0500
TZOFFSETTO:-0400
TZNAME:EDT
DTSTART:20280312T070000
END:DAYLIGHT
BEGIN:STANDARD
TZOFFSETFROM:-0400
TZOFFSETTO:-0500
TZNAME:EST
DTSTART:20281105T060000
END:STANDARD
BEGIN:DAYLIGHT
TZOFFSETFROM:-0500
TZOFFSETTO:-0400
TZNAME:EDT
DTSTART:20290311T070000
END:DAYLIGHT
BEGIN:STANDARD
TZOFFSETFROM:-0400
TZOFFSETTO:-0500
TZNAME:EST
DTSTART:20291104T060000
END:STANDARD
BEGIN:DAYLIGHT
TZOFFSETFROM:-0500
TZOFFSETTO:-0400
TZNAME:EDT
DTSTART:20300310T070000
END:DAYLIGHT
BEGIN:STANDARD
TZOFFSETFROM:-0400
TZOFFSETTO:-0500
TZNAME:EST
DTSTART:20301103T060000
END:STANDARD
END:VTIMEZONE
BEGIN:VEVENT
DTSTART;TZID=America/New_York:20290301T103000
DTEND;TZID=America/New_York:20290301T233000
DTSTAMP:20260420T034232
CREATED:20241122T224001Z
LAST-MODIFIED:20241122T224019Z
UID:10015235-1867055400-1867102200@gslookout.org
SUMMARY:Thursday Bible Study
DESCRIPTION:
URL:https://gslookout.org/event/thursday-bible-study-2/2029-03-01/
LOCATION:Talbird Hall
CATEGORIES:Formation
END:VEVENT
BEGIN:VEVENT
DTSTART;TZID=America/New_York:20290304T091500
DTEND;TZID=America/New_York:20290304T101500
DTSTAMP:20260420T034232
CREATED:20230127T162550Z
LAST-MODIFIED:20230127T162550Z
UID:10018829-1867310100-1867313700@gslookout.org
SUMMARY:Lectionary Bible Study
DESCRIPTION:
URL:https://gslookout.org/event/lectionary-bible-study/2029-03-04/
LOCATION:Library
CATEGORIES:Formation
END:VEVENT
BEGIN:VEVENT
DTSTART;TZID=America/New_York:20290304T091500
DTEND;TZID=America/New_York:20290304T101500
DTSTAMP:20260420T034232
CREATED:20230127T163036Z
LAST-MODIFIED:20230127T163036Z
UID:10016622-1867310100-1867313700@gslookout.org
SUMMARY:Coffee & Conversations
DESCRIPTION:
URL:https://gslookout.org/event/coffee-conversations/2029-03-04/
LOCATION:Lupton Reading Room
CATEGORIES:Formation
END:VEVENT
BEGIN:VEVENT
DTSTART;TZID=America/New_York:20290304T103000
DTEND;TZID=America/New_York:20290304T233000
DTSTAMP:20260420T034232
CREATED:20230908T210148Z
LAST-MODIFIED:20230908T210149Z
UID:10017697-1867314600-1867361400@gslookout.org
SUMMARY:Youth Breakfast & Sunday School
DESCRIPTION:
URL:https://gslookout.org/event/youth-breakfast-sunday-school-2/2029-03-04/
LOCATION:Youth Building
CATEGORIES:Formation,Youth
END:VEVENT
BEGIN:VEVENT
DTSTART;TZID=America/New_York:20290306T100000
DTEND;TZID=America/New_York:20290306T103000
DTSTAMP:20260420T034232
CREATED:20221103T210703Z
LAST-MODIFIED:20230627T182417Z
UID:10015762-1867485600-1867487400@gslookout.org
SUMMARY:Intercessory Prayer Group
DESCRIPTION:
URL:https://gslookout.org/event/intercessory-prayer-group-2/2029-03-06/
LOCATION:Chapel
CATEGORIES:Formation,Worship
END:VEVENT
BEGIN:VEVENT
DTSTART;TZID=America/New_York:20290306T113000
DTEND;TZID=America/New_York:20290306T120000
DTSTAMP:20260420T034232
CREATED:20221103T210420Z
LAST-MODIFIED:20230627T182618Z
UID:10015942-1867491000-1867492800@gslookout.org
SUMMARY:Centering Prayer
DESCRIPTION:
URL:https://gslookout.org/event/centering-prayer-2/2029-03-06/
LOCATION:Lou Garcia Room
CATEGORIES:Formation
END:VEVENT
BEGIN:VEVENT
DTSTART;TZID=America/New_York:20290307T070000
DTEND;TZID=America/New_York:20290307T200000
DTSTAMP:20260420T034232
CREATED:20230127T161734Z
LAST-MODIFIED:20230127T161734Z
UID:10016246-1867561200-1867608000@gslookout.org
SUMMARY:Men's Bible Study
DESCRIPTION:
URL:https://gslookout.org/event/mens-bible-study/2029-03-07/
LOCATION:Talbird Hall
CATEGORIES:Formation
END:VEVENT
BEGIN:VEVENT
DTSTART;TZID=America/New_York:20290307T183000
DTEND;TZID=America/New_York:20290307T193000
DTSTAMP:20260420T034232
CREATED:20230127T163955Z
LAST-MODIFIED:20230127T165113Z
UID:10016781-1867602600-1867606200@gslookout.org
SUMMARY:Wednesday Night Youth
DESCRIPTION:
URL:https://gslookout.org/event/wednesday-night-youth/2029-03-07/
LOCATION:Youth Building
CATEGORIES:Formation,Youth
END:VEVENT
BEGIN:VEVENT
DTSTART;TZID=America/New_York:20290308T103000
DTEND;TZID=America/New_York:20290308T233000
DTSTAMP:20260420T034232
CREATED:20241122T224001Z
LAST-MODIFIED:20241122T224019Z
UID:10015236-1867660200-1867707000@gslookout.org
SUMMARY:Thursday Bible Study
DESCRIPTION:
URL:https://gslookout.org/event/thursday-bible-study-2/2029-03-08/
LOCATION:Talbird Hall
CATEGORIES:Formation
END:VEVENT
BEGIN:VEVENT
DTSTART;TZID=America/New_York:20290311T091500
DTEND;TZID=America/New_York:20290311T101500
DTSTAMP:20260420T034232
CREATED:20230127T162550Z
LAST-MODIFIED:20230127T162550Z
UID:10018830-1867914900-1867918500@gslookout.org
SUMMARY:Lectionary Bible Study
DESCRIPTION:
URL:https://gslookout.org/event/lectionary-bible-study/2029-03-11/
LOCATION:Library
CATEGORIES:Formation
END:VEVENT
BEGIN:VEVENT
DTSTART;TZID=America/New_York:20290311T091500
DTEND;TZID=America/New_York:20290311T101500
DTSTAMP:20260420T034232
CREATED:20230127T163036Z
LAST-MODIFIED:20230127T163036Z
UID:10016623-1867914900-1867918500@gslookout.org
SUMMARY:Coffee & Conversations
DESCRIPTION:
URL:https://gslookout.org/event/coffee-conversations/2029-03-11/
LOCATION:Lupton Reading Room
CATEGORIES:Formation
END:VEVENT
BEGIN:VEVENT
DTSTART;TZID=America/New_York:20290311T103000
DTEND;TZID=America/New_York:20290311T233000
DTSTAMP:20260420T034232
CREATED:20230908T210148Z
LAST-MODIFIED:20230908T210149Z
UID:10017698-1867919400-1867966200@gslookout.org
SUMMARY:Youth Breakfast & Sunday School
DESCRIPTION:
URL:https://gslookout.org/event/youth-breakfast-sunday-school-2/2029-03-11/
LOCATION:Youth Building
CATEGORIES:Formation,Youth
END:VEVENT
BEGIN:VEVENT
DTSTART;TZID=America/New_York:20290313T100000
DTEND;TZID=America/New_York:20290313T103000
DTSTAMP:20260420T034232
CREATED:20221103T210703Z
LAST-MODIFIED:20230627T182417Z
UID:10015763-1868090400-1868092200@gslookout.org
SUMMARY:Intercessory Prayer Group
DESCRIPTION:
URL:https://gslookout.org/event/intercessory-prayer-group-2/2029-03-13/
LOCATION:Chapel
CATEGORIES:Formation,Worship
END:VEVENT
BEGIN:VEVENT
DTSTART;TZID=America/New_York:20290313T113000
DTEND;TZID=America/New_York:20290313T120000
DTSTAMP:20260420T034232
CREATED:20221103T210420Z
LAST-MODIFIED:20230627T182618Z
UID:10015943-1868095800-1868097600@gslookout.org
SUMMARY:Centering Prayer
DESCRIPTION:
URL:https://gslookout.org/event/centering-prayer-2/2029-03-13/
LOCATION:Lou Garcia Room
CATEGORIES:Formation
END:VEVENT
BEGIN:VEVENT
DTSTART;TZID=America/New_York:20290314T070000
DTEND;TZID=America/New_York:20290314T200000
DTSTAMP:20260420T034232
CREATED:20230127T161734Z
LAST-MODIFIED:20230127T161734Z
UID:10016247-1868166000-1868212800@gslookout.org
SUMMARY:Men's Bible Study
DESCRIPTION:
URL:https://gslookout.org/event/mens-bible-study/2029-03-14/
LOCATION:Talbird Hall
CATEGORIES:Formation
END:VEVENT
BEGIN:VEVENT
DTSTART;TZID=America/New_York:20290314T183000
DTEND;TZID=America/New_York:20290314T193000
DTSTAMP:20260420T034232
CREATED:20230127T163955Z
LAST-MODIFIED:20230127T165113Z
UID:10016782-1868207400-1868211000@gslookout.org
SUMMARY:Wednesday Night Youth
DESCRIPTION:
URL:https://gslookout.org/event/wednesday-night-youth/2029-03-14/
LOCATION:Youth Building
CATEGORIES:Formation,Youth
END:VEVENT
BEGIN:VEVENT
DTSTART;TZID=America/New_York:20290315T103000
DTEND;TZID=America/New_York:20290315T233000
DTSTAMP:20260420T034232
CREATED:20241122T224001Z
LAST-MODIFIED:20241122T224019Z
UID:10015237-1868265000-1868311800@gslookout.org
SUMMARY:Thursday Bible Study
DESCRIPTION:
URL:https://gslookout.org/event/thursday-bible-study-2/2029-03-15/
LOCATION:Talbird Hall
CATEGORIES:Formation
END:VEVENT
BEGIN:VEVENT
DTSTART;TZID=America/New_York:20290318T091500
DTEND;TZID=America/New_York:20290318T101500
DTSTAMP:20260420T034232
CREATED:20230127T162550Z
LAST-MODIFIED:20230127T162550Z
UID:10018831-1868519700-1868523300@gslookout.org
SUMMARY:Lectionary Bible Study
DESCRIPTION:
URL:https://gslookout.org/event/lectionary-bible-study/2029-03-18/
LOCATION:Library
CATEGORIES:Formation
END:VEVENT
BEGIN:VEVENT
DTSTART;TZID=America/New_York:20290318T091500
DTEND;TZID=America/New_York:20290318T101500
DTSTAMP:20260420T034232
CREATED:20230127T163036Z
LAST-MODIFIED:20230127T163036Z
UID:10016624-1868519700-1868523300@gslookout.org
SUMMARY:Coffee & Conversations
DESCRIPTION:
URL:https://gslookout.org/event/coffee-conversations/2029-03-18/
LOCATION:Lupton Reading Room
CATEGORIES:Formation
END:VEVENT
BEGIN:VEVENT
DTSTART;TZID=America/New_York:20290318T103000
DTEND;TZID=America/New_York:20290318T233000
DTSTAMP:20260420T034232
CREATED:20230908T210148Z
LAST-MODIFIED:20230908T210149Z
UID:10017699-1868524200-1868571000@gslookout.org
SUMMARY:Youth Breakfast & Sunday School
DESCRIPTION:
URL:https://gslookout.org/event/youth-breakfast-sunday-school-2/2029-03-18/
LOCATION:Youth Building
CATEGORIES:Formation,Youth
END:VEVENT
BEGIN:VEVENT
DTSTART;TZID=America/New_York:20290320T100000
DTEND;TZID=America/New_York:20290320T103000
DTSTAMP:20260420T034232
CREATED:20221103T210703Z
LAST-MODIFIED:20230627T182417Z
UID:10015764-1868695200-1868697000@gslookout.org
SUMMARY:Intercessory Prayer Group
DESCRIPTION:
URL:https://gslookout.org/event/intercessory-prayer-group-2/2029-03-20/
LOCATION:Chapel
CATEGORIES:Formation,Worship
END:VEVENT
BEGIN:VEVENT
DTSTART;TZID=America/New_York:20290320T113000
DTEND;TZID=America/New_York:20290320T120000
DTSTAMP:20260420T034232
CREATED:20221103T210420Z
LAST-MODIFIED:20230627T182618Z
UID:10015944-1868700600-1868702400@gslookout.org
SUMMARY:Centering Prayer
DESCRIPTION:
URL:https://gslookout.org/event/centering-prayer-2/2029-03-20/
LOCATION:Lou Garcia Room
CATEGORIES:Formation
END:VEVENT
BEGIN:VEVENT
DTSTART;TZID=America/New_York:20290321T070000
DTEND;TZID=America/New_York:20290321T200000
DTSTAMP:20260420T034232
CREATED:20230127T161734Z
LAST-MODIFIED:20230127T161734Z
UID:10016248-1868770800-1868817600@gslookout.org
SUMMARY:Men's Bible Study
DESCRIPTION:
URL:https://gslookout.org/event/mens-bible-study/2029-03-21/
LOCATION:Talbird Hall
CATEGORIES:Formation
END:VEVENT
BEGIN:VEVENT
DTSTART;TZID=America/New_York:20290321T183000
DTEND;TZID=America/New_York:20290321T193000
DTSTAMP:20260420T034232
CREATED:20230127T163955Z
LAST-MODIFIED:20230127T165113Z
UID:10016783-1868812200-1868815800@gslookout.org
SUMMARY:Wednesday Night Youth
DESCRIPTION:
URL:https://gslookout.org/event/wednesday-night-youth/2029-03-21/
LOCATION:Youth Building
CATEGORIES:Formation,Youth
END:VEVENT
BEGIN:VEVENT
DTSTART;TZID=America/New_York:20290322T103000
DTEND;TZID=America/New_York:20290322T233000
DTSTAMP:20260420T034232
CREATED:20241122T224001Z
LAST-MODIFIED:20241122T224019Z
UID:10015238-1868869800-1868916600@gslookout.org
SUMMARY:Thursday Bible Study
DESCRIPTION:
URL:https://gslookout.org/event/thursday-bible-study-2/2029-03-22/
LOCATION:Talbird Hall
CATEGORIES:Formation
END:VEVENT
BEGIN:VEVENT
DTSTART;TZID=America/New_York:20290325T091500
DTEND;TZID=America/New_York:20290325T101500
DTSTAMP:20260420T034232
CREATED:20230127T162550Z
LAST-MODIFIED:20230127T162550Z
UID:10018832-1869124500-1869128100@gslookout.org
SUMMARY:Lectionary Bible Study
DESCRIPTION:
URL:https://gslookout.org/event/lectionary-bible-study/2029-03-25/
LOCATION:Library
CATEGORIES:Formation
END:VEVENT
BEGIN:VEVENT
DTSTART;TZID=America/New_York:20290325T091500
DTEND;TZID=America/New_York:20290325T101500
DTSTAMP:20260420T034233
CREATED:20230127T163036Z
LAST-MODIFIED:20230127T163036Z
UID:10016625-1869124500-1869128100@gslookout.org
SUMMARY:Coffee & Conversations
DESCRIPTION:
URL:https://gslookout.org/event/coffee-conversations/2029-03-25/
LOCATION:Lupton Reading Room
CATEGORIES:Formation
END:VEVENT
BEGIN:VEVENT
DTSTART;TZID=America/New_York:20290325T103000
DTEND;TZID=America/New_York:20290325T233000
DTSTAMP:20260420T034233
CREATED:20230908T210148Z
LAST-MODIFIED:20230908T210149Z
UID:10017700-1869129000-1869175800@gslookout.org
SUMMARY:Youth Breakfast & Sunday School
DESCRIPTION:
URL:https://gslookout.org/event/youth-breakfast-sunday-school-2/2029-03-25/
LOCATION:Youth Building
CATEGORIES:Formation,Youth
END:VEVENT
BEGIN:VEVENT
DTSTART;TZID=America/New_York:20290327T100000
DTEND;TZID=America/New_York:20290327T103000
DTSTAMP:20260420T034233
CREATED:20221103T210703Z
LAST-MODIFIED:20230627T182417Z
UID:10015765-1869300000-1869301800@gslookout.org
SUMMARY:Intercessory Prayer Group
DESCRIPTION:
URL:https://gslookout.org/event/intercessory-prayer-group-2/2029-03-27/
LOCATION:Chapel
CATEGORIES:Formation,Worship
END:VEVENT
BEGIN:VEVENT
DTSTART;TZID=America/New_York:20290327T113000
DTEND;TZID=America/New_York:20290327T120000
DTSTAMP:20260420T034233
CREATED:20221103T210420Z
LAST-MODIFIED:20230627T182618Z
UID:10015945-1869305400-1869307200@gslookout.org
SUMMARY:Centering Prayer
DESCRIPTION:
URL:https://gslookout.org/event/centering-prayer-2/2029-03-27/
LOCATION:Lou Garcia Room
CATEGORIES:Formation
END:VEVENT
END:VCALENDAR