BEGIN:VCALENDAR
VERSION:2.0
PRODID:-//Church of the Good Shepherd - ECPv6.15.20//NONSGML v1.0//EN
CALSCALE:GREGORIAN
METHOD:PUBLISH
X-WR-CALNAME:Church of the Good Shepherd
X-ORIGINAL-URL:https://gslookout.org
X-WR-CALDESC:Events for Church of the Good Shepherd
REFRESH-INTERVAL;VALUE=DURATION:PT1H
X-Robots-Tag:noindex
X-PUBLISHED-TTL:PT1H
BEGIN:VTIMEZONE
TZID:America/New_York
BEGIN:DAYLIGHT
TZOFFSETFROM:-0500
TZOFFSETTO:-0400
TZNAME:EDT
DTSTART:20280312T070000
END:DAYLIGHT
BEGIN:STANDARD
TZOFFSETFROM:-0400
TZOFFSETTO:-0500
TZNAME:EST
DTSTART:20281105T060000
END:STANDARD
BEGIN:DAYLIGHT
TZOFFSETFROM:-0500
TZOFFSETTO:-0400
TZNAME:EDT
DTSTART:20290311T070000
END:DAYLIGHT
BEGIN:STANDARD
TZOFFSETFROM:-0400
TZOFFSETTO:-0500
TZNAME:EST
DTSTART:20291104T060000
END:STANDARD
BEGIN:DAYLIGHT
TZOFFSETFROM:-0500
TZOFFSETTO:-0400
TZNAME:EDT
DTSTART:20300310T070000
END:DAYLIGHT
BEGIN:STANDARD
TZOFFSETFROM:-0400
TZOFFSETTO:-0500
TZNAME:EST
DTSTART:20301103T060000
END:STANDARD
END:VTIMEZONE
BEGIN:VEVENT
DTSTART;TZID=America/New_York:20290401T091500
DTEND;TZID=America/New_York:20290401T101500
DTSTAMP:20260420T074147
CREATED:20230127T162550Z
LAST-MODIFIED:20230127T162550Z
UID:10018833-1869729300-1869732900@gslookout.org
SUMMARY:Lectionary Bible Study
DESCRIPTION:
URL:https://gslookout.org/event/lectionary-bible-study/2029-04-01/
LOCATION:Library
CATEGORIES:Formation
END:VEVENT
BEGIN:VEVENT
DTSTART;TZID=America/New_York:20290401T091500
DTEND;TZID=America/New_York:20290401T101500
DTSTAMP:20260420T074147
CREATED:20230127T163036Z
LAST-MODIFIED:20230127T163036Z
UID:10016626-1869729300-1869732900@gslookout.org
SUMMARY:Coffee & Conversations
DESCRIPTION:
URL:https://gslookout.org/event/coffee-conversations/2029-04-01/
LOCATION:Lupton Reading Room
CATEGORIES:Formation
END:VEVENT
BEGIN:VEVENT
DTSTART;TZID=America/New_York:20290401T103000
DTEND;TZID=America/New_York:20290401T233000
DTSTAMP:20260420T074147
CREATED:20230908T210148Z
LAST-MODIFIED:20230908T210149Z
UID:10017701-1869733800-1869780600@gslookout.org
SUMMARY:Youth Breakfast & Sunday School
DESCRIPTION:
URL:https://gslookout.org/event/youth-breakfast-sunday-school-2/2029-04-01/
LOCATION:Youth Building
CATEGORIES:Formation,Youth
END:VEVENT
BEGIN:VEVENT
DTSTART;TZID=America/New_York:20290403T100000
DTEND;TZID=America/New_York:20290403T103000
DTSTAMP:20260420T074147
CREATED:20221103T210703Z
LAST-MODIFIED:20230627T182417Z
UID:10015766-1869904800-1869906600@gslookout.org
SUMMARY:Intercessory Prayer Group
DESCRIPTION:
URL:https://gslookout.org/event/intercessory-prayer-group-2/2029-04-03/
LOCATION:Chapel
CATEGORIES:Formation,Worship
END:VEVENT
BEGIN:VEVENT
DTSTART;TZID=America/New_York:20290403T113000
DTEND;TZID=America/New_York:20290403T120000
DTSTAMP:20260420T074147
CREATED:20221103T210420Z
LAST-MODIFIED:20230627T182618Z
UID:10015946-1869910200-1869912000@gslookout.org
SUMMARY:Centering Prayer
DESCRIPTION:
URL:https://gslookout.org/event/centering-prayer-2/2029-04-03/
LOCATION:Lou Garcia Room
CATEGORIES:Formation
END:VEVENT
BEGIN:VEVENT
DTSTART;TZID=America/New_York:20290404T070000
DTEND;TZID=America/New_York:20290404T200000
DTSTAMP:20260420T074147
CREATED:20230127T161734Z
LAST-MODIFIED:20230127T161734Z
UID:10016250-1869980400-1870027200@gslookout.org
SUMMARY:Men's Bible Study
DESCRIPTION:
URL:https://gslookout.org/event/mens-bible-study/2029-04-04/
LOCATION:Talbird Hall
CATEGORIES:Formation
END:VEVENT
BEGIN:VEVENT
DTSTART;TZID=America/New_York:20290404T183000
DTEND;TZID=America/New_York:20290404T193000
DTSTAMP:20260420T074147
CREATED:20230127T163955Z
LAST-MODIFIED:20230127T165113Z
UID:10016785-1870021800-1870025400@gslookout.org
SUMMARY:Wednesday Night Youth
DESCRIPTION:
URL:https://gslookout.org/event/wednesday-night-youth/2029-04-04/
LOCATION:Youth Building
CATEGORIES:Formation,Youth
END:VEVENT
BEGIN:VEVENT
DTSTART;TZID=America/New_York:20290405T103000
DTEND;TZID=America/New_York:20290405T233000
DTSTAMP:20260420T074147
CREATED:20241122T224001Z
LAST-MODIFIED:20241122T224019Z
UID:10015240-1870079400-1870126200@gslookout.org
SUMMARY:Thursday Bible Study
DESCRIPTION:
URL:https://gslookout.org/event/thursday-bible-study-2/2029-04-05/
LOCATION:Talbird Hall
CATEGORIES:Formation
END:VEVENT
BEGIN:VEVENT
DTSTART;TZID=America/New_York:20290408T091500
DTEND;TZID=America/New_York:20290408T101500
DTSTAMP:20260420T074147
CREATED:20230127T162550Z
LAST-MODIFIED:20230127T162550Z
UID:10018834-1870334100-1870337700@gslookout.org
SUMMARY:Lectionary Bible Study
DESCRIPTION:
URL:https://gslookout.org/event/lectionary-bible-study/2029-04-08/
LOCATION:Library
CATEGORIES:Formation
END:VEVENT
BEGIN:VEVENT
DTSTART;TZID=America/New_York:20290408T091500
DTEND;TZID=America/New_York:20290408T101500
DTSTAMP:20260420T074147
CREATED:20230127T163036Z
LAST-MODIFIED:20230127T163036Z
UID:10016627-1870334100-1870337700@gslookout.org
SUMMARY:Coffee & Conversations
DESCRIPTION:
URL:https://gslookout.org/event/coffee-conversations/2029-04-08/
LOCATION:Lupton Reading Room
CATEGORIES:Formation
END:VEVENT
BEGIN:VEVENT
DTSTART;TZID=America/New_York:20290408T103000
DTEND;TZID=America/New_York:20290408T233000
DTSTAMP:20260420T074147
CREATED:20230908T210148Z
LAST-MODIFIED:20230908T210149Z
UID:10017702-1870338600-1870385400@gslookout.org
SUMMARY:Youth Breakfast & Sunday School
DESCRIPTION:
URL:https://gslookout.org/event/youth-breakfast-sunday-school-2/2029-04-08/
LOCATION:Youth Building
CATEGORIES:Formation,Youth
END:VEVENT
BEGIN:VEVENT
DTSTART;TZID=America/New_York:20290410T100000
DTEND;TZID=America/New_York:20290410T103000
DTSTAMP:20260420T074147
CREATED:20221103T210703Z
LAST-MODIFIED:20230627T182417Z
UID:10015767-1870509600-1870511400@gslookout.org
SUMMARY:Intercessory Prayer Group
DESCRIPTION:
URL:https://gslookout.org/event/intercessory-prayer-group-2/2029-04-10/
LOCATION:Chapel
CATEGORIES:Formation,Worship
END:VEVENT
BEGIN:VEVENT
DTSTART;TZID=America/New_York:20290410T113000
DTEND;TZID=America/New_York:20290410T120000
DTSTAMP:20260420T074147
CREATED:20221103T210420Z
LAST-MODIFIED:20230627T182618Z
UID:10015947-1870515000-1870516800@gslookout.org
SUMMARY:Centering Prayer
DESCRIPTION:
URL:https://gslookout.org/event/centering-prayer-2/2029-04-10/
LOCATION:Lou Garcia Room
CATEGORIES:Formation
END:VEVENT
BEGIN:VEVENT
DTSTART;TZID=America/New_York:20290411T070000
DTEND;TZID=America/New_York:20290411T200000
DTSTAMP:20260420T074147
CREATED:20230127T161734Z
LAST-MODIFIED:20230127T161734Z
UID:10016251-1870585200-1870632000@gslookout.org
SUMMARY:Men's Bible Study
DESCRIPTION:
URL:https://gslookout.org/event/mens-bible-study/2029-04-11/
LOCATION:Talbird Hall
CATEGORIES:Formation
END:VEVENT
BEGIN:VEVENT
DTSTART;TZID=America/New_York:20290411T183000
DTEND;TZID=America/New_York:20290411T193000
DTSTAMP:20260420T074147
CREATED:20230127T163955Z
LAST-MODIFIED:20230127T165113Z
UID:10016786-1870626600-1870630200@gslookout.org
SUMMARY:Wednesday Night Youth
DESCRIPTION:
URL:https://gslookout.org/event/wednesday-night-youth/2029-04-11/
LOCATION:Youth Building
CATEGORIES:Formation,Youth
END:VEVENT
BEGIN:VEVENT
DTSTART;TZID=America/New_York:20290412T103000
DTEND;TZID=America/New_York:20290412T233000
DTSTAMP:20260420T074147
CREATED:20241122T224001Z
LAST-MODIFIED:20241122T224019Z
UID:10015241-1870684200-1870731000@gslookout.org
SUMMARY:Thursday Bible Study
DESCRIPTION:
URL:https://gslookout.org/event/thursday-bible-study-2/2029-04-12/
LOCATION:Talbird Hall
CATEGORIES:Formation
END:VEVENT
BEGIN:VEVENT
DTSTART;TZID=America/New_York:20290415T091500
DTEND;TZID=America/New_York:20290415T101500
DTSTAMP:20260420T074147
CREATED:20230127T162550Z
LAST-MODIFIED:20230127T162550Z
UID:10018835-1870938900-1870942500@gslookout.org
SUMMARY:Lectionary Bible Study
DESCRIPTION:
URL:https://gslookout.org/event/lectionary-bible-study/2029-04-15/
LOCATION:Library
CATEGORIES:Formation
END:VEVENT
BEGIN:VEVENT
DTSTART;TZID=America/New_York:20290415T091500
DTEND;TZID=America/New_York:20290415T101500
DTSTAMP:20260420T074147
CREATED:20230127T163036Z
LAST-MODIFIED:20230127T163036Z
UID:10016628-1870938900-1870942500@gslookout.org
SUMMARY:Coffee & Conversations
DESCRIPTION:
URL:https://gslookout.org/event/coffee-conversations/2029-04-15/
LOCATION:Lupton Reading Room
CATEGORIES:Formation
END:VEVENT
BEGIN:VEVENT
DTSTART;TZID=America/New_York:20290415T103000
DTEND;TZID=America/New_York:20290415T233000
DTSTAMP:20260420T074147
CREATED:20230908T210148Z
LAST-MODIFIED:20230908T210149Z
UID:10017703-1870943400-1870990200@gslookout.org
SUMMARY:Youth Breakfast & Sunday School
DESCRIPTION:
URL:https://gslookout.org/event/youth-breakfast-sunday-school-2/2029-04-15/
LOCATION:Youth Building
CATEGORIES:Formation,Youth
END:VEVENT
BEGIN:VEVENT
DTSTART;TZID=America/New_York:20290417T100000
DTEND;TZID=America/New_York:20290417T103000
DTSTAMP:20260420T074147
CREATED:20221103T210703Z
LAST-MODIFIED:20230627T182417Z
UID:10015768-1871114400-1871116200@gslookout.org
SUMMARY:Intercessory Prayer Group
DESCRIPTION:
URL:https://gslookout.org/event/intercessory-prayer-group-2/2029-04-17/
LOCATION:Chapel
CATEGORIES:Formation,Worship
END:VEVENT
BEGIN:VEVENT
DTSTART;TZID=America/New_York:20290417T113000
DTEND;TZID=America/New_York:20290417T120000
DTSTAMP:20260420T074147
CREATED:20221103T210420Z
LAST-MODIFIED:20230627T182618Z
UID:10015948-1871119800-1871121600@gslookout.org
SUMMARY:Centering Prayer
DESCRIPTION:
URL:https://gslookout.org/event/centering-prayer-2/2029-04-17/
LOCATION:Lou Garcia Room
CATEGORIES:Formation
END:VEVENT
BEGIN:VEVENT
DTSTART;TZID=America/New_York:20290418T070000
DTEND;TZID=America/New_York:20290418T200000
DTSTAMP:20260420T074147
CREATED:20230127T161734Z
LAST-MODIFIED:20230127T161734Z
UID:10016252-1871190000-1871236800@gslookout.org
SUMMARY:Men's Bible Study
DESCRIPTION:
URL:https://gslookout.org/event/mens-bible-study/2029-04-18/
LOCATION:Talbird Hall
CATEGORIES:Formation
END:VEVENT
BEGIN:VEVENT
DTSTART;TZID=America/New_York:20290418T183000
DTEND;TZID=America/New_York:20290418T193000
DTSTAMP:20260420T074147
CREATED:20230127T163955Z
LAST-MODIFIED:20230127T165113Z
UID:10016787-1871231400-1871235000@gslookout.org
SUMMARY:Wednesday Night Youth
DESCRIPTION:
URL:https://gslookout.org/event/wednesday-night-youth/2029-04-18/
LOCATION:Youth Building
CATEGORIES:Formation,Youth
END:VEVENT
BEGIN:VEVENT
DTSTART;TZID=America/New_York:20290419T103000
DTEND;TZID=America/New_York:20290419T233000
DTSTAMP:20260420T074147
CREATED:20241122T224001Z
LAST-MODIFIED:20241122T224019Z
UID:10015242-1871289000-1871335800@gslookout.org
SUMMARY:Thursday Bible Study
DESCRIPTION:
URL:https://gslookout.org/event/thursday-bible-study-2/2029-04-19/
LOCATION:Talbird Hall
CATEGORIES:Formation
END:VEVENT
BEGIN:VEVENT
DTSTART;TZID=America/New_York:20290422T091500
DTEND;TZID=America/New_York:20290422T101500
DTSTAMP:20260420T074147
CREATED:20230127T162550Z
LAST-MODIFIED:20230127T162550Z
UID:10018836-1871543700-1871547300@gslookout.org
SUMMARY:Lectionary Bible Study
DESCRIPTION:
URL:https://gslookout.org/event/lectionary-bible-study/2029-04-22/
LOCATION:Library
CATEGORIES:Formation
END:VEVENT
BEGIN:VEVENT
DTSTART;TZID=America/New_York:20290422T091500
DTEND;TZID=America/New_York:20290422T101500
DTSTAMP:20260420T074147
CREATED:20230127T163036Z
LAST-MODIFIED:20230127T163036Z
UID:10016629-1871543700-1871547300@gslookout.org
SUMMARY:Coffee & Conversations
DESCRIPTION:
URL:https://gslookout.org/event/coffee-conversations/2029-04-22/
LOCATION:Lupton Reading Room
CATEGORIES:Formation
END:VEVENT
BEGIN:VEVENT
DTSTART;TZID=America/New_York:20290422T103000
DTEND;TZID=America/New_York:20290422T233000
DTSTAMP:20260420T074147
CREATED:20230908T210148Z
LAST-MODIFIED:20230908T210149Z
UID:10017704-1871548200-1871595000@gslookout.org
SUMMARY:Youth Breakfast & Sunday School
DESCRIPTION:
URL:https://gslookout.org/event/youth-breakfast-sunday-school-2/2029-04-22/
LOCATION:Youth Building
CATEGORIES:Formation,Youth
END:VEVENT
BEGIN:VEVENT
DTSTART;TZID=America/New_York:20290424T100000
DTEND;TZID=America/New_York:20290424T103000
DTSTAMP:20260420T074147
CREATED:20221103T210703Z
LAST-MODIFIED:20230627T182417Z
UID:10015769-1871719200-1871721000@gslookout.org
SUMMARY:Intercessory Prayer Group
DESCRIPTION:
URL:https://gslookout.org/event/intercessory-prayer-group-2/2029-04-24/
LOCATION:Chapel
CATEGORIES:Formation,Worship
END:VEVENT
BEGIN:VEVENT
DTSTART;TZID=America/New_York:20290424T113000
DTEND;TZID=America/New_York:20290424T120000
DTSTAMP:20260420T074147
CREATED:20221103T210420Z
LAST-MODIFIED:20230627T182618Z
UID:10015949-1871724600-1871726400@gslookout.org
SUMMARY:Centering Prayer
DESCRIPTION:
URL:https://gslookout.org/event/centering-prayer-2/2029-04-24/
LOCATION:Lou Garcia Room
CATEGORIES:Formation
END:VEVENT
BEGIN:VEVENT
DTSTART;TZID=America/New_York:20290425T070000
DTEND;TZID=America/New_York:20290425T200000
DTSTAMP:20260420T074147
CREATED:20230127T161734Z
LAST-MODIFIED:20230127T161734Z
UID:10016253-1871794800-1871841600@gslookout.org
SUMMARY:Men's Bible Study
DESCRIPTION:
URL:https://gslookout.org/event/mens-bible-study/2029-04-25/
LOCATION:Talbird Hall
CATEGORIES:Formation
END:VEVENT
END:VCALENDAR