BEGIN:VCALENDAR
VERSION:2.0
PRODID:-//Church of the Good Shepherd - ECPv6.15.20//NONSGML v1.0//EN
CALSCALE:GREGORIAN
METHOD:PUBLISH
X-WR-CALNAME:Church of the Good Shepherd
X-ORIGINAL-URL:https://gslookout.org
X-WR-CALDESC:Events for Church of the Good Shepherd
REFRESH-INTERVAL;VALUE=DURATION:PT1H
X-Robots-Tag:noindex
X-PUBLISHED-TTL:PT1H
BEGIN:VTIMEZONE
TZID:America/New_York
BEGIN:DAYLIGHT
TZOFFSETFROM:-0500
TZOFFSETTO:-0400
TZNAME:EDT
DTSTART:20280312T070000
END:DAYLIGHT
BEGIN:STANDARD
TZOFFSETFROM:-0400
TZOFFSETTO:-0500
TZNAME:EST
DTSTART:20281105T060000
END:STANDARD
BEGIN:DAYLIGHT
TZOFFSETFROM:-0500
TZOFFSETTO:-0400
TZNAME:EDT
DTSTART:20290311T070000
END:DAYLIGHT
BEGIN:STANDARD
TZOFFSETFROM:-0400
TZOFFSETTO:-0500
TZNAME:EST
DTSTART:20291104T060000
END:STANDARD
BEGIN:DAYLIGHT
TZOFFSETFROM:-0500
TZOFFSETTO:-0400
TZNAME:EDT
DTSTART:20300310T070000
END:DAYLIGHT
BEGIN:STANDARD
TZOFFSETFROM:-0400
TZOFFSETTO:-0500
TZNAME:EST
DTSTART:20301103T060000
END:STANDARD
END:VTIMEZONE
BEGIN:VEVENT
DTSTART;TZID=America/New_York:20290701T091500
DTEND;TZID=America/New_York:20290701T101500
DTSTAMP:20260420T112803
CREATED:20230127T162550Z
LAST-MODIFIED:20230127T162550Z
UID:10018846-1877591700-1877595300@gslookout.org
SUMMARY:Lectionary Bible Study
DESCRIPTION:
URL:https://gslookout.org/event/lectionary-bible-study/2029-07-01/
LOCATION:Library
CATEGORIES:Formation
END:VEVENT
BEGIN:VEVENT
DTSTART;TZID=America/New_York:20290701T091500
DTEND;TZID=America/New_York:20290701T101500
DTSTAMP:20260420T112803
CREATED:20230127T163036Z
LAST-MODIFIED:20230127T163036Z
UID:10016639-1877591700-1877595300@gslookout.org
SUMMARY:Coffee & Conversations
DESCRIPTION:
URL:https://gslookout.org/event/coffee-conversations/2029-07-01/
LOCATION:Lupton Reading Room
CATEGORIES:Formation
END:VEVENT
BEGIN:VEVENT
DTSTART;TZID=America/New_York:20290701T103000
DTEND;TZID=America/New_York:20290701T233000
DTSTAMP:20260420T112803
CREATED:20230908T210148Z
LAST-MODIFIED:20230908T210149Z
UID:10017714-1877596200-1877643000@gslookout.org
SUMMARY:Youth Breakfast & Sunday School
DESCRIPTION:
URL:https://gslookout.org/event/youth-breakfast-sunday-school-2/2029-07-01/
LOCATION:Youth Building
CATEGORIES:Formation,Youth
END:VEVENT
BEGIN:VEVENT
DTSTART;TZID=America/New_York:20290703T100000
DTEND;TZID=America/New_York:20290703T103000
DTSTAMP:20260420T112803
CREATED:20221103T210703Z
LAST-MODIFIED:20230627T182417Z
UID:10015779-1877767200-1877769000@gslookout.org
SUMMARY:Intercessory Prayer Group
DESCRIPTION:
URL:https://gslookout.org/event/intercessory-prayer-group-2/2029-07-03/
LOCATION:Chapel
CATEGORIES:Formation,Worship
END:VEVENT
BEGIN:VEVENT
DTSTART;TZID=America/New_York:20290703T113000
DTEND;TZID=America/New_York:20290703T120000
DTSTAMP:20260420T112803
CREATED:20221103T210420Z
LAST-MODIFIED:20230627T182618Z
UID:10015959-1877772600-1877774400@gslookout.org
SUMMARY:Centering Prayer
DESCRIPTION:
URL:https://gslookout.org/event/centering-prayer-2/2029-07-03/
LOCATION:Lou Garcia Room
CATEGORIES:Formation
END:VEVENT
BEGIN:VEVENT
DTSTART;TZID=America/New_York:20290704T070000
DTEND;TZID=America/New_York:20290704T200000
DTSTAMP:20260420T112803
CREATED:20230127T161734Z
LAST-MODIFIED:20230127T161734Z
UID:10016263-1877842800-1877889600@gslookout.org
SUMMARY:Men's Bible Study
DESCRIPTION:
URL:https://gslookout.org/event/mens-bible-study/2029-07-04/
LOCATION:Talbird Hall
CATEGORIES:Formation
END:VEVENT
BEGIN:VEVENT
DTSTART;TZID=America/New_York:20290704T183000
DTEND;TZID=America/New_York:20290704T193000
DTSTAMP:20260420T112803
CREATED:20230127T163955Z
LAST-MODIFIED:20230127T165113Z
UID:10016798-1877884200-1877887800@gslookout.org
SUMMARY:Wednesday Night Youth
DESCRIPTION:
URL:https://gslookout.org/event/wednesday-night-youth/2029-07-04/
LOCATION:Youth Building
CATEGORIES:Formation,Youth
END:VEVENT
BEGIN:VEVENT
DTSTART;TZID=America/New_York:20290705T103000
DTEND;TZID=America/New_York:20290705T233000
DTSTAMP:20260420T112803
CREATED:20241122T224001Z
LAST-MODIFIED:20241122T224019Z
UID:10015253-1877941800-1877988600@gslookout.org
SUMMARY:Thursday Bible Study
DESCRIPTION:
URL:https://gslookout.org/event/thursday-bible-study-2/2029-07-05/
LOCATION:Talbird Hall
CATEGORIES:Formation
END:VEVENT
BEGIN:VEVENT
DTSTART;TZID=America/New_York:20290708T091500
DTEND;TZID=America/New_York:20290708T101500
DTSTAMP:20260420T112803
CREATED:20230127T162550Z
LAST-MODIFIED:20230127T162550Z
UID:10018847-1878196500-1878200100@gslookout.org
SUMMARY:Lectionary Bible Study
DESCRIPTION:
URL:https://gslookout.org/event/lectionary-bible-study/2029-07-08/
LOCATION:Library
CATEGORIES:Formation
END:VEVENT
BEGIN:VEVENT
DTSTART;TZID=America/New_York:20290708T091500
DTEND;TZID=America/New_York:20290708T101500
DTSTAMP:20260420T112803
CREATED:20230127T163036Z
LAST-MODIFIED:20230127T163036Z
UID:10016640-1878196500-1878200100@gslookout.org
SUMMARY:Coffee & Conversations
DESCRIPTION:
URL:https://gslookout.org/event/coffee-conversations/2029-07-08/
LOCATION:Lupton Reading Room
CATEGORIES:Formation
END:VEVENT
BEGIN:VEVENT
DTSTART;TZID=America/New_York:20290708T103000
DTEND;TZID=America/New_York:20290708T233000
DTSTAMP:20260420T112803
CREATED:20230908T210148Z
LAST-MODIFIED:20230908T210149Z
UID:10017715-1878201000-1878247800@gslookout.org
SUMMARY:Youth Breakfast & Sunday School
DESCRIPTION:
URL:https://gslookout.org/event/youth-breakfast-sunday-school-2/2029-07-08/
LOCATION:Youth Building
CATEGORIES:Formation,Youth
END:VEVENT
BEGIN:VEVENT
DTSTART;TZID=America/New_York:20290710T100000
DTEND;TZID=America/New_York:20290710T103000
DTSTAMP:20260420T112803
CREATED:20221103T210703Z
LAST-MODIFIED:20230627T182417Z
UID:10015780-1878372000-1878373800@gslookout.org
SUMMARY:Intercessory Prayer Group
DESCRIPTION:
URL:https://gslookout.org/event/intercessory-prayer-group-2/2029-07-10/
LOCATION:Chapel
CATEGORIES:Formation,Worship
END:VEVENT
BEGIN:VEVENT
DTSTART;TZID=America/New_York:20290710T113000
DTEND;TZID=America/New_York:20290710T120000
DTSTAMP:20260420T112803
CREATED:20221103T210420Z
LAST-MODIFIED:20230627T182618Z
UID:10015960-1878377400-1878379200@gslookout.org
SUMMARY:Centering Prayer
DESCRIPTION:
URL:https://gslookout.org/event/centering-prayer-2/2029-07-10/
LOCATION:Lou Garcia Room
CATEGORIES:Formation
END:VEVENT
BEGIN:VEVENT
DTSTART;TZID=America/New_York:20290711T070000
DTEND;TZID=America/New_York:20290711T200000
DTSTAMP:20260420T112803
CREATED:20230127T161734Z
LAST-MODIFIED:20230127T161734Z
UID:10016264-1878447600-1878494400@gslookout.org
SUMMARY:Men's Bible Study
DESCRIPTION:
URL:https://gslookout.org/event/mens-bible-study/2029-07-11/
LOCATION:Talbird Hall
CATEGORIES:Formation
END:VEVENT
BEGIN:VEVENT
DTSTART;TZID=America/New_York:20290711T183000
DTEND;TZID=America/New_York:20290711T193000
DTSTAMP:20260420T112803
CREATED:20230127T163955Z
LAST-MODIFIED:20230127T165113Z
UID:10016799-1878489000-1878492600@gslookout.org
SUMMARY:Wednesday Night Youth
DESCRIPTION:
URL:https://gslookout.org/event/wednesday-night-youth/2029-07-11/
LOCATION:Youth Building
CATEGORIES:Formation,Youth
END:VEVENT
BEGIN:VEVENT
DTSTART;TZID=America/New_York:20290712T103000
DTEND;TZID=America/New_York:20290712T233000
DTSTAMP:20260420T112803
CREATED:20241122T224001Z
LAST-MODIFIED:20241122T224019Z
UID:10015254-1878546600-1878593400@gslookout.org
SUMMARY:Thursday Bible Study
DESCRIPTION:
URL:https://gslookout.org/event/thursday-bible-study-2/2029-07-12/
LOCATION:Talbird Hall
CATEGORIES:Formation
END:VEVENT
BEGIN:VEVENT
DTSTART;TZID=America/New_York:20290715T091500
DTEND;TZID=America/New_York:20290715T101500
DTSTAMP:20260420T112803
CREATED:20230127T162550Z
LAST-MODIFIED:20230127T162550Z
UID:10018848-1878801300-1878804900@gslookout.org
SUMMARY:Lectionary Bible Study
DESCRIPTION:
URL:https://gslookout.org/event/lectionary-bible-study/2029-07-15/
LOCATION:Library
CATEGORIES:Formation
END:VEVENT
BEGIN:VEVENT
DTSTART;TZID=America/New_York:20290715T091500
DTEND;TZID=America/New_York:20290715T101500
DTSTAMP:20260420T112803
CREATED:20230127T163036Z
LAST-MODIFIED:20230127T163036Z
UID:10016641-1878801300-1878804900@gslookout.org
SUMMARY:Coffee & Conversations
DESCRIPTION:
URL:https://gslookout.org/event/coffee-conversations/2029-07-15/
LOCATION:Lupton Reading Room
CATEGORIES:Formation
END:VEVENT
BEGIN:VEVENT
DTSTART;TZID=America/New_York:20290715T103000
DTEND;TZID=America/New_York:20290715T233000
DTSTAMP:20260420T112803
CREATED:20230908T210148Z
LAST-MODIFIED:20230908T210149Z
UID:10017716-1878805800-1878852600@gslookout.org
SUMMARY:Youth Breakfast & Sunday School
DESCRIPTION:
URL:https://gslookout.org/event/youth-breakfast-sunday-school-2/2029-07-15/
LOCATION:Youth Building
CATEGORIES:Formation,Youth
END:VEVENT
BEGIN:VEVENT
DTSTART;TZID=America/New_York:20290717T100000
DTEND;TZID=America/New_York:20290717T103000
DTSTAMP:20260420T112803
CREATED:20221103T210703Z
LAST-MODIFIED:20230627T182417Z
UID:10015781-1878976800-1878978600@gslookout.org
SUMMARY:Intercessory Prayer Group
DESCRIPTION:
URL:https://gslookout.org/event/intercessory-prayer-group-2/2029-07-17/
LOCATION:Chapel
CATEGORIES:Formation,Worship
END:VEVENT
BEGIN:VEVENT
DTSTART;TZID=America/New_York:20290717T113000
DTEND;TZID=America/New_York:20290717T120000
DTSTAMP:20260420T112803
CREATED:20221103T210420Z
LAST-MODIFIED:20230627T182618Z
UID:10015961-1878982200-1878984000@gslookout.org
SUMMARY:Centering Prayer
DESCRIPTION:
URL:https://gslookout.org/event/centering-prayer-2/2029-07-17/
LOCATION:Lou Garcia Room
CATEGORIES:Formation
END:VEVENT
BEGIN:VEVENT
DTSTART;TZID=America/New_York:20290718T070000
DTEND;TZID=America/New_York:20290718T200000
DTSTAMP:20260420T112803
CREATED:20230127T161734Z
LAST-MODIFIED:20230127T161734Z
UID:10016265-1879052400-1879099200@gslookout.org
SUMMARY:Men's Bible Study
DESCRIPTION:
URL:https://gslookout.org/event/mens-bible-study/2029-07-18/
LOCATION:Talbird Hall
CATEGORIES:Formation
END:VEVENT
BEGIN:VEVENT
DTSTART;TZID=America/New_York:20290718T183000
DTEND;TZID=America/New_York:20290718T193000
DTSTAMP:20260420T112803
CREATED:20230127T163955Z
LAST-MODIFIED:20230127T165113Z
UID:10016800-1879093800-1879097400@gslookout.org
SUMMARY:Wednesday Night Youth
DESCRIPTION:
URL:https://gslookout.org/event/wednesday-night-youth/2029-07-18/
LOCATION:Youth Building
CATEGORIES:Formation,Youth
END:VEVENT
BEGIN:VEVENT
DTSTART;TZID=America/New_York:20290719T103000
DTEND;TZID=America/New_York:20290719T233000
DTSTAMP:20260420T112803
CREATED:20241122T224001Z
LAST-MODIFIED:20241122T224019Z
UID:10015255-1879151400-1879198200@gslookout.org
SUMMARY:Thursday Bible Study
DESCRIPTION:
URL:https://gslookout.org/event/thursday-bible-study-2/2029-07-19/
LOCATION:Talbird Hall
CATEGORIES:Formation
END:VEVENT
BEGIN:VEVENT
DTSTART;TZID=America/New_York:20290722T091500
DTEND;TZID=America/New_York:20290722T101500
DTSTAMP:20260420T112803
CREATED:20230127T162550Z
LAST-MODIFIED:20230127T162550Z
UID:10018849-1879406100-1879409700@gslookout.org
SUMMARY:Lectionary Bible Study
DESCRIPTION:
URL:https://gslookout.org/event/lectionary-bible-study/2029-07-22/
LOCATION:Library
CATEGORIES:Formation
END:VEVENT
BEGIN:VEVENT
DTSTART;TZID=America/New_York:20290722T091500
DTEND;TZID=America/New_York:20290722T101500
DTSTAMP:20260420T112803
CREATED:20230127T163036Z
LAST-MODIFIED:20230127T163036Z
UID:10016642-1879406100-1879409700@gslookout.org
SUMMARY:Coffee & Conversations
DESCRIPTION:
URL:https://gslookout.org/event/coffee-conversations/2029-07-22/
LOCATION:Lupton Reading Room
CATEGORIES:Formation
END:VEVENT
BEGIN:VEVENT
DTSTART;TZID=America/New_York:20290722T103000
DTEND;TZID=America/New_York:20290722T233000
DTSTAMP:20260420T112803
CREATED:20230908T210148Z
LAST-MODIFIED:20230908T210149Z
UID:10017717-1879410600-1879457400@gslookout.org
SUMMARY:Youth Breakfast & Sunday School
DESCRIPTION:
URL:https://gslookout.org/event/youth-breakfast-sunday-school-2/2029-07-22/
LOCATION:Youth Building
CATEGORIES:Formation,Youth
END:VEVENT
BEGIN:VEVENT
DTSTART;TZID=America/New_York:20290724T100000
DTEND;TZID=America/New_York:20290724T103000
DTSTAMP:20260420T112803
CREATED:20221103T210703Z
LAST-MODIFIED:20230627T182417Z
UID:10015782-1879581600-1879583400@gslookout.org
SUMMARY:Intercessory Prayer Group
DESCRIPTION:
URL:https://gslookout.org/event/intercessory-prayer-group-2/2029-07-24/
LOCATION:Chapel
CATEGORIES:Formation,Worship
END:VEVENT
BEGIN:VEVENT
DTSTART;TZID=America/New_York:20290724T113000
DTEND;TZID=America/New_York:20290724T120000
DTSTAMP:20260420T112803
CREATED:20221103T210420Z
LAST-MODIFIED:20230627T182618Z
UID:10015962-1879587000-1879588800@gslookout.org
SUMMARY:Centering Prayer
DESCRIPTION:
URL:https://gslookout.org/event/centering-prayer-2/2029-07-24/
LOCATION:Lou Garcia Room
CATEGORIES:Formation
END:VEVENT
BEGIN:VEVENT
DTSTART;TZID=America/New_York:20290725T070000
DTEND;TZID=America/New_York:20290725T200000
DTSTAMP:20260420T112803
CREATED:20230127T161734Z
LAST-MODIFIED:20230127T161734Z
UID:10016266-1879657200-1879704000@gslookout.org
SUMMARY:Men's Bible Study
DESCRIPTION:
URL:https://gslookout.org/event/mens-bible-study/2029-07-25/
LOCATION:Talbird Hall
CATEGORIES:Formation
END:VEVENT
END:VCALENDAR