BEGIN:VCALENDAR
VERSION:2.0
PRODID:-//Church of the Good Shepherd - ECPv6.15.20//NONSGML v1.0//EN
CALSCALE:GREGORIAN
METHOD:PUBLISH
X-WR-CALNAME:Church of the Good Shepherd
X-ORIGINAL-URL:https://gslookout.org
X-WR-CALDESC:Events for Church of the Good Shepherd
REFRESH-INTERVAL;VALUE=DURATION:PT1H
X-Robots-Tag:noindex
X-PUBLISHED-TTL:PT1H
BEGIN:VTIMEZONE
TZID:America/New_York
BEGIN:DAYLIGHT
TZOFFSETFROM:-0500
TZOFFSETTO:-0400
TZNAME:EDT
DTSTART:20280312T070000
END:DAYLIGHT
BEGIN:STANDARD
TZOFFSETFROM:-0400
TZOFFSETTO:-0500
TZNAME:EST
DTSTART:20281105T060000
END:STANDARD
BEGIN:DAYLIGHT
TZOFFSETFROM:-0500
TZOFFSETTO:-0400
TZNAME:EDT
DTSTART:20290311T070000
END:DAYLIGHT
BEGIN:STANDARD
TZOFFSETFROM:-0400
TZOFFSETTO:-0500
TZNAME:EST
DTSTART:20291104T060000
END:STANDARD
BEGIN:DAYLIGHT
TZOFFSETFROM:-0500
TZOFFSETTO:-0400
TZNAME:EDT
DTSTART:20300310T070000
END:DAYLIGHT
BEGIN:STANDARD
TZOFFSETFROM:-0400
TZOFFSETTO:-0500
TZNAME:EST
DTSTART:20301103T060000
END:STANDARD
END:VTIMEZONE
BEGIN:VEVENT
DTSTART;TZID=America/New_York:20290902T091500
DTEND;TZID=America/New_York:20290902T101500
DTSTAMP:20260420T164319
CREATED:20230127T162550Z
LAST-MODIFIED:20230127T162550Z
UID:10018855-1883034900-1883038500@gslookout.org
SUMMARY:Lectionary Bible Study
DESCRIPTION:
URL:https://gslookout.org/event/lectionary-bible-study/2029-09-02/
LOCATION:Library
CATEGORIES:Formation
END:VEVENT
BEGIN:VEVENT
DTSTART;TZID=America/New_York:20290902T091500
DTEND;TZID=America/New_York:20290902T101500
DTSTAMP:20260420T164319
CREATED:20230127T163036Z
LAST-MODIFIED:20230127T163036Z
UID:10016648-1883034900-1883038500@gslookout.org
SUMMARY:Coffee & Conversations
DESCRIPTION:
URL:https://gslookout.org/event/coffee-conversations/2029-09-02/
LOCATION:Lupton Reading Room
CATEGORIES:Formation
END:VEVENT
BEGIN:VEVENT
DTSTART;TZID=America/New_York:20290902T103000
DTEND;TZID=America/New_York:20290902T233000
DTSTAMP:20260420T164319
CREATED:20230908T210148Z
LAST-MODIFIED:20230908T210149Z
UID:10017723-1883039400-1883086200@gslookout.org
SUMMARY:Youth Breakfast & Sunday School
DESCRIPTION:
URL:https://gslookout.org/event/youth-breakfast-sunday-school-2/2029-09-02/
LOCATION:Youth Building
CATEGORIES:Formation,Youth
END:VEVENT
BEGIN:VEVENT
DTSTART;TZID=America/New_York:20290904T100000
DTEND;TZID=America/New_York:20290904T103000
DTSTAMP:20260420T164319
CREATED:20221103T210703Z
LAST-MODIFIED:20230627T182417Z
UID:10015788-1883210400-1883212200@gslookout.org
SUMMARY:Intercessory Prayer Group
DESCRIPTION:
URL:https://gslookout.org/event/intercessory-prayer-group-2/2029-09-04/
LOCATION:Chapel
CATEGORIES:Formation,Worship
END:VEVENT
BEGIN:VEVENT
DTSTART;TZID=America/New_York:20290904T113000
DTEND;TZID=America/New_York:20290904T120000
DTSTAMP:20260420T164319
CREATED:20221103T210420Z
LAST-MODIFIED:20230627T182618Z
UID:10015968-1883215800-1883217600@gslookout.org
SUMMARY:Centering Prayer
DESCRIPTION:
URL:https://gslookout.org/event/centering-prayer-2/2029-09-04/
LOCATION:Lou Garcia Room
CATEGORIES:Formation
END:VEVENT
BEGIN:VEVENT
DTSTART;TZID=America/New_York:20290905T070000
DTEND;TZID=America/New_York:20290905T200000
DTSTAMP:20260420T164319
CREATED:20230127T161734Z
LAST-MODIFIED:20230127T161734Z
UID:10016272-1883286000-1883332800@gslookout.org
SUMMARY:Men's Bible Study
DESCRIPTION:
URL:https://gslookout.org/event/mens-bible-study/2029-09-05/
LOCATION:Talbird Hall
CATEGORIES:Formation
END:VEVENT
BEGIN:VEVENT
DTSTART;TZID=America/New_York:20290905T183000
DTEND;TZID=America/New_York:20290905T193000
DTSTAMP:20260420T164319
CREATED:20230127T163955Z
LAST-MODIFIED:20230127T165113Z
UID:10016807-1883327400-1883331000@gslookout.org
SUMMARY:Wednesday Night Youth
DESCRIPTION:
URL:https://gslookout.org/event/wednesday-night-youth/2029-09-05/
LOCATION:Youth Building
CATEGORIES:Formation,Youth
END:VEVENT
BEGIN:VEVENT
DTSTART;TZID=America/New_York:20290906T103000
DTEND;TZID=America/New_York:20290906T233000
DTSTAMP:20260420T164319
CREATED:20241122T224001Z
LAST-MODIFIED:20241122T224019Z
UID:10015262-1883385000-1883431800@gslookout.org
SUMMARY:Thursday Bible Study
DESCRIPTION:
URL:https://gslookout.org/event/thursday-bible-study-2/2029-09-06/
LOCATION:Talbird Hall
CATEGORIES:Formation
END:VEVENT
BEGIN:VEVENT
DTSTART;TZID=America/New_York:20290909T091500
DTEND;TZID=America/New_York:20290909T101500
DTSTAMP:20260420T164319
CREATED:20230127T162550Z
LAST-MODIFIED:20230127T162550Z
UID:10018856-1883639700-1883643300@gslookout.org
SUMMARY:Lectionary Bible Study
DESCRIPTION:
URL:https://gslookout.org/event/lectionary-bible-study/2029-09-09/
LOCATION:Library
CATEGORIES:Formation
END:VEVENT
BEGIN:VEVENT
DTSTART;TZID=America/New_York:20290909T091500
DTEND;TZID=America/New_York:20290909T101500
DTSTAMP:20260420T164319
CREATED:20230127T163036Z
LAST-MODIFIED:20230127T163036Z
UID:10016649-1883639700-1883643300@gslookout.org
SUMMARY:Coffee & Conversations
DESCRIPTION:
URL:https://gslookout.org/event/coffee-conversations/2029-09-09/
LOCATION:Lupton Reading Room
CATEGORIES:Formation
END:VEVENT
BEGIN:VEVENT
DTSTART;TZID=America/New_York:20290909T103000
DTEND;TZID=America/New_York:20290909T233000
DTSTAMP:20260420T164319
CREATED:20230908T210148Z
LAST-MODIFIED:20230908T210149Z
UID:10017724-1883644200-1883691000@gslookout.org
SUMMARY:Youth Breakfast & Sunday School
DESCRIPTION:
URL:https://gslookout.org/event/youth-breakfast-sunday-school-2/2029-09-09/
LOCATION:Youth Building
CATEGORIES:Formation,Youth
END:VEVENT
BEGIN:VEVENT
DTSTART;TZID=America/New_York:20290911T100000
DTEND;TZID=America/New_York:20290911T103000
DTSTAMP:20260420T164319
CREATED:20221103T210703Z
LAST-MODIFIED:20230627T182417Z
UID:10015789-1883815200-1883817000@gslookout.org
SUMMARY:Intercessory Prayer Group
DESCRIPTION:
URL:https://gslookout.org/event/intercessory-prayer-group-2/2029-09-11/
LOCATION:Chapel
CATEGORIES:Formation,Worship
END:VEVENT
BEGIN:VEVENT
DTSTART;TZID=America/New_York:20290911T113000
DTEND;TZID=America/New_York:20290911T120000
DTSTAMP:20260420T164319
CREATED:20221103T210420Z
LAST-MODIFIED:20230627T182618Z
UID:10015969-1883820600-1883822400@gslookout.org
SUMMARY:Centering Prayer
DESCRIPTION:
URL:https://gslookout.org/event/centering-prayer-2/2029-09-11/
LOCATION:Lou Garcia Room
CATEGORIES:Formation
END:VEVENT
BEGIN:VEVENT
DTSTART;TZID=America/New_York:20290912T070000
DTEND;TZID=America/New_York:20290912T200000
DTSTAMP:20260420T164319
CREATED:20230127T161734Z
LAST-MODIFIED:20230127T161734Z
UID:10016273-1883890800-1883937600@gslookout.org
SUMMARY:Men's Bible Study
DESCRIPTION:
URL:https://gslookout.org/event/mens-bible-study/2029-09-12/
LOCATION:Talbird Hall
CATEGORIES:Formation
END:VEVENT
BEGIN:VEVENT
DTSTART;TZID=America/New_York:20290912T183000
DTEND;TZID=America/New_York:20290912T193000
DTSTAMP:20260420T164319
CREATED:20230127T163955Z
LAST-MODIFIED:20230127T165113Z
UID:10016808-1883932200-1883935800@gslookout.org
SUMMARY:Wednesday Night Youth
DESCRIPTION:
URL:https://gslookout.org/event/wednesday-night-youth/2029-09-12/
LOCATION:Youth Building
CATEGORIES:Formation,Youth
END:VEVENT
BEGIN:VEVENT
DTSTART;TZID=America/New_York:20290913T103000
DTEND;TZID=America/New_York:20290913T233000
DTSTAMP:20260420T164319
CREATED:20241122T224001Z
LAST-MODIFIED:20241122T224019Z
UID:10015263-1883989800-1884036600@gslookout.org
SUMMARY:Thursday Bible Study
DESCRIPTION:
URL:https://gslookout.org/event/thursday-bible-study-2/2029-09-13/
LOCATION:Talbird Hall
CATEGORIES:Formation
END:VEVENT
BEGIN:VEVENT
DTSTART;TZID=America/New_York:20290916T091500
DTEND;TZID=America/New_York:20290916T101500
DTSTAMP:20260420T164319
CREATED:20230127T162550Z
LAST-MODIFIED:20230127T162550Z
UID:10018857-1884244500-1884248100@gslookout.org
SUMMARY:Lectionary Bible Study
DESCRIPTION:
URL:https://gslookout.org/event/lectionary-bible-study/2029-09-16/
LOCATION:Library
CATEGORIES:Formation
END:VEVENT
BEGIN:VEVENT
DTSTART;TZID=America/New_York:20290916T091500
DTEND;TZID=America/New_York:20290916T101500
DTSTAMP:20260420T164319
CREATED:20230127T163036Z
LAST-MODIFIED:20230127T163036Z
UID:10016650-1884244500-1884248100@gslookout.org
SUMMARY:Coffee & Conversations
DESCRIPTION:
URL:https://gslookout.org/event/coffee-conversations/2029-09-16/
LOCATION:Lupton Reading Room
CATEGORIES:Formation
END:VEVENT
BEGIN:VEVENT
DTSTART;TZID=America/New_York:20290916T103000
DTEND;TZID=America/New_York:20290916T233000
DTSTAMP:20260420T164319
CREATED:20230908T210148Z
LAST-MODIFIED:20230908T210149Z
UID:10017725-1884249000-1884295800@gslookout.org
SUMMARY:Youth Breakfast & Sunday School
DESCRIPTION:
URL:https://gslookout.org/event/youth-breakfast-sunday-school-2/2029-09-16/
LOCATION:Youth Building
CATEGORIES:Formation,Youth
END:VEVENT
BEGIN:VEVENT
DTSTART;TZID=America/New_York:20290918T100000
DTEND;TZID=America/New_York:20290918T103000
DTSTAMP:20260420T164319
CREATED:20221103T210703Z
LAST-MODIFIED:20230627T182417Z
UID:10015790-1884420000-1884421800@gslookout.org
SUMMARY:Intercessory Prayer Group
DESCRIPTION:
URL:https://gslookout.org/event/intercessory-prayer-group-2/2029-09-18/
LOCATION:Chapel
CATEGORIES:Formation,Worship
END:VEVENT
BEGIN:VEVENT
DTSTART;TZID=America/New_York:20290918T113000
DTEND;TZID=America/New_York:20290918T120000
DTSTAMP:20260420T164319
CREATED:20221103T210420Z
LAST-MODIFIED:20230627T182618Z
UID:10015970-1884425400-1884427200@gslookout.org
SUMMARY:Centering Prayer
DESCRIPTION:
URL:https://gslookout.org/event/centering-prayer-2/2029-09-18/
LOCATION:Lou Garcia Room
CATEGORIES:Formation
END:VEVENT
BEGIN:VEVENT
DTSTART;TZID=America/New_York:20290919T070000
DTEND;TZID=America/New_York:20290919T200000
DTSTAMP:20260420T164319
CREATED:20230127T161734Z
LAST-MODIFIED:20230127T161734Z
UID:10016274-1884495600-1884542400@gslookout.org
SUMMARY:Men's Bible Study
DESCRIPTION:
URL:https://gslookout.org/event/mens-bible-study/2029-09-19/
LOCATION:Talbird Hall
CATEGORIES:Formation
END:VEVENT
BEGIN:VEVENT
DTSTART;TZID=America/New_York:20290919T183000
DTEND;TZID=America/New_York:20290919T193000
DTSTAMP:20260420T164319
CREATED:20230127T163955Z
LAST-MODIFIED:20230127T165113Z
UID:10016809-1884537000-1884540600@gslookout.org
SUMMARY:Wednesday Night Youth
DESCRIPTION:
URL:https://gslookout.org/event/wednesday-night-youth/2029-09-19/
LOCATION:Youth Building
CATEGORIES:Formation,Youth
END:VEVENT
BEGIN:VEVENT
DTSTART;TZID=America/New_York:20290920T103000
DTEND;TZID=America/New_York:20290920T233000
DTSTAMP:20260420T164319
CREATED:20241122T224001Z
LAST-MODIFIED:20241122T224019Z
UID:10015264-1884594600-1884641400@gslookout.org
SUMMARY:Thursday Bible Study
DESCRIPTION:
URL:https://gslookout.org/event/thursday-bible-study-2/2029-09-20/
LOCATION:Talbird Hall
CATEGORIES:Formation
END:VEVENT
BEGIN:VEVENT
DTSTART;TZID=America/New_York:20290923T091500
DTEND;TZID=America/New_York:20290923T101500
DTSTAMP:20260420T164319
CREATED:20230127T162550Z
LAST-MODIFIED:20230127T162550Z
UID:10018858-1884849300-1884852900@gslookout.org
SUMMARY:Lectionary Bible Study
DESCRIPTION:
URL:https://gslookout.org/event/lectionary-bible-study/2029-09-23/
LOCATION:Library
CATEGORIES:Formation
END:VEVENT
BEGIN:VEVENT
DTSTART;TZID=America/New_York:20290923T091500
DTEND;TZID=America/New_York:20290923T101500
DTSTAMP:20260420T164319
CREATED:20230127T163036Z
LAST-MODIFIED:20230127T163036Z
UID:10016651-1884849300-1884852900@gslookout.org
SUMMARY:Coffee & Conversations
DESCRIPTION:
URL:https://gslookout.org/event/coffee-conversations/2029-09-23/
LOCATION:Lupton Reading Room
CATEGORIES:Formation
END:VEVENT
BEGIN:VEVENT
DTSTART;TZID=America/New_York:20290923T103000
DTEND;TZID=America/New_York:20290923T233000
DTSTAMP:20260420T164319
CREATED:20230908T210148Z
LAST-MODIFIED:20230908T210149Z
UID:10017726-1884853800-1884900600@gslookout.org
SUMMARY:Youth Breakfast & Sunday School
DESCRIPTION:
URL:https://gslookout.org/event/youth-breakfast-sunday-school-2/2029-09-23/
LOCATION:Youth Building
CATEGORIES:Formation,Youth
END:VEVENT
BEGIN:VEVENT
DTSTART;TZID=America/New_York:20290925T100000
DTEND;TZID=America/New_York:20290925T103000
DTSTAMP:20260420T164319
CREATED:20221103T210703Z
LAST-MODIFIED:20230627T182417Z
UID:10015791-1885024800-1885026600@gslookout.org
SUMMARY:Intercessory Prayer Group
DESCRIPTION:
URL:https://gslookout.org/event/intercessory-prayer-group-2/2029-09-25/
LOCATION:Chapel
CATEGORIES:Formation,Worship
END:VEVENT
BEGIN:VEVENT
DTSTART;TZID=America/New_York:20290925T113000
DTEND;TZID=America/New_York:20290925T120000
DTSTAMP:20260420T164319
CREATED:20221103T210420Z
LAST-MODIFIED:20230627T182618Z
UID:10015971-1885030200-1885032000@gslookout.org
SUMMARY:Centering Prayer
DESCRIPTION:
URL:https://gslookout.org/event/centering-prayer-2/2029-09-25/
LOCATION:Lou Garcia Room
CATEGORIES:Formation
END:VEVENT
BEGIN:VEVENT
DTSTART;TZID=America/New_York:20290926T070000
DTEND;TZID=America/New_York:20290926T200000
DTSTAMP:20260420T164319
CREATED:20230127T161734Z
LAST-MODIFIED:20230127T161734Z
UID:10016275-1885100400-1885147200@gslookout.org
SUMMARY:Men's Bible Study
DESCRIPTION:
URL:https://gslookout.org/event/mens-bible-study/2029-09-26/
LOCATION:Talbird Hall
CATEGORIES:Formation
END:VEVENT
END:VCALENDAR