BEGIN:VCALENDAR
VERSION:2.0
PRODID:-//Church of the Good Shepherd - ECPv6.15.20//NONSGML v1.0//EN
CALSCALE:GREGORIAN
METHOD:PUBLISH
X-WR-CALNAME:Church of the Good Shepherd
X-ORIGINAL-URL:https://gslookout.org
X-WR-CALDESC:Events for Church of the Good Shepherd
REFRESH-INTERVAL;VALUE=DURATION:PT1H
X-Robots-Tag:noindex
X-PUBLISHED-TTL:PT1H
BEGIN:VTIMEZONE
TZID:America/New_York
BEGIN:DAYLIGHT
TZOFFSETFROM:-0500
TZOFFSETTO:-0400
TZNAME:EDT
DTSTART:20280312T070000
END:DAYLIGHT
BEGIN:STANDARD
TZOFFSETFROM:-0400
TZOFFSETTO:-0500
TZNAME:EST
DTSTART:20281105T060000
END:STANDARD
BEGIN:DAYLIGHT
TZOFFSETFROM:-0500
TZOFFSETTO:-0400
TZNAME:EDT
DTSTART:20290311T070000
END:DAYLIGHT
BEGIN:STANDARD
TZOFFSETFROM:-0400
TZOFFSETTO:-0500
TZNAME:EST
DTSTART:20291104T060000
END:STANDARD
BEGIN:DAYLIGHT
TZOFFSETFROM:-0500
TZOFFSETTO:-0400
TZNAME:EDT
DTSTART:20300310T070000
END:DAYLIGHT
BEGIN:STANDARD
TZOFFSETFROM:-0400
TZOFFSETTO:-0500
TZNAME:EST
DTSTART:20301103T060000
END:STANDARD
END:VTIMEZONE
BEGIN:VEVENT
DTSTART;TZID=America/New_York:20291101T103000
DTEND;TZID=America/New_York:20291101T233000
DTSTAMP:20260421T015749
CREATED:20241122T224001Z
LAST-MODIFIED:20241122T224019Z
UID:10015270-1888223400-1888270200@gslookout.org
SUMMARY:Thursday Bible Study
DESCRIPTION:
URL:https://gslookout.org/event/thursday-bible-study-2/2029-11-01/
LOCATION:Talbird Hall
CATEGORIES:Formation
END:VEVENT
BEGIN:VEVENT
DTSTART;TZID=America/New_York:20291104T091500
DTEND;TZID=America/New_York:20291104T101500
DTSTAMP:20260421T015749
CREATED:20230127T162550Z
LAST-MODIFIED:20230127T162550Z
UID:10018864-1888478100-1888481700@gslookout.org
SUMMARY:Lectionary Bible Study
DESCRIPTION:
URL:https://gslookout.org/event/lectionary-bible-study/2029-11-04/
LOCATION:Library
CATEGORIES:Formation
END:VEVENT
BEGIN:VEVENT
DTSTART;TZID=America/New_York:20291104T091500
DTEND;TZID=America/New_York:20291104T101500
DTSTAMP:20260421T015749
CREATED:20230127T163036Z
LAST-MODIFIED:20230127T163036Z
UID:10016657-1888478100-1888481700@gslookout.org
SUMMARY:Coffee & Conversations
DESCRIPTION:
URL:https://gslookout.org/event/coffee-conversations/2029-11-04/
LOCATION:Lupton Reading Room
CATEGORIES:Formation
END:VEVENT
BEGIN:VEVENT
DTSTART;TZID=America/New_York:20291104T103000
DTEND;TZID=America/New_York:20291104T233000
DTSTAMP:20260421T015749
CREATED:20230908T210148Z
LAST-MODIFIED:20230908T210149Z
UID:10017732-1888482600-1888529400@gslookout.org
SUMMARY:Youth Breakfast & Sunday School
DESCRIPTION:
URL:https://gslookout.org/event/youth-breakfast-sunday-school-2/2029-11-04/
LOCATION:Youth Building
CATEGORIES:Formation,Youth
END:VEVENT
BEGIN:VEVENT
DTSTART;TZID=America/New_York:20291106T100000
DTEND;TZID=America/New_York:20291106T103000
DTSTAMP:20260421T015749
CREATED:20221103T210703Z
LAST-MODIFIED:20230627T182417Z
UID:10015797-1888653600-1888655400@gslookout.org
SUMMARY:Intercessory Prayer Group
DESCRIPTION:
URL:https://gslookout.org/event/intercessory-prayer-group-2/2029-11-06/
LOCATION:Chapel
CATEGORIES:Formation,Worship
END:VEVENT
BEGIN:VEVENT
DTSTART;TZID=America/New_York:20291106T113000
DTEND;TZID=America/New_York:20291106T120000
DTSTAMP:20260421T015749
CREATED:20221103T210420Z
LAST-MODIFIED:20230627T182618Z
UID:10015977-1888659000-1888660800@gslookout.org
SUMMARY:Centering Prayer
DESCRIPTION:
URL:https://gslookout.org/event/centering-prayer-2/2029-11-06/
LOCATION:Lou Garcia Room
CATEGORIES:Formation
END:VEVENT
BEGIN:VEVENT
DTSTART;TZID=America/New_York:20291107T070000
DTEND;TZID=America/New_York:20291107T200000
DTSTAMP:20260421T015749
CREATED:20230127T161734Z
LAST-MODIFIED:20230127T161734Z
UID:10016281-1888729200-1888776000@gslookout.org
SUMMARY:Men's Bible Study
DESCRIPTION:
URL:https://gslookout.org/event/mens-bible-study/2029-11-07/
LOCATION:Talbird Hall
CATEGORIES:Formation
END:VEVENT
BEGIN:VEVENT
DTSTART;TZID=America/New_York:20291107T183000
DTEND;TZID=America/New_York:20291107T193000
DTSTAMP:20260421T015749
CREATED:20230127T163955Z
LAST-MODIFIED:20230127T165113Z
UID:10016816-1888770600-1888774200@gslookout.org
SUMMARY:Wednesday Night Youth
DESCRIPTION:
URL:https://gslookout.org/event/wednesday-night-youth/2029-11-07/
LOCATION:Youth Building
CATEGORIES:Formation,Youth
END:VEVENT
BEGIN:VEVENT
DTSTART;TZID=America/New_York:20291108T103000
DTEND;TZID=America/New_York:20291108T233000
DTSTAMP:20260421T015749
CREATED:20241122T224001Z
LAST-MODIFIED:20241122T224019Z
UID:10015271-1888828200-1888875000@gslookout.org
SUMMARY:Thursday Bible Study
DESCRIPTION:
URL:https://gslookout.org/event/thursday-bible-study-2/2029-11-08/
LOCATION:Talbird Hall
CATEGORIES:Formation
END:VEVENT
BEGIN:VEVENT
DTSTART;TZID=America/New_York:20291111T091500
DTEND;TZID=America/New_York:20291111T101500
DTSTAMP:20260421T015749
CREATED:20230127T162550Z
LAST-MODIFIED:20230127T162550Z
UID:10018865-1889082900-1889086500@gslookout.org
SUMMARY:Lectionary Bible Study
DESCRIPTION:
URL:https://gslookout.org/event/lectionary-bible-study/2029-11-11/
LOCATION:Library
CATEGORIES:Formation
END:VEVENT
BEGIN:VEVENT
DTSTART;TZID=America/New_York:20291111T091500
DTEND;TZID=America/New_York:20291111T101500
DTSTAMP:20260421T015749
CREATED:20230127T163036Z
LAST-MODIFIED:20230127T163036Z
UID:10016658-1889082900-1889086500@gslookout.org
SUMMARY:Coffee & Conversations
DESCRIPTION:
URL:https://gslookout.org/event/coffee-conversations/2029-11-11/
LOCATION:Lupton Reading Room
CATEGORIES:Formation
END:VEVENT
BEGIN:VEVENT
DTSTART;TZID=America/New_York:20291111T103000
DTEND;TZID=America/New_York:20291111T233000
DTSTAMP:20260421T015749
CREATED:20230908T210148Z
LAST-MODIFIED:20230908T210149Z
UID:10017733-1889087400-1889134200@gslookout.org
SUMMARY:Youth Breakfast & Sunday School
DESCRIPTION:
URL:https://gslookout.org/event/youth-breakfast-sunday-school-2/2029-11-11/
LOCATION:Youth Building
CATEGORIES:Formation,Youth
END:VEVENT
BEGIN:VEVENT
DTSTART;TZID=America/New_York:20291113T100000
DTEND;TZID=America/New_York:20291113T103000
DTSTAMP:20260421T015749
CREATED:20221103T210703Z
LAST-MODIFIED:20230627T182417Z
UID:10015798-1889258400-1889260200@gslookout.org
SUMMARY:Intercessory Prayer Group
DESCRIPTION:
URL:https://gslookout.org/event/intercessory-prayer-group-2/2029-11-13/
LOCATION:Chapel
CATEGORIES:Formation,Worship
END:VEVENT
BEGIN:VEVENT
DTSTART;TZID=America/New_York:20291113T113000
DTEND;TZID=America/New_York:20291113T120000
DTSTAMP:20260421T015749
CREATED:20221103T210420Z
LAST-MODIFIED:20230627T182618Z
UID:10015978-1889263800-1889265600@gslookout.org
SUMMARY:Centering Prayer
DESCRIPTION:
URL:https://gslookout.org/event/centering-prayer-2/2029-11-13/
LOCATION:Lou Garcia Room
CATEGORIES:Formation
END:VEVENT
BEGIN:VEVENT
DTSTART;TZID=America/New_York:20291114T070000
DTEND;TZID=America/New_York:20291114T200000
DTSTAMP:20260421T015749
CREATED:20230127T161734Z
LAST-MODIFIED:20230127T161734Z
UID:10016282-1889334000-1889380800@gslookout.org
SUMMARY:Men's Bible Study
DESCRIPTION:
URL:https://gslookout.org/event/mens-bible-study/2029-11-14/
LOCATION:Talbird Hall
CATEGORIES:Formation
END:VEVENT
BEGIN:VEVENT
DTSTART;TZID=America/New_York:20291114T183000
DTEND;TZID=America/New_York:20291114T193000
DTSTAMP:20260421T015749
CREATED:20230127T163955Z
LAST-MODIFIED:20230127T165113Z
UID:10016817-1889375400-1889379000@gslookout.org
SUMMARY:Wednesday Night Youth
DESCRIPTION:
URL:https://gslookout.org/event/wednesday-night-youth/2029-11-14/
LOCATION:Youth Building
CATEGORIES:Formation,Youth
END:VEVENT
BEGIN:VEVENT
DTSTART;TZID=America/New_York:20291115T103000
DTEND;TZID=America/New_York:20291115T233000
DTSTAMP:20260421T015749
CREATED:20241122T224001Z
LAST-MODIFIED:20241122T224019Z
UID:10015272-1889433000-1889479800@gslookout.org
SUMMARY:Thursday Bible Study
DESCRIPTION:
URL:https://gslookout.org/event/thursday-bible-study-2/2029-11-15/
LOCATION:Talbird Hall
CATEGORIES:Formation
END:VEVENT
BEGIN:VEVENT
DTSTART;TZID=America/New_York:20291118T091500
DTEND;TZID=America/New_York:20291118T101500
DTSTAMP:20260421T015749
CREATED:20230127T162550Z
LAST-MODIFIED:20230127T162550Z
UID:10018866-1889687700-1889691300@gslookout.org
SUMMARY:Lectionary Bible Study
DESCRIPTION:
URL:https://gslookout.org/event/lectionary-bible-study/2029-11-18/
LOCATION:Library
CATEGORIES:Formation
END:VEVENT
BEGIN:VEVENT
DTSTART;TZID=America/New_York:20291118T091500
DTEND;TZID=America/New_York:20291118T101500
DTSTAMP:20260421T015749
CREATED:20230127T163036Z
LAST-MODIFIED:20230127T163036Z
UID:10016659-1889687700-1889691300@gslookout.org
SUMMARY:Coffee & Conversations
DESCRIPTION:
URL:https://gslookout.org/event/coffee-conversations/2029-11-18/
LOCATION:Lupton Reading Room
CATEGORIES:Formation
END:VEVENT
BEGIN:VEVENT
DTSTART;TZID=America/New_York:20291118T103000
DTEND;TZID=America/New_York:20291118T233000
DTSTAMP:20260421T015749
CREATED:20230908T210148Z
LAST-MODIFIED:20230908T210149Z
UID:10017734-1889692200-1889739000@gslookout.org
SUMMARY:Youth Breakfast & Sunday School
DESCRIPTION:
URL:https://gslookout.org/event/youth-breakfast-sunday-school-2/2029-11-18/
LOCATION:Youth Building
CATEGORIES:Formation,Youth
END:VEVENT
BEGIN:VEVENT
DTSTART;TZID=America/New_York:20291120T100000
DTEND;TZID=America/New_York:20291120T103000
DTSTAMP:20260421T015749
CREATED:20221103T210703Z
LAST-MODIFIED:20230627T182417Z
UID:10015799-1889863200-1889865000@gslookout.org
SUMMARY:Intercessory Prayer Group
DESCRIPTION:
URL:https://gslookout.org/event/intercessory-prayer-group-2/2029-11-20/
LOCATION:Chapel
CATEGORIES:Formation,Worship
END:VEVENT
BEGIN:VEVENT
DTSTART;TZID=America/New_York:20291120T113000
DTEND;TZID=America/New_York:20291120T120000
DTSTAMP:20260421T015749
CREATED:20221103T210420Z
LAST-MODIFIED:20230627T182618Z
UID:10015979-1889868600-1889870400@gslookout.org
SUMMARY:Centering Prayer
DESCRIPTION:
URL:https://gslookout.org/event/centering-prayer-2/2029-11-20/
LOCATION:Lou Garcia Room
CATEGORIES:Formation
END:VEVENT
BEGIN:VEVENT
DTSTART;TZID=America/New_York:20291121T070000
DTEND;TZID=America/New_York:20291121T200000
DTSTAMP:20260421T015749
CREATED:20230127T161734Z
LAST-MODIFIED:20230127T161734Z
UID:10016283-1889938800-1889985600@gslookout.org
SUMMARY:Men's Bible Study
DESCRIPTION:
URL:https://gslookout.org/event/mens-bible-study/2029-11-21/
LOCATION:Talbird Hall
CATEGORIES:Formation
END:VEVENT
BEGIN:VEVENT
DTSTART;TZID=America/New_York:20291121T183000
DTEND;TZID=America/New_York:20291121T193000
DTSTAMP:20260421T015749
CREATED:20230127T163955Z
LAST-MODIFIED:20230127T165113Z
UID:10016818-1889980200-1889983800@gslookout.org
SUMMARY:Wednesday Night Youth
DESCRIPTION:
URL:https://gslookout.org/event/wednesday-night-youth/2029-11-21/
LOCATION:Youth Building
CATEGORIES:Formation,Youth
END:VEVENT
BEGIN:VEVENT
DTSTART;TZID=America/New_York:20291122T103000
DTEND;TZID=America/New_York:20291122T233000
DTSTAMP:20260421T015749
CREATED:20241122T224001Z
LAST-MODIFIED:20241122T224019Z
UID:10015273-1890037800-1890084600@gslookout.org
SUMMARY:Thursday Bible Study
DESCRIPTION:
URL:https://gslookout.org/event/thursday-bible-study-2/2029-11-22/
LOCATION:Talbird Hall
CATEGORIES:Formation
END:VEVENT
BEGIN:VEVENT
DTSTART;TZID=America/New_York:20291125T091500
DTEND;TZID=America/New_York:20291125T101500
DTSTAMP:20260421T015749
CREATED:20230127T162550Z
LAST-MODIFIED:20230127T162550Z
UID:10018867-1890292500-1890296100@gslookout.org
SUMMARY:Lectionary Bible Study
DESCRIPTION:
URL:https://gslookout.org/event/lectionary-bible-study/2029-11-25/
LOCATION:Library
CATEGORIES:Formation
END:VEVENT
BEGIN:VEVENT
DTSTART;TZID=America/New_York:20291125T091500
DTEND;TZID=America/New_York:20291125T101500
DTSTAMP:20260421T015749
CREATED:20230127T163036Z
LAST-MODIFIED:20230127T163036Z
UID:10016660-1890292500-1890296100@gslookout.org
SUMMARY:Coffee & Conversations
DESCRIPTION:
URL:https://gslookout.org/event/coffee-conversations/2029-11-25/
LOCATION:Lupton Reading Room
CATEGORIES:Formation
END:VEVENT
BEGIN:VEVENT
DTSTART;TZID=America/New_York:20291125T103000
DTEND;TZID=America/New_York:20291125T233000
DTSTAMP:20260421T015749
CREATED:20230908T210148Z
LAST-MODIFIED:20230908T210149Z
UID:10017735-1890297000-1890343800@gslookout.org
SUMMARY:Youth Breakfast & Sunday School
DESCRIPTION:
URL:https://gslookout.org/event/youth-breakfast-sunday-school-2/2029-11-25/
LOCATION:Youth Building
CATEGORIES:Formation,Youth
END:VEVENT
BEGIN:VEVENT
DTSTART;TZID=America/New_York:20291127T100000
DTEND;TZID=America/New_York:20291127T103000
DTSTAMP:20260421T015749
CREATED:20221103T210703Z
LAST-MODIFIED:20230627T182417Z
UID:10015800-1890468000-1890469800@gslookout.org
SUMMARY:Intercessory Prayer Group
DESCRIPTION:
URL:https://gslookout.org/event/intercessory-prayer-group-2/2029-11-27/
LOCATION:Chapel
CATEGORIES:Formation,Worship
END:VEVENT
BEGIN:VEVENT
DTSTART;TZID=America/New_York:20291127T113000
DTEND;TZID=America/New_York:20291127T120000
DTSTAMP:20260421T015749
CREATED:20221103T210420Z
LAST-MODIFIED:20230627T182618Z
UID:10015980-1890473400-1890475200@gslookout.org
SUMMARY:Centering Prayer
DESCRIPTION:
URL:https://gslookout.org/event/centering-prayer-2/2029-11-27/
LOCATION:Lou Garcia Room
CATEGORIES:Formation
END:VEVENT
END:VCALENDAR