BEGIN:VCALENDAR
VERSION:2.0
PRODID:-//Church of the Good Shepherd - ECPv6.15.20//NONSGML v1.0//EN
CALSCALE:GREGORIAN
METHOD:PUBLISH
X-ORIGINAL-URL:https://gslookout.org
X-WR-CALDESC:Events for Church of the Good Shepherd
REFRESH-INTERVAL;VALUE=DURATION:PT1H
X-Robots-Tag:noindex
X-PUBLISHED-TTL:PT1H
BEGIN:VTIMEZONE
TZID:America/New_York
BEGIN:DAYLIGHT
TZOFFSETFROM:-0500
TZOFFSETTO:-0400
TZNAME:EDT
DTSTART:20290311T070000
END:DAYLIGHT
BEGIN:STANDARD
TZOFFSETFROM:-0400
TZOFFSETTO:-0500
TZNAME:EST
DTSTART:20291104T060000
END:STANDARD
BEGIN:DAYLIGHT
TZOFFSETFROM:-0500
TZOFFSETTO:-0400
TZNAME:EDT
DTSTART:20300310T070000
END:DAYLIGHT
BEGIN:STANDARD
TZOFFSETFROM:-0400
TZOFFSETTO:-0500
TZNAME:EST
DTSTART:20301103T060000
END:STANDARD
BEGIN:DAYLIGHT
TZOFFSETFROM:-0500
TZOFFSETTO:-0400
TZNAME:EDT
DTSTART:20310309T070000
END:DAYLIGHT
BEGIN:STANDARD
TZOFFSETFROM:-0400
TZOFFSETTO:-0500
TZNAME:EST
DTSTART:20311102T060000
END:STANDARD
END:VTIMEZONE
BEGIN:VEVENT
DTSTART;TZID=America/New_York:20300101T100000
DTEND;TZID=America/New_York:20300101T103000
DTSTAMP:20260421T051016
CREATED:20221103T210703Z
LAST-MODIFIED:20230627T182417Z
UID:10015805-1893492000-1893493800@gslookout.org
SUMMARY:Intercessory Prayer Group
DESCRIPTION:
URL:https://gslookout.org/event/intercessory-prayer-group-2/2030-01-01/
LOCATION:Chapel
CATEGORIES:Formation,Worship
END:VEVENT
BEGIN:VEVENT
DTSTART;TZID=America/New_York:20300101T113000
DTEND;TZID=America/New_York:20300101T120000
DTSTAMP:20260421T051016
CREATED:20221103T210420Z
LAST-MODIFIED:20230627T182618Z
UID:10015985-1893497400-1893499200@gslookout.org
SUMMARY:Centering Prayer
DESCRIPTION:
URL:https://gslookout.org/event/centering-prayer-2/2030-01-01/
LOCATION:Lou Garcia Room
CATEGORIES:Formation
END:VEVENT
BEGIN:VEVENT
DTSTART;TZID=America/New_York:20300102T070000
DTEND;TZID=America/New_York:20300102T200000
DTSTAMP:20260421T051016
CREATED:20230127T161734Z
LAST-MODIFIED:20230127T161734Z
UID:10016289-1893567600-1893614400@gslookout.org
SUMMARY:Men's Bible Study
DESCRIPTION:
URL:https://gslookout.org/event/mens-bible-study/2030-01-02/
LOCATION:Talbird Hall
CATEGORIES:Formation
END:VEVENT
BEGIN:VEVENT
DTSTART;TZID=America/New_York:20300102T183000
DTEND;TZID=America/New_York:20300102T193000
DTSTAMP:20260421T051016
CREATED:20230127T163955Z
LAST-MODIFIED:20230127T165113Z
UID:10016824-1893609000-1893612600@gslookout.org
SUMMARY:Wednesday Night Youth
DESCRIPTION:
URL:https://gslookout.org/event/wednesday-night-youth/2030-01-02/
LOCATION:Youth Building
CATEGORIES:Formation,Youth
END:VEVENT
BEGIN:VEVENT
DTSTART;TZID=America/New_York:20300103T103000
DTEND;TZID=America/New_York:20300103T233000
DTSTAMP:20260421T051016
CREATED:20241122T224001Z
LAST-MODIFIED:20241122T224019Z
UID:10018965-1893666600-1893713400@gslookout.org
SUMMARY:Thursday Bible Study
DESCRIPTION:
URL:https://gslookout.org/event/thursday-bible-study-2/2030-01-03/
LOCATION:Talbird Hall
CATEGORIES:Formation
END:VEVENT
BEGIN:VEVENT
DTSTART;TZID=America/New_York:20300106T091500
DTEND;TZID=America/New_York:20300106T101500
DTSTAMP:20260421T051016
CREATED:20230127T162550Z
LAST-MODIFIED:20230127T162550Z
UID:10018873-1893921300-1893924900@gslookout.org
SUMMARY:Lectionary Bible Study
DESCRIPTION:
URL:https://gslookout.org/event/lectionary-bible-study/2030-01-06/
LOCATION:Library
CATEGORIES:Formation
END:VEVENT
BEGIN:VEVENT
DTSTART;TZID=America/New_York:20300106T091500
DTEND;TZID=America/New_York:20300106T101500
DTSTAMP:20260421T051016
CREATED:20230127T163036Z
LAST-MODIFIED:20230127T163036Z
UID:10016666-1893921300-1893924900@gslookout.org
SUMMARY:Coffee & Conversations
DESCRIPTION:
URL:https://gslookout.org/event/coffee-conversations/2030-01-06/
LOCATION:Lupton Reading Room
CATEGORIES:Formation
END:VEVENT
BEGIN:VEVENT
DTSTART;TZID=America/New_York:20300106T103000
DTEND;TZID=America/New_York:20300106T233000
DTSTAMP:20260421T051016
CREATED:20230908T210148Z
LAST-MODIFIED:20230908T210149Z
UID:10017741-1893925800-1893972600@gslookout.org
SUMMARY:Youth Breakfast & Sunday School
DESCRIPTION:
URL:https://gslookout.org/event/youth-breakfast-sunday-school-2/2030-01-06/
LOCATION:Youth Building
CATEGORIES:Formation,Youth
END:VEVENT
BEGIN:VEVENT
DTSTART;TZID=America/New_York:20300108T100000
DTEND;TZID=America/New_York:20300108T103000
DTSTAMP:20260421T051016
CREATED:20221103T210703Z
LAST-MODIFIED:20230627T182417Z
UID:10015806-1894096800-1894098600@gslookout.org
SUMMARY:Intercessory Prayer Group
DESCRIPTION:
URL:https://gslookout.org/event/intercessory-prayer-group-2/2030-01-08/
LOCATION:Chapel
CATEGORIES:Formation,Worship
END:VEVENT
BEGIN:VEVENT
DTSTART;TZID=America/New_York:20300108T113000
DTEND;TZID=America/New_York:20300108T120000
DTSTAMP:20260421T051016
CREATED:20221103T210420Z
LAST-MODIFIED:20230627T182618Z
UID:10015986-1894102200-1894104000@gslookout.org
SUMMARY:Centering Prayer
DESCRIPTION:
URL:https://gslookout.org/event/centering-prayer-2/2030-01-08/
LOCATION:Lou Garcia Room
CATEGORIES:Formation
END:VEVENT
BEGIN:VEVENT
DTSTART;TZID=America/New_York:20300109T070000
DTEND;TZID=America/New_York:20300109T200000
DTSTAMP:20260421T051016
CREATED:20230127T161734Z
LAST-MODIFIED:20230127T161734Z
UID:10016290-1894172400-1894219200@gslookout.org
SUMMARY:Men's Bible Study
DESCRIPTION:
URL:https://gslookout.org/event/mens-bible-study/2030-01-09/
LOCATION:Talbird Hall
CATEGORIES:Formation
END:VEVENT
BEGIN:VEVENT
DTSTART;TZID=America/New_York:20300109T183000
DTEND;TZID=America/New_York:20300109T193000
DTSTAMP:20260421T051016
CREATED:20230127T163955Z
LAST-MODIFIED:20230127T165113Z
UID:10016825-1894213800-1894217400@gslookout.org
SUMMARY:Wednesday Night Youth
DESCRIPTION:
URL:https://gslookout.org/event/wednesday-night-youth/2030-01-09/
LOCATION:Youth Building
CATEGORIES:Formation,Youth
END:VEVENT
BEGIN:VEVENT
DTSTART;TZID=America/New_York:20300110T103000
DTEND;TZID=America/New_York:20300110T233000
DTSTAMP:20260421T051016
CREATED:20241122T224001Z
LAST-MODIFIED:20241122T224019Z
UID:10018966-1894271400-1894318200@gslookout.org
SUMMARY:Thursday Bible Study
DESCRIPTION:
URL:https://gslookout.org/event/thursday-bible-study-2/2030-01-10/
LOCATION:Talbird Hall
CATEGORIES:Formation
END:VEVENT
BEGIN:VEVENT
DTSTART;TZID=America/New_York:20300113T091500
DTEND;TZID=America/New_York:20300113T101500
DTSTAMP:20260421T051016
CREATED:20230127T162550Z
LAST-MODIFIED:20230127T162550Z
UID:10018874-1894526100-1894529700@gslookout.org
SUMMARY:Lectionary Bible Study
DESCRIPTION:
URL:https://gslookout.org/event/lectionary-bible-study/2030-01-13/
LOCATION:Library
CATEGORIES:Formation
END:VEVENT
BEGIN:VEVENT
DTSTART;TZID=America/New_York:20300113T091500
DTEND;TZID=America/New_York:20300113T101500
DTSTAMP:20260421T051016
CREATED:20230127T163036Z
LAST-MODIFIED:20230127T163036Z
UID:10016667-1894526100-1894529700@gslookout.org
SUMMARY:Coffee & Conversations
DESCRIPTION:
URL:https://gslookout.org/event/coffee-conversations/2030-01-13/
LOCATION:Lupton Reading Room
CATEGORIES:Formation
END:VEVENT
BEGIN:VEVENT
DTSTART;TZID=America/New_York:20300113T103000
DTEND;TZID=America/New_York:20300113T233000
DTSTAMP:20260421T051016
CREATED:20230908T210148Z
LAST-MODIFIED:20230908T210149Z
UID:10017742-1894530600-1894577400@gslookout.org
SUMMARY:Youth Breakfast & Sunday School
DESCRIPTION:
URL:https://gslookout.org/event/youth-breakfast-sunday-school-2/2030-01-13/
LOCATION:Youth Building
CATEGORIES:Formation,Youth
END:VEVENT
BEGIN:VEVENT
DTSTART;TZID=America/New_York:20300115T100000
DTEND;TZID=America/New_York:20300115T103000
DTSTAMP:20260421T051016
CREATED:20221103T210703Z
LAST-MODIFIED:20230627T182417Z
UID:10015807-1894701600-1894703400@gslookout.org
SUMMARY:Intercessory Prayer Group
DESCRIPTION:
URL:https://gslookout.org/event/intercessory-prayer-group-2/2030-01-15/
LOCATION:Chapel
CATEGORIES:Formation,Worship
END:VEVENT
BEGIN:VEVENT
DTSTART;TZID=America/New_York:20300115T113000
DTEND;TZID=America/New_York:20300115T120000
DTSTAMP:20260421T051016
CREATED:20221103T210420Z
LAST-MODIFIED:20230627T182618Z
UID:10015987-1894707000-1894708800@gslookout.org
SUMMARY:Centering Prayer
DESCRIPTION:
URL:https://gslookout.org/event/centering-prayer-2/2030-01-15/
LOCATION:Lou Garcia Room
CATEGORIES:Formation
END:VEVENT
BEGIN:VEVENT
DTSTART;TZID=America/New_York:20300116T070000
DTEND;TZID=America/New_York:20300116T200000
DTSTAMP:20260421T051016
CREATED:20230127T161734Z
LAST-MODIFIED:20230127T161734Z
UID:10016291-1894777200-1894824000@gslookout.org
SUMMARY:Men's Bible Study
DESCRIPTION:
URL:https://gslookout.org/event/mens-bible-study/2030-01-16/
LOCATION:Talbird Hall
CATEGORIES:Formation
END:VEVENT
BEGIN:VEVENT
DTSTART;TZID=America/New_York:20300116T183000
DTEND;TZID=America/New_York:20300116T193000
DTSTAMP:20260421T051016
CREATED:20230127T163955Z
LAST-MODIFIED:20230127T165113Z
UID:10016826-1894818600-1894822200@gslookout.org
SUMMARY:Wednesday Night Youth
DESCRIPTION:
URL:https://gslookout.org/event/wednesday-night-youth/2030-01-16/
LOCATION:Youth Building
CATEGORIES:Formation,Youth
END:VEVENT
BEGIN:VEVENT
DTSTART;TZID=America/New_York:20300117T103000
DTEND;TZID=America/New_York:20300117T233000
DTSTAMP:20260421T051016
CREATED:20241122T224001Z
LAST-MODIFIED:20241122T224019Z
UID:10018967-1894876200-1894923000@gslookout.org
SUMMARY:Thursday Bible Study
DESCRIPTION:
URL:https://gslookout.org/event/thursday-bible-study-2/2030-01-17/
LOCATION:Talbird Hall
CATEGORIES:Formation
END:VEVENT
BEGIN:VEVENT
DTSTART;TZID=America/New_York:20300120T091500
DTEND;TZID=America/New_York:20300120T101500
DTSTAMP:20260421T051016
CREATED:20230127T162550Z
LAST-MODIFIED:20230127T162550Z
UID:10018875-1895130900-1895134500@gslookout.org
SUMMARY:Lectionary Bible Study
DESCRIPTION:
URL:https://gslookout.org/event/lectionary-bible-study/2030-01-20/
LOCATION:Library
CATEGORIES:Formation
END:VEVENT
BEGIN:VEVENT
DTSTART;TZID=America/New_York:20300120T091500
DTEND;TZID=America/New_York:20300120T101500
DTSTAMP:20260421T051016
CREATED:20230127T163036Z
LAST-MODIFIED:20230127T163036Z
UID:10016668-1895130900-1895134500@gslookout.org
SUMMARY:Coffee & Conversations
DESCRIPTION:
URL:https://gslookout.org/event/coffee-conversations/2030-01-20/
LOCATION:Lupton Reading Room
CATEGORIES:Formation
END:VEVENT
BEGIN:VEVENT
DTSTART;TZID=America/New_York:20300120T103000
DTEND;TZID=America/New_York:20300120T233000
DTSTAMP:20260421T051016
CREATED:20230908T210148Z
LAST-MODIFIED:20230908T210149Z
UID:10017743-1895135400-1895182200@gslookout.org
SUMMARY:Youth Breakfast & Sunday School
DESCRIPTION:
URL:https://gslookout.org/event/youth-breakfast-sunday-school-2/2030-01-20/
LOCATION:Youth Building
CATEGORIES:Formation,Youth
END:VEVENT
BEGIN:VEVENT
DTSTART;TZID=America/New_York:20300122T100000
DTEND;TZID=America/New_York:20300122T103000
DTSTAMP:20260421T051016
CREATED:20221103T210703Z
LAST-MODIFIED:20230627T182417Z
UID:10015808-1895306400-1895308200@gslookout.org
SUMMARY:Intercessory Prayer Group
DESCRIPTION:
URL:https://gslookout.org/event/intercessory-prayer-group-2/2030-01-22/
LOCATION:Chapel
CATEGORIES:Formation,Worship
END:VEVENT
BEGIN:VEVENT
DTSTART;TZID=America/New_York:20300122T113000
DTEND;TZID=America/New_York:20300122T120000
DTSTAMP:20260421T051016
CREATED:20221103T210420Z
LAST-MODIFIED:20230627T182618Z
UID:10015988-1895311800-1895313600@gslookout.org
SUMMARY:Centering Prayer
DESCRIPTION:
URL:https://gslookout.org/event/centering-prayer-2/2030-01-22/
LOCATION:Lou Garcia Room
CATEGORIES:Formation
END:VEVENT
BEGIN:VEVENT
DTSTART;TZID=America/New_York:20300123T070000
DTEND;TZID=America/New_York:20300123T200000
DTSTAMP:20260421T051016
CREATED:20230127T161734Z
LAST-MODIFIED:20230127T161734Z
UID:10016292-1895382000-1895428800@gslookout.org
SUMMARY:Men's Bible Study
DESCRIPTION:
URL:https://gslookout.org/event/mens-bible-study/2030-01-23/
LOCATION:Talbird Hall
CATEGORIES:Formation
END:VEVENT
BEGIN:VEVENT
DTSTART;TZID=America/New_York:20300123T183000
DTEND;TZID=America/New_York:20300123T193000
DTSTAMP:20260421T051016
CREATED:20230127T163955Z
LAST-MODIFIED:20230127T165113Z
UID:10016827-1895423400-1895427000@gslookout.org
SUMMARY:Wednesday Night Youth
DESCRIPTION:
URL:https://gslookout.org/event/wednesday-night-youth/2030-01-23/
LOCATION:Youth Building
CATEGORIES:Formation,Youth
END:VEVENT
BEGIN:VEVENT
DTSTART;TZID=America/New_York:20300124T103000
DTEND;TZID=America/New_York:20300124T233000
DTSTAMP:20260421T051016
CREATED:20241122T224001Z
LAST-MODIFIED:20241122T224019Z
UID:10018968-1895481000-1895527800@gslookout.org
SUMMARY:Thursday Bible Study
DESCRIPTION:
URL:https://gslookout.org/event/thursday-bible-study-2/2030-01-24/
LOCATION:Talbird Hall
CATEGORIES:Formation
END:VEVENT
BEGIN:VEVENT
DTSTART;TZID=America/New_York:20300127T091500
DTEND;TZID=America/New_York:20300127T101500
DTSTAMP:20260421T051016
CREATED:20230127T162550Z
LAST-MODIFIED:20230127T162550Z
UID:10018876-1895735700-1895739300@gslookout.org
SUMMARY:Lectionary Bible Study
DESCRIPTION:
URL:https://gslookout.org/event/lectionary-bible-study/2030-01-27/
LOCATION:Library
CATEGORIES:Formation
END:VEVENT
END:VCALENDAR