BEGIN:VCALENDAR
VERSION:2.0
PRODID:-//Church of the Good Shepherd - ECPv6.15.20//NONSGML v1.0//EN
CALSCALE:GREGORIAN
METHOD:PUBLISH
X-ORIGINAL-URL:https://gslookout.org
X-WR-CALDESC:Events for Church of the Good Shepherd
REFRESH-INTERVAL;VALUE=DURATION:PT1H
X-Robots-Tag:noindex
X-PUBLISHED-TTL:PT1H
BEGIN:VTIMEZONE
TZID:America/New_York
BEGIN:DAYLIGHT
TZOFFSETFROM:-0500
TZOFFSETTO:-0400
TZNAME:EDT
DTSTART:20290311T070000
END:DAYLIGHT
BEGIN:STANDARD
TZOFFSETFROM:-0400
TZOFFSETTO:-0500
TZNAME:EST
DTSTART:20291104T060000
END:STANDARD
BEGIN:DAYLIGHT
TZOFFSETFROM:-0500
TZOFFSETTO:-0400
TZNAME:EDT
DTSTART:20300310T070000
END:DAYLIGHT
BEGIN:STANDARD
TZOFFSETFROM:-0400
TZOFFSETTO:-0500
TZNAME:EST
DTSTART:20301103T060000
END:STANDARD
BEGIN:DAYLIGHT
TZOFFSETFROM:-0500
TZOFFSETTO:-0400
TZNAME:EDT
DTSTART:20310309T070000
END:DAYLIGHT
BEGIN:STANDARD
TZOFFSETFROM:-0400
TZOFFSETTO:-0500
TZNAME:EST
DTSTART:20311102T060000
END:STANDARD
END:VTIMEZONE
BEGIN:VEVENT
DTSTART;TZID=America/New_York:20300203T091500
DTEND;TZID=America/New_York:20300203T101500
DTSTAMP:20260421T064607
CREATED:20230127T162550Z
LAST-MODIFIED:20230127T162550Z
UID:10018877-1896340500-1896344100@gslookout.org
SUMMARY:Lectionary Bible Study
DESCRIPTION:
URL:https://gslookout.org/event/lectionary-bible-study/2030-02-03/
LOCATION:Library
CATEGORIES:Formation
END:VEVENT
BEGIN:VEVENT
DTSTART;TZID=America/New_York:20300203T091500
DTEND;TZID=America/New_York:20300203T101500
DTSTAMP:20260421T064607
CREATED:20230127T163036Z
LAST-MODIFIED:20230127T163036Z
UID:10016670-1896340500-1896344100@gslookout.org
SUMMARY:Coffee & Conversations
DESCRIPTION:
URL:https://gslookout.org/event/coffee-conversations/2030-02-03/
LOCATION:Lupton Reading Room
CATEGORIES:Formation
END:VEVENT
BEGIN:VEVENT
DTSTART;TZID=America/New_York:20300203T103000
DTEND;TZID=America/New_York:20300203T233000
DTSTAMP:20260421T064607
CREATED:20230908T210148Z
LAST-MODIFIED:20230908T210149Z
UID:10017745-1896345000-1896391800@gslookout.org
SUMMARY:Youth Breakfast & Sunday School
DESCRIPTION:
URL:https://gslookout.org/event/youth-breakfast-sunday-school-2/2030-02-03/
LOCATION:Youth Building
CATEGORIES:Formation,Youth
END:VEVENT
BEGIN:VEVENT
DTSTART;TZID=America/New_York:20300205T100000
DTEND;TZID=America/New_York:20300205T103000
DTSTAMP:20260421T064607
CREATED:20221103T210703Z
LAST-MODIFIED:20230627T182417Z
UID:10015810-1896516000-1896517800@gslookout.org
SUMMARY:Intercessory Prayer Group
DESCRIPTION:
URL:https://gslookout.org/event/intercessory-prayer-group-2/2030-02-05/
LOCATION:Chapel
CATEGORIES:Formation,Worship
END:VEVENT
BEGIN:VEVENT
DTSTART;TZID=America/New_York:20300205T113000
DTEND;TZID=America/New_York:20300205T120000
DTSTAMP:20260421T064607
CREATED:20221103T210420Z
LAST-MODIFIED:20230627T182618Z
UID:10015990-1896521400-1896523200@gslookout.org
SUMMARY:Centering Prayer
DESCRIPTION:
URL:https://gslookout.org/event/centering-prayer-2/2030-02-05/
LOCATION:Lou Garcia Room
CATEGORIES:Formation
END:VEVENT
BEGIN:VEVENT
DTSTART;TZID=America/New_York:20300206T070000
DTEND;TZID=America/New_York:20300206T200000
DTSTAMP:20260421T064607
CREATED:20230127T161734Z
LAST-MODIFIED:20230127T161734Z
UID:10016294-1896591600-1896638400@gslookout.org
SUMMARY:Men's Bible Study
DESCRIPTION:
URL:https://gslookout.org/event/mens-bible-study/2030-02-06/
LOCATION:Talbird Hall
CATEGORIES:Formation
END:VEVENT
BEGIN:VEVENT
DTSTART;TZID=America/New_York:20300206T183000
DTEND;TZID=America/New_York:20300206T193000
DTSTAMP:20260421T064607
CREATED:20230127T163955Z
LAST-MODIFIED:20230127T165113Z
UID:10016829-1896633000-1896636600@gslookout.org
SUMMARY:Wednesday Night Youth
DESCRIPTION:
URL:https://gslookout.org/event/wednesday-night-youth/2030-02-06/
LOCATION:Youth Building
CATEGORIES:Formation,Youth
END:VEVENT
BEGIN:VEVENT
DTSTART;TZID=America/New_York:20300207T103000
DTEND;TZID=America/New_York:20300207T233000
DTSTAMP:20260421T064607
CREATED:20241122T224001Z
LAST-MODIFIED:20241122T224019Z
UID:10018970-1896690600-1896737400@gslookout.org
SUMMARY:Thursday Bible Study
DESCRIPTION:
URL:https://gslookout.org/event/thursday-bible-study-2/2030-02-07/
LOCATION:Talbird Hall
CATEGORIES:Formation
END:VEVENT
BEGIN:VEVENT
DTSTART;TZID=America/New_York:20300210T091500
DTEND;TZID=America/New_York:20300210T101500
DTSTAMP:20260421T064607
CREATED:20230127T162550Z
LAST-MODIFIED:20230127T162550Z
UID:10018878-1896945300-1896948900@gslookout.org
SUMMARY:Lectionary Bible Study
DESCRIPTION:
URL:https://gslookout.org/event/lectionary-bible-study/2030-02-10/
LOCATION:Library
CATEGORIES:Formation
END:VEVENT
BEGIN:VEVENT
DTSTART;TZID=America/New_York:20300210T091500
DTEND;TZID=America/New_York:20300210T101500
DTSTAMP:20260421T064607
CREATED:20230127T163036Z
LAST-MODIFIED:20230127T163036Z
UID:10016671-1896945300-1896948900@gslookout.org
SUMMARY:Coffee & Conversations
DESCRIPTION:
URL:https://gslookout.org/event/coffee-conversations/2030-02-10/
LOCATION:Lupton Reading Room
CATEGORIES:Formation
END:VEVENT
BEGIN:VEVENT
DTSTART;TZID=America/New_York:20300210T103000
DTEND;TZID=America/New_York:20300210T233000
DTSTAMP:20260421T064607
CREATED:20230908T210148Z
LAST-MODIFIED:20230908T210149Z
UID:10017746-1896949800-1896996600@gslookout.org
SUMMARY:Youth Breakfast & Sunday School
DESCRIPTION:
URL:https://gslookout.org/event/youth-breakfast-sunday-school-2/2030-02-10/
LOCATION:Youth Building
CATEGORIES:Formation,Youth
END:VEVENT
BEGIN:VEVENT
DTSTART;TZID=America/New_York:20300212T100000
DTEND;TZID=America/New_York:20300212T103000
DTSTAMP:20260421T064607
CREATED:20221103T210703Z
LAST-MODIFIED:20230627T182417Z
UID:10015811-1897120800-1897122600@gslookout.org
SUMMARY:Intercessory Prayer Group
DESCRIPTION:
URL:https://gslookout.org/event/intercessory-prayer-group-2/2030-02-12/
LOCATION:Chapel
CATEGORIES:Formation,Worship
END:VEVENT
BEGIN:VEVENT
DTSTART;TZID=America/New_York:20300212T113000
DTEND;TZID=America/New_York:20300212T120000
DTSTAMP:20260421T064607
CREATED:20221103T210420Z
LAST-MODIFIED:20230627T182618Z
UID:10015991-1897126200-1897128000@gslookout.org
SUMMARY:Centering Prayer
DESCRIPTION:
URL:https://gslookout.org/event/centering-prayer-2/2030-02-12/
LOCATION:Lou Garcia Room
CATEGORIES:Formation
END:VEVENT
BEGIN:VEVENT
DTSTART;TZID=America/New_York:20300213T070000
DTEND;TZID=America/New_York:20300213T200000
DTSTAMP:20260421T064608
CREATED:20230127T161734Z
LAST-MODIFIED:20230127T161734Z
UID:10016295-1897196400-1897243200@gslookout.org
SUMMARY:Men's Bible Study
DESCRIPTION:
URL:https://gslookout.org/event/mens-bible-study/2030-02-13/
LOCATION:Talbird Hall
CATEGORIES:Formation
END:VEVENT
BEGIN:VEVENT
DTSTART;TZID=America/New_York:20300213T183000
DTEND;TZID=America/New_York:20300213T193000
DTSTAMP:20260421T064608
CREATED:20230127T163955Z
LAST-MODIFIED:20230127T165113Z
UID:10016830-1897237800-1897241400@gslookout.org
SUMMARY:Wednesday Night Youth
DESCRIPTION:
URL:https://gslookout.org/event/wednesday-night-youth/2030-02-13/
LOCATION:Youth Building
CATEGORIES:Formation,Youth
END:VEVENT
BEGIN:VEVENT
DTSTART;TZID=America/New_York:20300214T103000
DTEND;TZID=America/New_York:20300214T233000
DTSTAMP:20260421T064608
CREATED:20241122T224001Z
LAST-MODIFIED:20241122T224019Z
UID:10018971-1897295400-1897342200@gslookout.org
SUMMARY:Thursday Bible Study
DESCRIPTION:
URL:https://gslookout.org/event/thursday-bible-study-2/2030-02-14/
LOCATION:Talbird Hall
CATEGORIES:Formation
END:VEVENT
BEGIN:VEVENT
DTSTART;TZID=America/New_York:20300217T091500
DTEND;TZID=America/New_York:20300217T101500
DTSTAMP:20260421T064608
CREATED:20230127T162550Z
LAST-MODIFIED:20230127T162550Z
UID:10018879-1897550100-1897553700@gslookout.org
SUMMARY:Lectionary Bible Study
DESCRIPTION:
URL:https://gslookout.org/event/lectionary-bible-study/2030-02-17/
LOCATION:Library
CATEGORIES:Formation
END:VEVENT
BEGIN:VEVENT
DTSTART;TZID=America/New_York:20300217T091500
DTEND;TZID=America/New_York:20300217T101500
DTSTAMP:20260421T064608
CREATED:20230127T163036Z
LAST-MODIFIED:20230127T163036Z
UID:10016672-1897550100-1897553700@gslookout.org
SUMMARY:Coffee & Conversations
DESCRIPTION:
URL:https://gslookout.org/event/coffee-conversations/2030-02-17/
LOCATION:Lupton Reading Room
CATEGORIES:Formation
END:VEVENT
BEGIN:VEVENT
DTSTART;TZID=America/New_York:20300217T103000
DTEND;TZID=America/New_York:20300217T233000
DTSTAMP:20260421T064608
CREATED:20230908T210148Z
LAST-MODIFIED:20230908T210149Z
UID:10017747-1897554600-1897601400@gslookout.org
SUMMARY:Youth Breakfast & Sunday School
DESCRIPTION:
URL:https://gslookout.org/event/youth-breakfast-sunday-school-2/2030-02-17/
LOCATION:Youth Building
CATEGORIES:Formation,Youth
END:VEVENT
BEGIN:VEVENT
DTSTART;TZID=America/New_York:20300219T100000
DTEND;TZID=America/New_York:20300219T103000
DTSTAMP:20260421T064608
CREATED:20221103T210703Z
LAST-MODIFIED:20230627T182417Z
UID:10015812-1897725600-1897727400@gslookout.org
SUMMARY:Intercessory Prayer Group
DESCRIPTION:
URL:https://gslookout.org/event/intercessory-prayer-group-2/2030-02-19/
LOCATION:Chapel
CATEGORIES:Formation,Worship
END:VEVENT
BEGIN:VEVENT
DTSTART;TZID=America/New_York:20300219T113000
DTEND;TZID=America/New_York:20300219T120000
DTSTAMP:20260421T064608
CREATED:20221103T210420Z
LAST-MODIFIED:20230627T182618Z
UID:10015992-1897731000-1897732800@gslookout.org
SUMMARY:Centering Prayer
DESCRIPTION:
URL:https://gslookout.org/event/centering-prayer-2/2030-02-19/
LOCATION:Lou Garcia Room
CATEGORIES:Formation
END:VEVENT
BEGIN:VEVENT
DTSTART;TZID=America/New_York:20300220T070000
DTEND;TZID=America/New_York:20300220T200000
DTSTAMP:20260421T064608
CREATED:20230127T161734Z
LAST-MODIFIED:20230127T161734Z
UID:10016296-1897801200-1897848000@gslookout.org
SUMMARY:Men's Bible Study
DESCRIPTION:
URL:https://gslookout.org/event/mens-bible-study/2030-02-20/
LOCATION:Talbird Hall
CATEGORIES:Formation
END:VEVENT
BEGIN:VEVENT
DTSTART;TZID=America/New_York:20300220T183000
DTEND;TZID=America/New_York:20300220T193000
DTSTAMP:20260421T064608
CREATED:20230127T163955Z
LAST-MODIFIED:20230127T165113Z
UID:10016831-1897842600-1897846200@gslookout.org
SUMMARY:Wednesday Night Youth
DESCRIPTION:
URL:https://gslookout.org/event/wednesday-night-youth/2030-02-20/
LOCATION:Youth Building
CATEGORIES:Formation,Youth
END:VEVENT
BEGIN:VEVENT
DTSTART;TZID=America/New_York:20300221T103000
DTEND;TZID=America/New_York:20300221T233000
DTSTAMP:20260421T064608
CREATED:20241122T224001Z
LAST-MODIFIED:20241122T224019Z
UID:10018972-1897900200-1897947000@gslookout.org
SUMMARY:Thursday Bible Study
DESCRIPTION:
URL:https://gslookout.org/event/thursday-bible-study-2/2030-02-21/
LOCATION:Talbird Hall
CATEGORIES:Formation
END:VEVENT
BEGIN:VEVENT
DTSTART;TZID=America/New_York:20300224T091500
DTEND;TZID=America/New_York:20300224T101500
DTSTAMP:20260421T064608
CREATED:20230127T162550Z
LAST-MODIFIED:20230127T162550Z
UID:10018880-1898154900-1898158500@gslookout.org
SUMMARY:Lectionary Bible Study
DESCRIPTION:
URL:https://gslookout.org/event/lectionary-bible-study/2030-02-24/
LOCATION:Library
CATEGORIES:Formation
END:VEVENT
BEGIN:VEVENT
DTSTART;TZID=America/New_York:20300224T091500
DTEND;TZID=America/New_York:20300224T101500
DTSTAMP:20260421T064608
CREATED:20230127T163036Z
LAST-MODIFIED:20230127T163036Z
UID:10016673-1898154900-1898158500@gslookout.org
SUMMARY:Coffee & Conversations
DESCRIPTION:
URL:https://gslookout.org/event/coffee-conversations/2030-02-24/
LOCATION:Lupton Reading Room
CATEGORIES:Formation
END:VEVENT
BEGIN:VEVENT
DTSTART;TZID=America/New_York:20300224T103000
DTEND;TZID=America/New_York:20300224T233000
DTSTAMP:20260421T064608
CREATED:20230908T210148Z
LAST-MODIFIED:20230908T210149Z
UID:10017748-1898159400-1898206200@gslookout.org
SUMMARY:Youth Breakfast & Sunday School
DESCRIPTION:
URL:https://gslookout.org/event/youth-breakfast-sunday-school-2/2030-02-24/
LOCATION:Youth Building
CATEGORIES:Formation,Youth
END:VEVENT
BEGIN:VEVENT
DTSTART;TZID=America/New_York:20300226T100000
DTEND;TZID=America/New_York:20300226T103000
DTSTAMP:20260421T064608
CREATED:20221103T210703Z
LAST-MODIFIED:20230627T182417Z
UID:10015813-1898330400-1898332200@gslookout.org
SUMMARY:Intercessory Prayer Group
DESCRIPTION:
URL:https://gslookout.org/event/intercessory-prayer-group-2/2030-02-26/
LOCATION:Chapel
CATEGORIES:Formation,Worship
END:VEVENT
BEGIN:VEVENT
DTSTART;TZID=America/New_York:20300226T113000
DTEND;TZID=America/New_York:20300226T120000
DTSTAMP:20260421T064608
CREATED:20221103T210420Z
LAST-MODIFIED:20230627T182618Z
UID:10015993-1898335800-1898337600@gslookout.org
SUMMARY:Centering Prayer
DESCRIPTION:
URL:https://gslookout.org/event/centering-prayer-2/2030-02-26/
LOCATION:Lou Garcia Room
CATEGORIES:Formation
END:VEVENT
BEGIN:VEVENT
DTSTART;TZID=America/New_York:20300227T070000
DTEND;TZID=America/New_York:20300227T200000
DTSTAMP:20260421T064608
CREATED:20230127T161734Z
LAST-MODIFIED:20230127T161734Z
UID:10016297-1898406000-1898452800@gslookout.org
SUMMARY:Men's Bible Study
DESCRIPTION:
URL:https://gslookout.org/event/mens-bible-study/2030-02-27/
LOCATION:Talbird Hall
CATEGORIES:Formation
END:VEVENT
END:VCALENDAR