BEGIN:VCALENDAR
VERSION:2.0
PRODID:-//Church of the Good Shepherd - ECPv6.15.20//NONSGML v1.0//EN
CALSCALE:GREGORIAN
METHOD:PUBLISH
X-ORIGINAL-URL:https://gslookout.org
X-WR-CALDESC:Events for Church of the Good Shepherd
REFRESH-INTERVAL;VALUE=DURATION:PT1H
X-Robots-Tag:noindex
X-PUBLISHED-TTL:PT1H
BEGIN:VTIMEZONE
TZID:America/New_York
BEGIN:DAYLIGHT
TZOFFSETFROM:-0500
TZOFFSETTO:-0400
TZNAME:EDT
DTSTART:20290311T070000
END:DAYLIGHT
BEGIN:STANDARD
TZOFFSETFROM:-0400
TZOFFSETTO:-0500
TZNAME:EST
DTSTART:20291104T060000
END:STANDARD
BEGIN:DAYLIGHT
TZOFFSETFROM:-0500
TZOFFSETTO:-0400
TZNAME:EDT
DTSTART:20300310T070000
END:DAYLIGHT
BEGIN:STANDARD
TZOFFSETFROM:-0400
TZOFFSETTO:-0500
TZNAME:EST
DTSTART:20301103T060000
END:STANDARD
BEGIN:DAYLIGHT
TZOFFSETFROM:-0500
TZOFFSETTO:-0400
TZNAME:EDT
DTSTART:20310309T070000
END:DAYLIGHT
BEGIN:STANDARD
TZOFFSETFROM:-0400
TZOFFSETTO:-0500
TZNAME:EST
DTSTART:20311102T060000
END:STANDARD
END:VTIMEZONE
BEGIN:VEVENT
DTSTART;TZID=America/New_York:20300303T091500
DTEND;TZID=America/New_York:20300303T101500
DTSTAMP:20260421T100958
CREATED:20230127T162550Z
LAST-MODIFIED:20230127T162550Z
UID:10018881-1898759700-1898763300@gslookout.org
SUMMARY:Lectionary Bible Study
DESCRIPTION:
URL:https://gslookout.org/event/lectionary-bible-study/2030-03-03/
LOCATION:Library
CATEGORIES:Formation
END:VEVENT
BEGIN:VEVENT
DTSTART;TZID=America/New_York:20300303T091500
DTEND;TZID=America/New_York:20300303T101500
DTSTAMP:20260421T100958
CREATED:20230127T163036Z
LAST-MODIFIED:20230127T163036Z
UID:10016674-1898759700-1898763300@gslookout.org
SUMMARY:Coffee & Conversations
DESCRIPTION:
URL:https://gslookout.org/event/coffee-conversations/2030-03-03/
LOCATION:Lupton Reading Room
CATEGORIES:Formation
END:VEVENT
BEGIN:VEVENT
DTSTART;TZID=America/New_York:20300303T103000
DTEND;TZID=America/New_York:20300303T233000
DTSTAMP:20260421T100958
CREATED:20230908T210148Z
LAST-MODIFIED:20230908T210149Z
UID:10017749-1898764200-1898811000@gslookout.org
SUMMARY:Youth Breakfast & Sunday School
DESCRIPTION:
URL:https://gslookout.org/event/youth-breakfast-sunday-school-2/2030-03-03/
LOCATION:Youth Building
CATEGORIES:Formation,Youth
END:VEVENT
BEGIN:VEVENT
DTSTART;TZID=America/New_York:20300305T100000
DTEND;TZID=America/New_York:20300305T103000
DTSTAMP:20260421T100958
CREATED:20221103T210703Z
LAST-MODIFIED:20230627T182417Z
UID:10015814-1898935200-1898937000@gslookout.org
SUMMARY:Intercessory Prayer Group
DESCRIPTION:
URL:https://gslookout.org/event/intercessory-prayer-group-2/2030-03-05/
LOCATION:Chapel
CATEGORIES:Formation,Worship
END:VEVENT
BEGIN:VEVENT
DTSTART;TZID=America/New_York:20300305T113000
DTEND;TZID=America/New_York:20300305T120000
DTSTAMP:20260421T100958
CREATED:20221103T210420Z
LAST-MODIFIED:20230627T182618Z
UID:10015994-1898940600-1898942400@gslookout.org
SUMMARY:Centering Prayer
DESCRIPTION:
URL:https://gslookout.org/event/centering-prayer-2/2030-03-05/
LOCATION:Lou Garcia Room
CATEGORIES:Formation
END:VEVENT
BEGIN:VEVENT
DTSTART;TZID=America/New_York:20300306T070000
DTEND;TZID=America/New_York:20300306T200000
DTSTAMP:20260421T100958
CREATED:20230127T161734Z
LAST-MODIFIED:20230127T161734Z
UID:10016298-1899010800-1899057600@gslookout.org
SUMMARY:Men's Bible Study
DESCRIPTION:
URL:https://gslookout.org/event/mens-bible-study/2030-03-06/
LOCATION:Talbird Hall
CATEGORIES:Formation
END:VEVENT
BEGIN:VEVENT
DTSTART;TZID=America/New_York:20300306T183000
DTEND;TZID=America/New_York:20300306T193000
DTSTAMP:20260421T100958
CREATED:20230127T163955Z
LAST-MODIFIED:20230127T165113Z
UID:10016833-1899052200-1899055800@gslookout.org
SUMMARY:Wednesday Night Youth
DESCRIPTION:
URL:https://gslookout.org/event/wednesday-night-youth/2030-03-06/
LOCATION:Youth Building
CATEGORIES:Formation,Youth
END:VEVENT
BEGIN:VEVENT
DTSTART;TZID=America/New_York:20300307T103000
DTEND;TZID=America/New_York:20300307T233000
DTSTAMP:20260421T100958
CREATED:20241122T224001Z
LAST-MODIFIED:20241122T224019Z
UID:10018974-1899109800-1899156600@gslookout.org
SUMMARY:Thursday Bible Study
DESCRIPTION:
URL:https://gslookout.org/event/thursday-bible-study-2/2030-03-07/
LOCATION:Talbird Hall
CATEGORIES:Formation
END:VEVENT
BEGIN:VEVENT
DTSTART;TZID=America/New_York:20300310T091500
DTEND;TZID=America/New_York:20300310T101500
DTSTAMP:20260421T100958
CREATED:20230127T162550Z
LAST-MODIFIED:20230127T162550Z
UID:10018882-1899364500-1899368100@gslookout.org
SUMMARY:Lectionary Bible Study
DESCRIPTION:
URL:https://gslookout.org/event/lectionary-bible-study/2030-03-10/
LOCATION:Library
CATEGORIES:Formation
END:VEVENT
BEGIN:VEVENT
DTSTART;TZID=America/New_York:20300310T091500
DTEND;TZID=America/New_York:20300310T101500
DTSTAMP:20260421T100958
CREATED:20230127T163036Z
LAST-MODIFIED:20230127T163036Z
UID:10016675-1899364500-1899368100@gslookout.org
SUMMARY:Coffee & Conversations
DESCRIPTION:
URL:https://gslookout.org/event/coffee-conversations/2030-03-10/
LOCATION:Lupton Reading Room
CATEGORIES:Formation
END:VEVENT
BEGIN:VEVENT
DTSTART;TZID=America/New_York:20300310T103000
DTEND;TZID=America/New_York:20300310T233000
DTSTAMP:20260421T100958
CREATED:20230908T210148Z
LAST-MODIFIED:20230908T210149Z
UID:10017750-1899369000-1899415800@gslookout.org
SUMMARY:Youth Breakfast & Sunday School
DESCRIPTION:
URL:https://gslookout.org/event/youth-breakfast-sunday-school-2/2030-03-10/
LOCATION:Youth Building
CATEGORIES:Formation,Youth
END:VEVENT
BEGIN:VEVENT
DTSTART;TZID=America/New_York:20300312T100000
DTEND;TZID=America/New_York:20300312T103000
DTSTAMP:20260421T100958
CREATED:20221103T210703Z
LAST-MODIFIED:20230627T182417Z
UID:10015815-1899540000-1899541800@gslookout.org
SUMMARY:Intercessory Prayer Group
DESCRIPTION:
URL:https://gslookout.org/event/intercessory-prayer-group-2/2030-03-12/
LOCATION:Chapel
CATEGORIES:Formation,Worship
END:VEVENT
BEGIN:VEVENT
DTSTART;TZID=America/New_York:20300312T113000
DTEND;TZID=America/New_York:20300312T120000
DTSTAMP:20260421T100958
CREATED:20221103T210420Z
LAST-MODIFIED:20230627T182618Z
UID:10015995-1899545400-1899547200@gslookout.org
SUMMARY:Centering Prayer
DESCRIPTION:
URL:https://gslookout.org/event/centering-prayer-2/2030-03-12/
LOCATION:Lou Garcia Room
CATEGORIES:Formation
END:VEVENT
BEGIN:VEVENT
DTSTART;TZID=America/New_York:20300313T070000
DTEND;TZID=America/New_York:20300313T200000
DTSTAMP:20260421T100958
CREATED:20230127T161734Z
LAST-MODIFIED:20230127T161734Z
UID:10016299-1899615600-1899662400@gslookout.org
SUMMARY:Men's Bible Study
DESCRIPTION:
URL:https://gslookout.org/event/mens-bible-study/2030-03-13/
LOCATION:Talbird Hall
CATEGORIES:Formation
END:VEVENT
BEGIN:VEVENT
DTSTART;TZID=America/New_York:20300313T183000
DTEND;TZID=America/New_York:20300313T193000
DTSTAMP:20260421T100958
CREATED:20230127T163955Z
LAST-MODIFIED:20230127T165113Z
UID:10016834-1899657000-1899660600@gslookout.org
SUMMARY:Wednesday Night Youth
DESCRIPTION:
URL:https://gslookout.org/event/wednesday-night-youth/2030-03-13/
LOCATION:Youth Building
CATEGORIES:Formation,Youth
END:VEVENT
BEGIN:VEVENT
DTSTART;TZID=America/New_York:20300314T103000
DTEND;TZID=America/New_York:20300314T233000
DTSTAMP:20260421T100958
CREATED:20241122T224001Z
LAST-MODIFIED:20241122T224019Z
UID:10018975-1899714600-1899761400@gslookout.org
SUMMARY:Thursday Bible Study
DESCRIPTION:
URL:https://gslookout.org/event/thursday-bible-study-2/2030-03-14/
LOCATION:Talbird Hall
CATEGORIES:Formation
END:VEVENT
BEGIN:VEVENT
DTSTART;TZID=America/New_York:20300317T091500
DTEND;TZID=America/New_York:20300317T101500
DTSTAMP:20260421T100958
CREATED:20230127T162550Z
LAST-MODIFIED:20230127T162550Z
UID:10018883-1899969300-1899972900@gslookout.org
SUMMARY:Lectionary Bible Study
DESCRIPTION:
URL:https://gslookout.org/event/lectionary-bible-study/2030-03-17/
LOCATION:Library
CATEGORIES:Formation
END:VEVENT
BEGIN:VEVENT
DTSTART;TZID=America/New_York:20300317T091500
DTEND;TZID=America/New_York:20300317T101500
DTSTAMP:20260421T100958
CREATED:20230127T163036Z
LAST-MODIFIED:20230127T163036Z
UID:10016676-1899969300-1899972900@gslookout.org
SUMMARY:Coffee & Conversations
DESCRIPTION:
URL:https://gslookout.org/event/coffee-conversations/2030-03-17/
LOCATION:Lupton Reading Room
CATEGORIES:Formation
END:VEVENT
BEGIN:VEVENT
DTSTART;TZID=America/New_York:20300317T103000
DTEND;TZID=America/New_York:20300317T233000
DTSTAMP:20260421T100958
CREATED:20230908T210148Z
LAST-MODIFIED:20230908T210149Z
UID:10017751-1899973800-1900020600@gslookout.org
SUMMARY:Youth Breakfast & Sunday School
DESCRIPTION:
URL:https://gslookout.org/event/youth-breakfast-sunday-school-2/2030-03-17/
LOCATION:Youth Building
CATEGORIES:Formation,Youth
END:VEVENT
BEGIN:VEVENT
DTSTART;TZID=America/New_York:20300319T100000
DTEND;TZID=America/New_York:20300319T103000
DTSTAMP:20260421T100958
CREATED:20221103T210703Z
LAST-MODIFIED:20230627T182417Z
UID:10015816-1900144800-1900146600@gslookout.org
SUMMARY:Intercessory Prayer Group
DESCRIPTION:
URL:https://gslookout.org/event/intercessory-prayer-group-2/2030-03-19/
LOCATION:Chapel
CATEGORIES:Formation,Worship
END:VEVENT
BEGIN:VEVENT
DTSTART;TZID=America/New_York:20300319T113000
DTEND;TZID=America/New_York:20300319T120000
DTSTAMP:20260421T100958
CREATED:20221103T210420Z
LAST-MODIFIED:20230627T182618Z
UID:10015996-1900150200-1900152000@gslookout.org
SUMMARY:Centering Prayer
DESCRIPTION:
URL:https://gslookout.org/event/centering-prayer-2/2030-03-19/
LOCATION:Lou Garcia Room
CATEGORIES:Formation
END:VEVENT
BEGIN:VEVENT
DTSTART;TZID=America/New_York:20300320T070000
DTEND;TZID=America/New_York:20300320T200000
DTSTAMP:20260421T100958
CREATED:20230127T161734Z
LAST-MODIFIED:20230127T161734Z
UID:10016300-1900220400-1900267200@gslookout.org
SUMMARY:Men's Bible Study
DESCRIPTION:
URL:https://gslookout.org/event/mens-bible-study/2030-03-20/
LOCATION:Talbird Hall
CATEGORIES:Formation
END:VEVENT
BEGIN:VEVENT
DTSTART;TZID=America/New_York:20300320T183000
DTEND;TZID=America/New_York:20300320T193000
DTSTAMP:20260421T100958
CREATED:20230127T163955Z
LAST-MODIFIED:20230127T165113Z
UID:10016835-1900261800-1900265400@gslookout.org
SUMMARY:Wednesday Night Youth
DESCRIPTION:
URL:https://gslookout.org/event/wednesday-night-youth/2030-03-20/
LOCATION:Youth Building
CATEGORIES:Formation,Youth
END:VEVENT
BEGIN:VEVENT
DTSTART;TZID=America/New_York:20300321T103000
DTEND;TZID=America/New_York:20300321T233000
DTSTAMP:20260421T100958
CREATED:20241122T224001Z
LAST-MODIFIED:20241122T224019Z
UID:10018976-1900319400-1900366200@gslookout.org
SUMMARY:Thursday Bible Study
DESCRIPTION:
URL:https://gslookout.org/event/thursday-bible-study-2/2030-03-21/
LOCATION:Talbird Hall
CATEGORIES:Formation
END:VEVENT
BEGIN:VEVENT
DTSTART;TZID=America/New_York:20300324T091500
DTEND;TZID=America/New_York:20300324T101500
DTSTAMP:20260421T100958
CREATED:20230127T162550Z
LAST-MODIFIED:20230127T162550Z
UID:10018884-1900574100-1900577700@gslookout.org
SUMMARY:Lectionary Bible Study
DESCRIPTION:
URL:https://gslookout.org/event/lectionary-bible-study/2030-03-24/
LOCATION:Library
CATEGORIES:Formation
END:VEVENT
BEGIN:VEVENT
DTSTART;TZID=America/New_York:20300324T091500
DTEND;TZID=America/New_York:20300324T101500
DTSTAMP:20260421T100958
CREATED:20230127T163036Z
LAST-MODIFIED:20230127T163036Z
UID:10016677-1900574100-1900577700@gslookout.org
SUMMARY:Coffee & Conversations
DESCRIPTION:
URL:https://gslookout.org/event/coffee-conversations/2030-03-24/
LOCATION:Lupton Reading Room
CATEGORIES:Formation
END:VEVENT
BEGIN:VEVENT
DTSTART;TZID=America/New_York:20300324T103000
DTEND;TZID=America/New_York:20300324T233000
DTSTAMP:20260421T100958
CREATED:20230908T210148Z
LAST-MODIFIED:20230908T210149Z
UID:10017752-1900578600-1900625400@gslookout.org
SUMMARY:Youth Breakfast & Sunday School
DESCRIPTION:
URL:https://gslookout.org/event/youth-breakfast-sunday-school-2/2030-03-24/
LOCATION:Youth Building
CATEGORIES:Formation,Youth
END:VEVENT
BEGIN:VEVENT
DTSTART;TZID=America/New_York:20300326T100000
DTEND;TZID=America/New_York:20300326T103000
DTSTAMP:20260421T100958
CREATED:20221103T210703Z
LAST-MODIFIED:20230627T182417Z
UID:10016840-1900749600-1900751400@gslookout.org
SUMMARY:Intercessory Prayer Group
DESCRIPTION:
URL:https://gslookout.org/event/intercessory-prayer-group-2/2030-03-26/
LOCATION:Chapel
CATEGORIES:Formation,Worship
END:VEVENT
BEGIN:VEVENT
DTSTART;TZID=America/New_York:20300326T113000
DTEND;TZID=America/New_York:20300326T120000
DTSTAMP:20260421T100958
CREATED:20221103T210420Z
LAST-MODIFIED:20230627T182618Z
UID:10016842-1900755000-1900756800@gslookout.org
SUMMARY:Centering Prayer
DESCRIPTION:
URL:https://gslookout.org/event/centering-prayer-2/2030-03-26/
LOCATION:Lou Garcia Room
CATEGORIES:Formation
END:VEVENT
BEGIN:VEVENT
DTSTART;TZID=America/New_York:20300327T070000
DTEND;TZID=America/New_York:20300327T200000
DTSTAMP:20260421T100958
CREATED:20230127T161734Z
LAST-MODIFIED:20230127T161734Z
UID:10016845-1900825200-1900872000@gslookout.org
SUMMARY:Men's Bible Study
DESCRIPTION:
URL:https://gslookout.org/event/mens-bible-study/2030-03-27/
LOCATION:Talbird Hall
CATEGORIES:Formation
END:VEVENT
END:VCALENDAR