BEGIN:VCALENDAR
VERSION:2.0
PRODID:-//Church of the Good Shepherd - ECPv6.15.20//NONSGML v1.0//EN
CALSCALE:GREGORIAN
METHOD:PUBLISH
X-WR-CALNAME:Church of the Good Shepherd
X-ORIGINAL-URL:https://gslookout.org
X-WR-CALDESC:Events for Church of the Good Shepherd
REFRESH-INTERVAL;VALUE=DURATION:PT1H
X-Robots-Tag:noindex
X-PUBLISHED-TTL:PT1H
BEGIN:VTIMEZONE
TZID:America/New_York
BEGIN:DAYLIGHT
TZOFFSETFROM:-0500
TZOFFSETTO:-0400
TZNAME:EDT
DTSTART:20290311T070000
END:DAYLIGHT
BEGIN:STANDARD
TZOFFSETFROM:-0400
TZOFFSETTO:-0500
TZNAME:EST
DTSTART:20291104T060000
END:STANDARD
BEGIN:DAYLIGHT
TZOFFSETFROM:-0500
TZOFFSETTO:-0400
TZNAME:EDT
DTSTART:20300310T070000
END:DAYLIGHT
BEGIN:STANDARD
TZOFFSETFROM:-0400
TZOFFSETTO:-0500
TZNAME:EST
DTSTART:20301103T060000
END:STANDARD
BEGIN:DAYLIGHT
TZOFFSETFROM:-0500
TZOFFSETTO:-0400
TZNAME:EDT
DTSTART:20310309T070000
END:DAYLIGHT
BEGIN:STANDARD
TZOFFSETFROM:-0400
TZOFFSETTO:-0500
TZNAME:EST
DTSTART:20311102T060000
END:STANDARD
END:VTIMEZONE
BEGIN:VEVENT
DTSTART;TZID=America/New_York:20300402T100000
DTEND;TZID=America/New_York:20300402T103000
DTSTAMP:20260421T115304
CREATED:20221103T210703Z
LAST-MODIFIED:20230627T182417Z
UID:10016856-1901354400-1901356200@gslookout.org
SUMMARY:Intercessory Prayer Group
DESCRIPTION:
URL:https://gslookout.org/event/intercessory-prayer-group-2/2030-04-02/
LOCATION:Chapel
CATEGORIES:Formation,Worship
END:VEVENT
BEGIN:VEVENT
DTSTART;TZID=America/New_York:20300402T113000
DTEND;TZID=America/New_York:20300402T120000
DTSTAMP:20260421T115304
CREATED:20221103T210420Z
LAST-MODIFIED:20230627T182618Z
UID:10016858-1901359800-1901361600@gslookout.org
SUMMARY:Centering Prayer
DESCRIPTION:
URL:https://gslookout.org/event/centering-prayer-2/2030-04-02/
LOCATION:Lou Garcia Room
CATEGORIES:Formation
END:VEVENT
BEGIN:VEVENT
DTSTART;TZID=America/New_York:20300403T070000
DTEND;TZID=America/New_York:20300403T200000
DTSTAMP:20260421T115304
CREATED:20230127T161734Z
LAST-MODIFIED:20230127T161734Z
UID:10016859-1901430000-1901476800@gslookout.org
SUMMARY:Men's Bible Study
DESCRIPTION:
URL:https://gslookout.org/event/mens-bible-study/2030-04-03/
LOCATION:Talbird Hall
CATEGORIES:Formation
END:VEVENT
BEGIN:VEVENT
DTSTART;TZID=America/New_York:20300403T183000
DTEND;TZID=America/New_York:20300403T193000
DTSTAMP:20260421T115304
CREATED:20230127T163955Z
LAST-MODIFIED:20230127T165113Z
UID:10016860-1901471400-1901475000@gslookout.org
SUMMARY:Wednesday Night Youth
DESCRIPTION:
URL:https://gslookout.org/event/wednesday-night-youth/2030-04-03/
LOCATION:Youth Building
CATEGORIES:Formation,Youth
END:VEVENT
BEGIN:VEVENT
DTSTART;TZID=America/New_York:20300404T103000
DTEND;TZID=America/New_York:20300404T233000
DTSTAMP:20260421T115304
CREATED:20241122T224001Z
LAST-MODIFIED:20241122T224019Z
UID:10018978-1901529000-1901575800@gslookout.org
SUMMARY:Thursday Bible Study
DESCRIPTION:
URL:https://gslookout.org/event/thursday-bible-study-2/2030-04-04/
LOCATION:Talbird Hall
CATEGORIES:Formation
END:VEVENT
BEGIN:VEVENT
DTSTART;TZID=America/New_York:20300407T091500
DTEND;TZID=America/New_York:20300407T101500
DTSTAMP:20260421T115304
CREATED:20230127T162550Z
LAST-MODIFIED:20230127T162550Z
UID:10018886-1901783700-1901787300@gslookout.org
SUMMARY:Lectionary Bible Study
DESCRIPTION:
URL:https://gslookout.org/event/lectionary-bible-study/2030-04-07/
LOCATION:Library
CATEGORIES:Formation
END:VEVENT
BEGIN:VEVENT
DTSTART;TZID=America/New_York:20300407T091500
DTEND;TZID=America/New_York:20300407T101500
DTSTAMP:20260421T115304
CREATED:20230127T163036Z
LAST-MODIFIED:20230127T163036Z
UID:10016864-1901783700-1901787300@gslookout.org
SUMMARY:Coffee & Conversations
DESCRIPTION:
URL:https://gslookout.org/event/coffee-conversations/2030-04-07/
LOCATION:Lupton Reading Room
CATEGORIES:Formation
END:VEVENT
BEGIN:VEVENT
DTSTART;TZID=America/New_York:20300407T103000
DTEND;TZID=America/New_York:20300407T233000
DTSTAMP:20260421T115304
CREATED:20230908T210148Z
LAST-MODIFIED:20230908T210149Z
UID:10017754-1901788200-1901835000@gslookout.org
SUMMARY:Youth Breakfast & Sunday School
DESCRIPTION:
URL:https://gslookout.org/event/youth-breakfast-sunday-school-2/2030-04-07/
LOCATION:Youth Building
CATEGORIES:Formation,Youth
END:VEVENT
BEGIN:VEVENT
DTSTART;TZID=America/New_York:20300409T100000
DTEND;TZID=America/New_York:20300409T103000
DTSTAMP:20260421T115305
CREATED:20221103T210703Z
LAST-MODIFIED:20230627T182417Z
UID:10016872-1901959200-1901961000@gslookout.org
SUMMARY:Intercessory Prayer Group
DESCRIPTION:
URL:https://gslookout.org/event/intercessory-prayer-group-2/2030-04-09/
LOCATION:Chapel
CATEGORIES:Formation,Worship
END:VEVENT
BEGIN:VEVENT
DTSTART;TZID=America/New_York:20300409T113000
DTEND;TZID=America/New_York:20300409T120000
DTSTAMP:20260421T115305
CREATED:20221103T210420Z
LAST-MODIFIED:20230627T182618Z
UID:10016874-1901964600-1901966400@gslookout.org
SUMMARY:Centering Prayer
DESCRIPTION:
URL:https://gslookout.org/event/centering-prayer-2/2030-04-09/
LOCATION:Lou Garcia Room
CATEGORIES:Formation
END:VEVENT
BEGIN:VEVENT
DTSTART;TZID=America/New_York:20300410T070000
DTEND;TZID=America/New_York:20300410T200000
DTSTAMP:20260421T115305
CREATED:20230127T161734Z
LAST-MODIFIED:20230127T161734Z
UID:10016876-1902034800-1902081600@gslookout.org
SUMMARY:Men's Bible Study
DESCRIPTION:
URL:https://gslookout.org/event/mens-bible-study/2030-04-10/
LOCATION:Talbird Hall
CATEGORIES:Formation
END:VEVENT
BEGIN:VEVENT
DTSTART;TZID=America/New_York:20300410T183000
DTEND;TZID=America/New_York:20300410T193000
DTSTAMP:20260421T115305
CREATED:20230127T163955Z
LAST-MODIFIED:20230127T165113Z
UID:10016877-1902076200-1902079800@gslookout.org
SUMMARY:Wednesday Night Youth
DESCRIPTION:
URL:https://gslookout.org/event/wednesday-night-youth/2030-04-10/
LOCATION:Youth Building
CATEGORIES:Formation,Youth
END:VEVENT
BEGIN:VEVENT
DTSTART;TZID=America/New_York:20300411T103000
DTEND;TZID=America/New_York:20300411T233000
DTSTAMP:20260421T115305
CREATED:20241122T224001Z
LAST-MODIFIED:20241122T224019Z
UID:10018979-1902133800-1902180600@gslookout.org
SUMMARY:Thursday Bible Study
DESCRIPTION:
URL:https://gslookout.org/event/thursday-bible-study-2/2030-04-11/
LOCATION:Talbird Hall
CATEGORIES:Formation
END:VEVENT
BEGIN:VEVENT
DTSTART;TZID=America/New_York:20300414T091500
DTEND;TZID=America/New_York:20300414T101500
DTSTAMP:20260421T115305
CREATED:20230127T162550Z
LAST-MODIFIED:20230127T162550Z
UID:10018887-1902388500-1902392100@gslookout.org
SUMMARY:Lectionary Bible Study
DESCRIPTION:
URL:https://gslookout.org/event/lectionary-bible-study/2030-04-14/
LOCATION:Library
CATEGORIES:Formation
END:VEVENT
BEGIN:VEVENT
DTSTART;TZID=America/New_York:20300414T091500
DTEND;TZID=America/New_York:20300414T101500
DTSTAMP:20260421T115305
CREATED:20230127T163036Z
LAST-MODIFIED:20230127T163036Z
UID:10016881-1902388500-1902392100@gslookout.org
SUMMARY:Coffee & Conversations
DESCRIPTION:
URL:https://gslookout.org/event/coffee-conversations/2030-04-14/
LOCATION:Lupton Reading Room
CATEGORIES:Formation
END:VEVENT
BEGIN:VEVENT
DTSTART;TZID=America/New_York:20300414T103000
DTEND;TZID=America/New_York:20300414T233000
DTSTAMP:20260421T115305
CREATED:20230908T210148Z
LAST-MODIFIED:20230908T210149Z
UID:10017755-1902393000-1902439800@gslookout.org
SUMMARY:Youth Breakfast & Sunday School
DESCRIPTION:
URL:https://gslookout.org/event/youth-breakfast-sunday-school-2/2030-04-14/
LOCATION:Youth Building
CATEGORIES:Formation,Youth
END:VEVENT
BEGIN:VEVENT
DTSTART;TZID=America/New_York:20300416T100000
DTEND;TZID=America/New_York:20300416T103000
DTSTAMP:20260421T115305
CREATED:20221103T210703Z
LAST-MODIFIED:20230627T182417Z
UID:10017385-1902564000-1902565800@gslookout.org
SUMMARY:Intercessory Prayer Group
DESCRIPTION:
URL:https://gslookout.org/event/intercessory-prayer-group-2/2030-04-16/
LOCATION:Chapel
CATEGORIES:Formation,Worship
END:VEVENT
BEGIN:VEVENT
DTSTART;TZID=America/New_York:20300416T113000
DTEND;TZID=America/New_York:20300416T120000
DTSTAMP:20260421T115305
CREATED:20221103T210420Z
LAST-MODIFIED:20230627T182618Z
UID:10017650-1902569400-1902571200@gslookout.org
SUMMARY:Centering Prayer
DESCRIPTION:
URL:https://gslookout.org/event/centering-prayer-2/2030-04-16/
LOCATION:Lou Garcia Room
CATEGORIES:Formation
END:VEVENT
BEGIN:VEVENT
DTSTART;TZID=America/New_York:20300417T070000
DTEND;TZID=America/New_York:20300417T200000
DTSTAMP:20260421T115305
CREATED:20230127T161734Z
LAST-MODIFIED:20230127T161734Z
UID:10017651-1902639600-1902686400@gslookout.org
SUMMARY:Men's Bible Study
DESCRIPTION:
URL:https://gslookout.org/event/mens-bible-study/2030-04-17/
LOCATION:Talbird Hall
CATEGORIES:Formation
END:VEVENT
BEGIN:VEVENT
DTSTART;TZID=America/New_York:20300417T183000
DTEND;TZID=America/New_York:20300417T193000
DTSTAMP:20260421T115305
CREATED:20230127T163955Z
LAST-MODIFIED:20230127T165113Z
UID:10017387-1902681000-1902684600@gslookout.org
SUMMARY:Wednesday Night Youth
DESCRIPTION:
URL:https://gslookout.org/event/wednesday-night-youth/2030-04-17/
LOCATION:Youth Building
CATEGORIES:Formation,Youth
END:VEVENT
BEGIN:VEVENT
DTSTART;TZID=America/New_York:20300418T103000
DTEND;TZID=America/New_York:20300418T233000
DTSTAMP:20260421T115305
CREATED:20241122T224001Z
LAST-MODIFIED:20241122T224019Z
UID:10018980-1902738600-1902785400@gslookout.org
SUMMARY:Thursday Bible Study
DESCRIPTION:
URL:https://gslookout.org/event/thursday-bible-study-2/2030-04-18/
LOCATION:Talbird Hall
CATEGORIES:Formation
END:VEVENT
BEGIN:VEVENT
DTSTART;TZID=America/New_York:20300421T091500
DTEND;TZID=America/New_York:20300421T101500
DTSTAMP:20260421T115305
CREATED:20230127T162550Z
LAST-MODIFIED:20230127T162550Z
UID:10018888-1902993300-1902996900@gslookout.org
SUMMARY:Lectionary Bible Study
DESCRIPTION:
URL:https://gslookout.org/event/lectionary-bible-study/2030-04-21/
LOCATION:Library
CATEGORIES:Formation
END:VEVENT
BEGIN:VEVENT
DTSTART;TZID=America/New_York:20300421T091500
DTEND;TZID=America/New_York:20300421T101500
DTSTAMP:20260421T115305
CREATED:20230127T163036Z
LAST-MODIFIED:20230127T163036Z
UID:10017656-1902993300-1902996900@gslookout.org
SUMMARY:Coffee & Conversations
DESCRIPTION:
URL:https://gslookout.org/event/coffee-conversations/2030-04-21/
LOCATION:Lupton Reading Room
CATEGORIES:Formation
END:VEVENT
BEGIN:VEVENT
DTSTART;TZID=America/New_York:20300421T103000
DTEND;TZID=America/New_York:20300421T233000
DTSTAMP:20260421T115305
CREATED:20230908T210148Z
LAST-MODIFIED:20230908T210149Z
UID:10017756-1902997800-1903044600@gslookout.org
SUMMARY:Youth Breakfast & Sunday School
DESCRIPTION:
URL:https://gslookout.org/event/youth-breakfast-sunday-school-2/2030-04-21/
LOCATION:Youth Building
CATEGORIES:Formation,Youth
END:VEVENT
BEGIN:VEVENT
DTSTART;TZID=America/New_York:20300423T100000
DTEND;TZID=America/New_York:20300423T103000
DTSTAMP:20260421T115305
CREATED:20221103T210703Z
LAST-MODIFIED:20230627T182417Z
UID:10017664-1903168800-1903170600@gslookout.org
SUMMARY:Intercessory Prayer Group
DESCRIPTION:
URL:https://gslookout.org/event/intercessory-prayer-group-2/2030-04-23/
LOCATION:Chapel
CATEGORIES:Formation,Worship
END:VEVENT
BEGIN:VEVENT
DTSTART;TZID=America/New_York:20300423T113000
DTEND;TZID=America/New_York:20300423T120000
DTSTAMP:20260421T115305
CREATED:20221103T210420Z
LAST-MODIFIED:20230627T182618Z
UID:10017666-1903174200-1903176000@gslookout.org
SUMMARY:Centering Prayer
DESCRIPTION:
URL:https://gslookout.org/event/centering-prayer-2/2030-04-23/
LOCATION:Lou Garcia Room
CATEGORIES:Formation
END:VEVENT
BEGIN:VEVENT
DTSTART;TZID=America/New_York:20300424T070000
DTEND;TZID=America/New_York:20300424T200000
DTSTAMP:20260421T115305
CREATED:20230127T161734Z
LAST-MODIFIED:20230127T161734Z
UID:10017674-1903244400-1903291200@gslookout.org
SUMMARY:Men's Bible Study
DESCRIPTION:
URL:https://gslookout.org/event/mens-bible-study/2030-04-24/
LOCATION:Talbird Hall
CATEGORIES:Formation
END:VEVENT
BEGIN:VEVENT
DTSTART;TZID=America/New_York:20300424T183000
DTEND;TZID=America/New_York:20300424T193000
DTSTAMP:20260421T115305
CREATED:20230127T163955Z
LAST-MODIFIED:20230127T165113Z
UID:10017670-1903285800-1903289400@gslookout.org
SUMMARY:Wednesday Night Youth
DESCRIPTION:
URL:https://gslookout.org/event/wednesday-night-youth/2030-04-24/
LOCATION:Youth Building
CATEGORIES:Formation,Youth
END:VEVENT
BEGIN:VEVENT
DTSTART;TZID=America/New_York:20300425T103000
DTEND;TZID=America/New_York:20300425T233000
DTSTAMP:20260421T115305
CREATED:20241122T224001Z
LAST-MODIFIED:20241122T224019Z
UID:10018981-1903343400-1903390200@gslookout.org
SUMMARY:Thursday Bible Study
DESCRIPTION:
URL:https://gslookout.org/event/thursday-bible-study-2/2030-04-25/
LOCATION:Talbird Hall
CATEGORIES:Formation
END:VEVENT
BEGIN:VEVENT
DTSTART;TZID=America/New_York:20300428T091500
DTEND;TZID=America/New_York:20300428T101500
DTSTAMP:20260421T115305
CREATED:20230127T162550Z
LAST-MODIFIED:20230127T162550Z
UID:10018889-1903598100-1903601700@gslookout.org
SUMMARY:Lectionary Bible Study
DESCRIPTION:
URL:https://gslookout.org/event/lectionary-bible-study/2030-04-28/
LOCATION:Library
CATEGORIES:Formation
END:VEVENT
END:VCALENDAR