BEGIN:VCALENDAR
VERSION:2.0
PRODID:-//Church of the Good Shepherd - ECPv6.15.20//NONSGML v1.0//EN
CALSCALE:GREGORIAN
METHOD:PUBLISH
X-WR-CALNAME:Church of the Good Shepherd
X-ORIGINAL-URL:https://gslookout.org
X-WR-CALDESC:Events for Church of the Good Shepherd
REFRESH-INTERVAL;VALUE=DURATION:PT1H
X-Robots-Tag:noindex
X-PUBLISHED-TTL:PT1H
BEGIN:VTIMEZONE
TZID:America/New_York
BEGIN:DAYLIGHT
TZOFFSETFROM:-0500
TZOFFSETTO:-0400
TZNAME:EDT
DTSTART:20290311T070000
END:DAYLIGHT
BEGIN:STANDARD
TZOFFSETFROM:-0400
TZOFFSETTO:-0500
TZNAME:EST
DTSTART:20291104T060000
END:STANDARD
BEGIN:DAYLIGHT
TZOFFSETFROM:-0500
TZOFFSETTO:-0400
TZNAME:EDT
DTSTART:20300310T070000
END:DAYLIGHT
BEGIN:STANDARD
TZOFFSETFROM:-0400
TZOFFSETTO:-0500
TZNAME:EST
DTSTART:20301103T060000
END:STANDARD
BEGIN:DAYLIGHT
TZOFFSETFROM:-0500
TZOFFSETTO:-0400
TZNAME:EDT
DTSTART:20310309T070000
END:DAYLIGHT
BEGIN:STANDARD
TZOFFSETFROM:-0400
TZOFFSETTO:-0500
TZNAME:EST
DTSTART:20311102T060000
END:STANDARD
END:VTIMEZONE
BEGIN:VEVENT
DTSTART;TZID=America/New_York:20300602T091500
DTEND;TZID=America/New_York:20300602T101500
DTSTAMP:20260421T184509
CREATED:20230127T162550Z
LAST-MODIFIED:20230127T162550Z
UID:10018894-1906622100-1906625700@gslookout.org
SUMMARY:Lectionary Bible Study
DESCRIPTION:
URL:https://gslookout.org/event/lectionary-bible-study/2030-06-02/
LOCATION:Library
CATEGORIES:Formation
END:VEVENT
BEGIN:VEVENT
DTSTART;TZID=America/New_York:20300602T091500
DTEND;TZID=America/New_York:20300602T101500
DTSTAMP:20260421T184509
CREATED:20230127T163036Z
LAST-MODIFIED:20230127T163036Z
UID:10017860-1906622100-1906625700@gslookout.org
SUMMARY:Coffee & Conversations
DESCRIPTION:
URL:https://gslookout.org/event/coffee-conversations/2030-06-02/
LOCATION:Lupton Reading Room
CATEGORIES:Formation
END:VEVENT
BEGIN:VEVENT
DTSTART;TZID=America/New_York:20300602T103000
DTEND;TZID=America/New_York:20300602T233000
DTSTAMP:20260421T184509
CREATED:20230908T210148Z
LAST-MODIFIED:20230908T210149Z
UID:10017862-1906626600-1906673400@gslookout.org
SUMMARY:Youth Breakfast & Sunday School
DESCRIPTION:
URL:https://gslookout.org/event/youth-breakfast-sunday-school-2/2030-06-02/
LOCATION:Youth Building
CATEGORIES:Formation,Youth
END:VEVENT
BEGIN:VEVENT
DTSTART;TZID=America/New_York:20300604T100000
DTEND;TZID=America/New_York:20300604T103000
DTSTAMP:20260421T184509
CREATED:20221103T210703Z
LAST-MODIFIED:20230627T182417Z
UID:10017869-1906797600-1906799400@gslookout.org
SUMMARY:Intercessory Prayer Group
DESCRIPTION:
URL:https://gslookout.org/event/intercessory-prayer-group-2/2030-06-04/
LOCATION:Chapel
CATEGORIES:Formation,Worship
END:VEVENT
BEGIN:VEVENT
DTSTART;TZID=America/New_York:20300604T113000
DTEND;TZID=America/New_York:20300604T120000
DTSTAMP:20260421T184509
CREATED:20221103T210420Z
LAST-MODIFIED:20230627T182618Z
UID:10017871-1906803000-1906804800@gslookout.org
SUMMARY:Centering Prayer
DESCRIPTION:
URL:https://gslookout.org/event/centering-prayer-2/2030-06-04/
LOCATION:Lou Garcia Room
CATEGORIES:Formation
END:VEVENT
BEGIN:VEVENT
DTSTART;TZID=America/New_York:20300605T070000
DTEND;TZID=America/New_York:20300605T200000
DTSTAMP:20260421T184509
CREATED:20230127T161734Z
LAST-MODIFIED:20230127T161734Z
UID:10017872-1906873200-1906920000@gslookout.org
SUMMARY:Men's Bible Study
DESCRIPTION:
URL:https://gslookout.org/event/mens-bible-study/2030-06-05/
LOCATION:Talbird Hall
CATEGORIES:Formation
END:VEVENT
BEGIN:VEVENT
DTSTART;TZID=America/New_York:20300605T183000
DTEND;TZID=America/New_York:20300605T193000
DTSTAMP:20260421T184509
CREATED:20230127T163955Z
LAST-MODIFIED:20230127T165113Z
UID:10017874-1906914600-1906918200@gslookout.org
SUMMARY:Wednesday Night Youth
DESCRIPTION:
URL:https://gslookout.org/event/wednesday-night-youth/2030-06-05/
LOCATION:Youth Building
CATEGORIES:Formation,Youth
END:VEVENT
BEGIN:VEVENT
DTSTART;TZID=America/New_York:20300606T103000
DTEND;TZID=America/New_York:20300606T233000
DTSTAMP:20260421T184509
CREATED:20241122T224001Z
LAST-MODIFIED:20241122T224019Z
UID:10018987-1906972200-1907019000@gslookout.org
SUMMARY:Thursday Bible Study
DESCRIPTION:
URL:https://gslookout.org/event/thursday-bible-study-2/2030-06-06/
LOCATION:Talbird Hall
CATEGORIES:Formation
END:VEVENT
BEGIN:VEVENT
DTSTART;TZID=America/New_York:20300609T091500
DTEND;TZID=America/New_York:20300609T101500
DTSTAMP:20260421T184509
CREATED:20230127T162550Z
LAST-MODIFIED:20230127T162550Z
UID:10018895-1907226900-1907230500@gslookout.org
SUMMARY:Lectionary Bible Study
DESCRIPTION:
URL:https://gslookout.org/event/lectionary-bible-study/2030-06-09/
LOCATION:Library
CATEGORIES:Formation
END:VEVENT
BEGIN:VEVENT
DTSTART;TZID=America/New_York:20300609T091500
DTEND;TZID=America/New_York:20300609T101500
DTSTAMP:20260421T184509
CREATED:20230127T163036Z
LAST-MODIFIED:20230127T163036Z
UID:10017880-1907226900-1907230500@gslookout.org
SUMMARY:Coffee & Conversations
DESCRIPTION:
URL:https://gslookout.org/event/coffee-conversations/2030-06-09/
LOCATION:Lupton Reading Room
CATEGORIES:Formation
END:VEVENT
BEGIN:VEVENT
DTSTART;TZID=America/New_York:20300609T103000
DTEND;TZID=America/New_York:20300609T233000
DTSTAMP:20260421T184509
CREATED:20230908T210148Z
LAST-MODIFIED:20230908T210149Z
UID:10017883-1907231400-1907278200@gslookout.org
SUMMARY:Youth Breakfast & Sunday School
DESCRIPTION:
URL:https://gslookout.org/event/youth-breakfast-sunday-school-2/2030-06-09/
LOCATION:Youth Building
CATEGORIES:Formation,Youth
END:VEVENT
BEGIN:VEVENT
DTSTART;TZID=America/New_York:20300611T100000
DTEND;TZID=America/New_York:20300611T103000
DTSTAMP:20260421T184509
CREATED:20221103T210703Z
LAST-MODIFIED:20230627T182417Z
UID:10017890-1907402400-1907404200@gslookout.org
SUMMARY:Intercessory Prayer Group
DESCRIPTION:
URL:https://gslookout.org/event/intercessory-prayer-group-2/2030-06-11/
LOCATION:Chapel
CATEGORIES:Formation,Worship
END:VEVENT
BEGIN:VEVENT
DTSTART;TZID=America/New_York:20300611T113000
DTEND;TZID=America/New_York:20300611T120000
DTSTAMP:20260421T184509
CREATED:20221103T210420Z
LAST-MODIFIED:20230627T182618Z
UID:10017892-1907407800-1907409600@gslookout.org
SUMMARY:Centering Prayer
DESCRIPTION:
URL:https://gslookout.org/event/centering-prayer-2/2030-06-11/
LOCATION:Lou Garcia Room
CATEGORIES:Formation
END:VEVENT
BEGIN:VEVENT
DTSTART;TZID=America/New_York:20300612T070000
DTEND;TZID=America/New_York:20300612T200000
DTSTAMP:20260421T184509
CREATED:20230127T161734Z
LAST-MODIFIED:20230127T161734Z
UID:10017893-1907478000-1907524800@gslookout.org
SUMMARY:Men's Bible Study
DESCRIPTION:
URL:https://gslookout.org/event/mens-bible-study/2030-06-12/
LOCATION:Talbird Hall
CATEGORIES:Formation
END:VEVENT
BEGIN:VEVENT
DTSTART;TZID=America/New_York:20300612T183000
DTEND;TZID=America/New_York:20300612T193000
DTSTAMP:20260421T184509
CREATED:20230127T163955Z
LAST-MODIFIED:20230127T165113Z
UID:10017895-1907519400-1907523000@gslookout.org
SUMMARY:Wednesday Night Youth
DESCRIPTION:
URL:https://gslookout.org/event/wednesday-night-youth/2030-06-12/
LOCATION:Youth Building
CATEGORIES:Formation,Youth
END:VEVENT
BEGIN:VEVENT
DTSTART;TZID=America/New_York:20300613T103000
DTEND;TZID=America/New_York:20300613T233000
DTSTAMP:20260421T184509
CREATED:20241122T224001Z
LAST-MODIFIED:20241122T224019Z
UID:10018988-1907577000-1907623800@gslookout.org
SUMMARY:Thursday Bible Study
DESCRIPTION:
URL:https://gslookout.org/event/thursday-bible-study-2/2030-06-13/
LOCATION:Talbird Hall
CATEGORIES:Formation
END:VEVENT
BEGIN:VEVENT
DTSTART;TZID=America/New_York:20300616T091500
DTEND;TZID=America/New_York:20300616T101500
DTSTAMP:20260421T184509
CREATED:20230127T162550Z
LAST-MODIFIED:20230127T162550Z
UID:10018898-1907831700-1907835300@gslookout.org
SUMMARY:Lectionary Bible Study
DESCRIPTION:
URL:https://gslookout.org/event/lectionary-bible-study/2030-06-16/
LOCATION:Library
CATEGORIES:Formation
END:VEVENT
BEGIN:VEVENT
DTSTART;TZID=America/New_York:20300616T091500
DTEND;TZID=America/New_York:20300616T101500
DTSTAMP:20260421T184509
CREATED:20230127T163036Z
LAST-MODIFIED:20230127T163036Z
UID:10018899-1907831700-1907835300@gslookout.org
SUMMARY:Coffee & Conversations
DESCRIPTION:
URL:https://gslookout.org/event/coffee-conversations/2030-06-16/
LOCATION:Lupton Reading Room
CATEGORIES:Formation
END:VEVENT
BEGIN:VEVENT
DTSTART;TZID=America/New_York:20300616T103000
DTEND;TZID=America/New_York:20300616T233000
DTSTAMP:20260421T184509
CREATED:20230908T210148Z
LAST-MODIFIED:20230908T210149Z
UID:10018901-1907836200-1907883000@gslookout.org
SUMMARY:Youth Breakfast & Sunday School
DESCRIPTION:
URL:https://gslookout.org/event/youth-breakfast-sunday-school-2/2030-06-16/
LOCATION:Youth Building
CATEGORIES:Formation,Youth
END:VEVENT
BEGIN:VEVENT
DTSTART;TZID=America/New_York:20300618T100000
DTEND;TZID=America/New_York:20300618T103000
DTSTAMP:20260421T184509
CREATED:20221103T210703Z
LAST-MODIFIED:20230627T182417Z
UID:10018908-1908007200-1908009000@gslookout.org
SUMMARY:Intercessory Prayer Group
DESCRIPTION:
URL:https://gslookout.org/event/intercessory-prayer-group-2/2030-06-18/
LOCATION:Chapel
CATEGORIES:Formation,Worship
END:VEVENT
BEGIN:VEVENT
DTSTART;TZID=America/New_York:20300618T113000
DTEND;TZID=America/New_York:20300618T120000
DTSTAMP:20260421T184509
CREATED:20221103T210420Z
LAST-MODIFIED:20230627T182618Z
UID:10018910-1908012600-1908014400@gslookout.org
SUMMARY:Centering Prayer
DESCRIPTION:
URL:https://gslookout.org/event/centering-prayer-2/2030-06-18/
LOCATION:Lou Garcia Room
CATEGORIES:Formation
END:VEVENT
BEGIN:VEVENT
DTSTART;TZID=America/New_York:20300619T070000
DTEND;TZID=America/New_York:20300619T200000
DTSTAMP:20260421T184509
CREATED:20230127T161734Z
LAST-MODIFIED:20230127T161734Z
UID:10018911-1908082800-1908129600@gslookout.org
SUMMARY:Men's Bible Study
DESCRIPTION:
URL:https://gslookout.org/event/mens-bible-study/2030-06-19/
LOCATION:Talbird Hall
CATEGORIES:Formation
END:VEVENT
BEGIN:VEVENT
DTSTART;TZID=America/New_York:20300619T183000
DTEND;TZID=America/New_York:20300619T193000
DTSTAMP:20260421T184509
CREATED:20230127T163955Z
LAST-MODIFIED:20230127T165113Z
UID:10018913-1908124200-1908127800@gslookout.org
SUMMARY:Wednesday Night Youth
DESCRIPTION:
URL:https://gslookout.org/event/wednesday-night-youth/2030-06-19/
LOCATION:Youth Building
CATEGORIES:Formation,Youth
END:VEVENT
BEGIN:VEVENT
DTSTART;TZID=America/New_York:20300620T103000
DTEND;TZID=America/New_York:20300620T233000
DTSTAMP:20260421T184509
CREATED:20241122T224001Z
LAST-MODIFIED:20241122T224019Z
UID:10018989-1908181800-1908228600@gslookout.org
SUMMARY:Thursday Bible Study
DESCRIPTION:
URL:https://gslookout.org/event/thursday-bible-study-2/2030-06-20/
LOCATION:Talbird Hall
CATEGORIES:Formation
END:VEVENT
BEGIN:VEVENT
DTSTART;TZID=America/New_York:20300623T091500
DTEND;TZID=America/New_York:20300623T101500
DTSTAMP:20260421T184509
CREATED:20230127T162550Z
LAST-MODIFIED:20230127T162550Z
UID:10018920-1908436500-1908440100@gslookout.org
SUMMARY:Lectionary Bible Study
DESCRIPTION:
URL:https://gslookout.org/event/lectionary-bible-study/2030-06-23/
LOCATION:Library
CATEGORIES:Formation
END:VEVENT
BEGIN:VEVENT
DTSTART;TZID=America/New_York:20300623T091500
DTEND;TZID=America/New_York:20300623T101500
DTSTAMP:20260421T184509
CREATED:20230127T163036Z
LAST-MODIFIED:20230127T163036Z
UID:10018919-1908436500-1908440100@gslookout.org
SUMMARY:Coffee & Conversations
DESCRIPTION:
URL:https://gslookout.org/event/coffee-conversations/2030-06-23/
LOCATION:Lupton Reading Room
CATEGORIES:Formation
END:VEVENT
BEGIN:VEVENT
DTSTART;TZID=America/New_York:20300623T103000
DTEND;TZID=America/New_York:20300623T233000
DTSTAMP:20260421T184509
CREATED:20230908T210148Z
LAST-MODIFIED:20230908T210149Z
UID:10018922-1908441000-1908487800@gslookout.org
SUMMARY:Youth Breakfast & Sunday School
DESCRIPTION:
URL:https://gslookout.org/event/youth-breakfast-sunday-school-2/2030-06-23/
LOCATION:Youth Building
CATEGORIES:Formation,Youth
END:VEVENT
BEGIN:VEVENT
DTSTART;TZID=America/New_York:20300625T100000
DTEND;TZID=America/New_York:20300625T103000
DTSTAMP:20260421T184509
CREATED:20221103T210703Z
LAST-MODIFIED:20230627T182417Z
UID:10018928-1908612000-1908613800@gslookout.org
SUMMARY:Intercessory Prayer Group
DESCRIPTION:
URL:https://gslookout.org/event/intercessory-prayer-group-2/2030-06-25/
LOCATION:Chapel
CATEGORIES:Formation,Worship
END:VEVENT
BEGIN:VEVENT
DTSTART;TZID=America/New_York:20300625T113000
DTEND;TZID=America/New_York:20300625T120000
DTSTAMP:20260421T184509
CREATED:20221103T210420Z
LAST-MODIFIED:20230627T182618Z
UID:10018930-1908617400-1908619200@gslookout.org
SUMMARY:Centering Prayer
DESCRIPTION:
URL:https://gslookout.org/event/centering-prayer-2/2030-06-25/
LOCATION:Lou Garcia Room
CATEGORIES:Formation
END:VEVENT
BEGIN:VEVENT
DTSTART;TZID=America/New_York:20300626T070000
DTEND;TZID=America/New_York:20300626T200000
DTSTAMP:20260421T184509
CREATED:20230127T161734Z
LAST-MODIFIED:20230127T161734Z
UID:10018935-1908687600-1908734400@gslookout.org
SUMMARY:Men's Bible Study
DESCRIPTION:
URL:https://gslookout.org/event/mens-bible-study/2030-06-26/
LOCATION:Talbird Hall
CATEGORIES:Formation
END:VEVENT
END:VCALENDAR