BEGIN:VCALENDAR
VERSION:2.0
PRODID:-//Church of the Good Shepherd - ECPv6.15.20//NONSGML v1.0//EN
CALSCALE:GREGORIAN
METHOD:PUBLISH
X-WR-CALNAME:Church of the Good Shepherd
X-ORIGINAL-URL:https://gslookout.org
X-WR-CALDESC:Events for Church of the Good Shepherd
REFRESH-INTERVAL;VALUE=DURATION:PT1H
X-Robots-Tag:noindex
X-PUBLISHED-TTL:PT1H
BEGIN:VTIMEZONE
TZID:America/New_York
BEGIN:DAYLIGHT
TZOFFSETFROM:-0500
TZOFFSETTO:-0400
TZNAME:EDT
DTSTART:20290311T070000
END:DAYLIGHT
BEGIN:STANDARD
TZOFFSETFROM:-0400
TZOFFSETTO:-0500
TZNAME:EST
DTSTART:20291104T060000
END:STANDARD
BEGIN:DAYLIGHT
TZOFFSETFROM:-0500
TZOFFSETTO:-0400
TZNAME:EDT
DTSTART:20300310T070000
END:DAYLIGHT
BEGIN:STANDARD
TZOFFSETFROM:-0400
TZOFFSETTO:-0500
TZNAME:EST
DTSTART:20301103T060000
END:STANDARD
BEGIN:DAYLIGHT
TZOFFSETFROM:-0500
TZOFFSETTO:-0400
TZNAME:EDT
DTSTART:20310309T070000
END:DAYLIGHT
BEGIN:STANDARD
TZOFFSETFROM:-0400
TZOFFSETTO:-0500
TZNAME:EST
DTSTART:20311102T060000
END:STANDARD
END:VTIMEZONE
BEGIN:VEVENT
DTSTART;TZID=America/New_York:20301001T100000
DTEND;TZID=America/New_York:20301001T103000
DTSTAMP:20260422T060100
CREATED:20221103T210703Z
LAST-MODIFIED:20230627T182417Z
UID:10019314-1917079200-1917081000@gslookout.org
SUMMARY:Intercessory Prayer Group
DESCRIPTION:
URL:https://gslookout.org/event/intercessory-prayer-group-2/2030-10-01/
LOCATION:Chapel
CATEGORIES:Formation,Worship
END:VEVENT
BEGIN:VEVENT
DTSTART;TZID=America/New_York:20301001T113000
DTEND;TZID=America/New_York:20301001T120000
DTSTAMP:20260422T060100
CREATED:20221103T210420Z
LAST-MODIFIED:20230627T182618Z
UID:10019316-1917084600-1917086400@gslookout.org
SUMMARY:Centering Prayer
DESCRIPTION:
URL:https://gslookout.org/event/centering-prayer-2/2030-10-01/
LOCATION:Lou Garcia Room
CATEGORIES:Formation
END:VEVENT
BEGIN:VEVENT
DTSTART;TZID=America/New_York:20301002T070000
DTEND;TZID=America/New_York:20301002T200000
DTSTAMP:20260422T060100
CREATED:20230127T161734Z
LAST-MODIFIED:20230127T161734Z
UID:10019318-1917154800-1917201600@gslookout.org
SUMMARY:Men's Bible Study
DESCRIPTION:
URL:https://gslookout.org/event/mens-bible-study/2030-10-02/
LOCATION:Talbird Hall
CATEGORIES:Formation
END:VEVENT
BEGIN:VEVENT
DTSTART;TZID=America/New_York:20301002T183000
DTEND;TZID=America/New_York:20301002T193000
DTSTAMP:20260422T060100
CREATED:20230127T163955Z
LAST-MODIFIED:20230127T165113Z
UID:10019319-1917196200-1917199800@gslookout.org
SUMMARY:Wednesday Night Youth
DESCRIPTION:
URL:https://gslookout.org/event/wednesday-night-youth/2030-10-02/
LOCATION:Youth Building
CATEGORIES:Formation,Youth
END:VEVENT
BEGIN:VEVENT
DTSTART;TZID=America/New_York:20301003T103000
DTEND;TZID=America/New_York:20301003T233000
DTSTAMP:20260422T060100
CREATED:20241122T224001Z
LAST-MODIFIED:20241122T224019Z
UID:10019323-1917253800-1917300600@gslookout.org
SUMMARY:Thursday Bible Study
DESCRIPTION:
URL:https://gslookout.org/event/thursday-bible-study-2/2030-10-03/
LOCATION:Talbird Hall
CATEGORIES:Formation
END:VEVENT
BEGIN:VEVENT
DTSTART;TZID=America/New_York:20301006T091500
DTEND;TZID=America/New_York:20301006T101500
DTSTAMP:20260422T060100
CREATED:20230127T162550Z
LAST-MODIFIED:20230127T162550Z
UID:10019325-1917508500-1917512100@gslookout.org
SUMMARY:Lectionary Bible Study
DESCRIPTION:
URL:https://gslookout.org/event/lectionary-bible-study/2030-10-06/
LOCATION:Library
CATEGORIES:Formation
END:VEVENT
BEGIN:VEVENT
DTSTART;TZID=America/New_York:20301006T091500
DTEND;TZID=America/New_York:20301006T101500
DTSTAMP:20260422T060100
CREATED:20230127T163036Z
LAST-MODIFIED:20230127T163036Z
UID:10019326-1917508500-1917512100@gslookout.org
SUMMARY:Coffee & Conversations
DESCRIPTION:
URL:https://gslookout.org/event/coffee-conversations/2030-10-06/
LOCATION:Lupton Reading Room
CATEGORIES:Formation
END:VEVENT
BEGIN:VEVENT
DTSTART;TZID=America/New_York:20301006T103000
DTEND;TZID=America/New_York:20301006T233000
DTSTAMP:20260422T060100
CREATED:20230908T210148Z
LAST-MODIFIED:20230908T210149Z
UID:10019328-1917513000-1917559800@gslookout.org
SUMMARY:Youth Breakfast & Sunday School
DESCRIPTION:
URL:https://gslookout.org/event/youth-breakfast-sunday-school-2/2030-10-06/
LOCATION:Youth Building
CATEGORIES:Formation,Youth
END:VEVENT
BEGIN:VEVENT
DTSTART;TZID=America/New_York:20301008T100000
DTEND;TZID=America/New_York:20301008T103000
DTSTAMP:20260422T060100
CREATED:20221103T210703Z
LAST-MODIFIED:20230627T182417Z
UID:10019336-1917684000-1917685800@gslookout.org
SUMMARY:Intercessory Prayer Group
DESCRIPTION:
URL:https://gslookout.org/event/intercessory-prayer-group-2/2030-10-08/
LOCATION:Chapel
CATEGORIES:Formation,Worship
END:VEVENT
BEGIN:VEVENT
DTSTART;TZID=America/New_York:20301008T113000
DTEND;TZID=America/New_York:20301008T120000
DTSTAMP:20260422T060100
CREATED:20221103T210420Z
LAST-MODIFIED:20230627T182618Z
UID:10019338-1917689400-1917691200@gslookout.org
SUMMARY:Centering Prayer
DESCRIPTION:
URL:https://gslookout.org/event/centering-prayer-2/2030-10-08/
LOCATION:Lou Garcia Room
CATEGORIES:Formation
END:VEVENT
BEGIN:VEVENT
DTSTART;TZID=America/New_York:20301009T070000
DTEND;TZID=America/New_York:20301009T200000
DTSTAMP:20260422T060100
CREATED:20230127T161734Z
LAST-MODIFIED:20230127T161734Z
UID:10019340-1917759600-1917806400@gslookout.org
SUMMARY:Men's Bible Study
DESCRIPTION:
URL:https://gslookout.org/event/mens-bible-study/2030-10-09/
LOCATION:Talbird Hall
CATEGORIES:Formation
END:VEVENT
BEGIN:VEVENT
DTSTART;TZID=America/New_York:20301009T183000
DTEND;TZID=America/New_York:20301009T193000
DTSTAMP:20260422T060100
CREATED:20230127T163955Z
LAST-MODIFIED:20230127T165113Z
UID:10019341-1917801000-1917804600@gslookout.org
SUMMARY:Wednesday Night Youth
DESCRIPTION:
URL:https://gslookout.org/event/wednesday-night-youth/2030-10-09/
LOCATION:Youth Building
CATEGORIES:Formation,Youth
END:VEVENT
BEGIN:VEVENT
DTSTART;TZID=America/New_York:20301010T103000
DTEND;TZID=America/New_York:20301010T233000
DTSTAMP:20260422T060100
CREATED:20241122T224001Z
LAST-MODIFIED:20241122T224019Z
UID:10019346-1917858600-1917905400@gslookout.org
SUMMARY:Thursday Bible Study
DESCRIPTION:
URL:https://gslookout.org/event/thursday-bible-study-2/2030-10-10/
LOCATION:Talbird Hall
CATEGORIES:Formation
END:VEVENT
BEGIN:VEVENT
DTSTART;TZID=America/New_York:20301013T091500
DTEND;TZID=America/New_York:20301013T101500
DTSTAMP:20260422T060100
CREATED:20230127T162550Z
LAST-MODIFIED:20230127T162550Z
UID:10019348-1918113300-1918116900@gslookout.org
SUMMARY:Lectionary Bible Study
DESCRIPTION:
URL:https://gslookout.org/event/lectionary-bible-study/2030-10-13/
LOCATION:Library
CATEGORIES:Formation
END:VEVENT
BEGIN:VEVENT
DTSTART;TZID=America/New_York:20301013T091500
DTEND;TZID=America/New_York:20301013T101500
DTSTAMP:20260422T060100
CREATED:20230127T163036Z
LAST-MODIFIED:20230127T163036Z
UID:10019349-1918113300-1918116900@gslookout.org
SUMMARY:Coffee & Conversations
DESCRIPTION:
URL:https://gslookout.org/event/coffee-conversations/2030-10-13/
LOCATION:Lupton Reading Room
CATEGORIES:Formation
END:VEVENT
BEGIN:VEVENT
DTSTART;TZID=America/New_York:20301013T103000
DTEND;TZID=America/New_York:20301013T233000
DTSTAMP:20260422T060100
CREATED:20230908T210148Z
LAST-MODIFIED:20230908T210149Z
UID:10019351-1918117800-1918164600@gslookout.org
SUMMARY:Youth Breakfast & Sunday School
DESCRIPTION:
URL:https://gslookout.org/event/youth-breakfast-sunday-school-2/2030-10-13/
LOCATION:Youth Building
CATEGORIES:Formation,Youth
END:VEVENT
BEGIN:VEVENT
DTSTART;TZID=America/New_York:20301015T100000
DTEND;TZID=America/New_York:20301015T103000
DTSTAMP:20260422T060100
CREATED:20221103T210703Z
LAST-MODIFIED:20230627T182417Z
UID:10019359-1918288800-1918290600@gslookout.org
SUMMARY:Intercessory Prayer Group
DESCRIPTION:
URL:https://gslookout.org/event/intercessory-prayer-group-2/2030-10-15/
LOCATION:Chapel
CATEGORIES:Formation,Worship
END:VEVENT
BEGIN:VEVENT
DTSTART;TZID=America/New_York:20301015T113000
DTEND;TZID=America/New_York:20301015T120000
DTSTAMP:20260422T060100
CREATED:20221103T210420Z
LAST-MODIFIED:20230627T182618Z
UID:10019361-1918294200-1918296000@gslookout.org
SUMMARY:Centering Prayer
DESCRIPTION:
URL:https://gslookout.org/event/centering-prayer-2/2030-10-15/
LOCATION:Lou Garcia Room
CATEGORIES:Formation
END:VEVENT
BEGIN:VEVENT
DTSTART;TZID=America/New_York:20301016T070000
DTEND;TZID=America/New_York:20301016T200000
DTSTAMP:20260422T060100
CREATED:20230127T161734Z
LAST-MODIFIED:20230127T161734Z
UID:10019363-1918364400-1918411200@gslookout.org
SUMMARY:Men's Bible Study
DESCRIPTION:
URL:https://gslookout.org/event/mens-bible-study/2030-10-16/
LOCATION:Talbird Hall
CATEGORIES:Formation
END:VEVENT
BEGIN:VEVENT
DTSTART;TZID=America/New_York:20301016T183000
DTEND;TZID=America/New_York:20301016T193000
DTSTAMP:20260422T060100
CREATED:20230127T163955Z
LAST-MODIFIED:20230127T165113Z
UID:10019364-1918405800-1918409400@gslookout.org
SUMMARY:Wednesday Night Youth
DESCRIPTION:
URL:https://gslookout.org/event/wednesday-night-youth/2030-10-16/
LOCATION:Youth Building
CATEGORIES:Formation,Youth
END:VEVENT
BEGIN:VEVENT
DTSTART;TZID=America/New_York:20301017T103000
DTEND;TZID=America/New_York:20301017T233000
DTSTAMP:20260422T060100
CREATED:20241122T224001Z
LAST-MODIFIED:20241122T224019Z
UID:10019368-1918463400-1918510200@gslookout.org
SUMMARY:Thursday Bible Study
DESCRIPTION:
URL:https://gslookout.org/event/thursday-bible-study-2/2030-10-17/
LOCATION:Talbird Hall
CATEGORIES:Formation
END:VEVENT
BEGIN:VEVENT
DTSTART;TZID=America/New_York:20301020T091500
DTEND;TZID=America/New_York:20301020T101500
DTSTAMP:20260422T060100
CREATED:20230127T162550Z
LAST-MODIFIED:20230127T162550Z
UID:10019370-1918718100-1918721700@gslookout.org
SUMMARY:Lectionary Bible Study
DESCRIPTION:
URL:https://gslookout.org/event/lectionary-bible-study/2030-10-20/
LOCATION:Library
CATEGORIES:Formation
END:VEVENT
BEGIN:VEVENT
DTSTART;TZID=America/New_York:20301020T091500
DTEND;TZID=America/New_York:20301020T101500
DTSTAMP:20260422T060100
CREATED:20230127T163036Z
LAST-MODIFIED:20230127T163036Z
UID:10019371-1918718100-1918721700@gslookout.org
SUMMARY:Coffee & Conversations
DESCRIPTION:
URL:https://gslookout.org/event/coffee-conversations/2030-10-20/
LOCATION:Lupton Reading Room
CATEGORIES:Formation
END:VEVENT
BEGIN:VEVENT
DTSTART;TZID=America/New_York:20301020T103000
DTEND;TZID=America/New_York:20301020T233000
DTSTAMP:20260422T060100
CREATED:20230908T210148Z
LAST-MODIFIED:20230908T210149Z
UID:10019373-1918722600-1918769400@gslookout.org
SUMMARY:Youth Breakfast & Sunday School
DESCRIPTION:
URL:https://gslookout.org/event/youth-breakfast-sunday-school-2/2030-10-20/
LOCATION:Youth Building
CATEGORIES:Formation,Youth
END:VEVENT
BEGIN:VEVENT
DTSTART;TZID=America/New_York:20301022T100000
DTEND;TZID=America/New_York:20301022T103000
DTSTAMP:20260422T060100
CREATED:20221103T210703Z
LAST-MODIFIED:20230627T182417Z
UID:10019381-1918893600-1918895400@gslookout.org
SUMMARY:Intercessory Prayer Group
DESCRIPTION:
URL:https://gslookout.org/event/intercessory-prayer-group-2/2030-10-22/
LOCATION:Chapel
CATEGORIES:Formation,Worship
END:VEVENT
BEGIN:VEVENT
DTSTART;TZID=America/New_York:20301022T113000
DTEND;TZID=America/New_York:20301022T120000
DTSTAMP:20260422T060100
CREATED:20221103T210420Z
LAST-MODIFIED:20230627T182618Z
UID:10019383-1918899000-1918900800@gslookout.org
SUMMARY:Centering Prayer
DESCRIPTION:
URL:https://gslookout.org/event/centering-prayer-2/2030-10-22/
LOCATION:Lou Garcia Room
CATEGORIES:Formation
END:VEVENT
BEGIN:VEVENT
DTSTART;TZID=America/New_York:20301023T070000
DTEND;TZID=America/New_York:20301023T200000
DTSTAMP:20260422T060100
CREATED:20230127T161734Z
LAST-MODIFIED:20230127T161734Z
UID:10019386-1918969200-1919016000@gslookout.org
SUMMARY:Men's Bible Study
DESCRIPTION:
URL:https://gslookout.org/event/mens-bible-study/2030-10-23/
LOCATION:Talbird Hall
CATEGORIES:Formation
END:VEVENT
BEGIN:VEVENT
DTSTART;TZID=America/New_York:20301023T183000
DTEND;TZID=America/New_York:20301023T193000
DTSTAMP:20260422T060100
CREATED:20230127T163955Z
LAST-MODIFIED:20230127T165113Z
UID:10019387-1919010600-1919014200@gslookout.org
SUMMARY:Wednesday Night Youth
DESCRIPTION:
URL:https://gslookout.org/event/wednesday-night-youth/2030-10-23/
LOCATION:Youth Building
CATEGORIES:Formation,Youth
END:VEVENT
BEGIN:VEVENT
DTSTART;TZID=America/New_York:20301024T103000
DTEND;TZID=America/New_York:20301024T233000
DTSTAMP:20260422T060100
CREATED:20241122T224001Z
LAST-MODIFIED:20241122T224019Z
UID:10019392-1919068200-1919115000@gslookout.org
SUMMARY:Thursday Bible Study
DESCRIPTION:
URL:https://gslookout.org/event/thursday-bible-study-2/2030-10-24/
LOCATION:Talbird Hall
CATEGORIES:Formation
END:VEVENT
BEGIN:VEVENT
DTSTART;TZID=America/New_York:20301027T091500
DTEND;TZID=America/New_York:20301027T101500
DTSTAMP:20260422T060100
CREATED:20230127T162550Z
LAST-MODIFIED:20230127T162550Z
UID:10019394-1919322900-1919326500@gslookout.org
SUMMARY:Lectionary Bible Study
DESCRIPTION:
URL:https://gslookout.org/event/lectionary-bible-study/2030-10-27/
LOCATION:Library
CATEGORIES:Formation
END:VEVENT
END:VCALENDAR