BEGIN:VCALENDAR
VERSION:2.0
PRODID:-//Church of the Good Shepherd - ECPv6.15.20//NONSGML v1.0//EN
CALSCALE:GREGORIAN
METHOD:PUBLISH
X-WR-CALNAME:Church of the Good Shepherd
X-ORIGINAL-URL:https://gslookout.org
X-WR-CALDESC:Events for Church of the Good Shepherd
REFRESH-INTERVAL;VALUE=DURATION:PT1H
X-Robots-Tag:noindex
X-PUBLISHED-TTL:PT1H
BEGIN:VTIMEZONE
TZID:America/New_York
BEGIN:DAYLIGHT
TZOFFSETFROM:-0500
TZOFFSETTO:-0400
TZNAME:EDT
DTSTART:20290311T070000
END:DAYLIGHT
BEGIN:STANDARD
TZOFFSETFROM:-0400
TZOFFSETTO:-0500
TZNAME:EST
DTSTART:20291104T060000
END:STANDARD
BEGIN:DAYLIGHT
TZOFFSETFROM:-0500
TZOFFSETTO:-0400
TZNAME:EDT
DTSTART:20300310T070000
END:DAYLIGHT
BEGIN:STANDARD
TZOFFSETFROM:-0400
TZOFFSETTO:-0500
TZNAME:EST
DTSTART:20301103T060000
END:STANDARD
BEGIN:DAYLIGHT
TZOFFSETFROM:-0500
TZOFFSETTO:-0400
TZNAME:EDT
DTSTART:20310309T070000
END:DAYLIGHT
BEGIN:STANDARD
TZOFFSETFROM:-0400
TZOFFSETTO:-0500
TZNAME:EST
DTSTART:20311102T060000
END:STANDARD
END:VTIMEZONE
BEGIN:VEVENT
DTSTART;TZID=America/New_York:20301103T091500
DTEND;TZID=America/New_York:20301103T101500
DTSTAMP:20260422T073107
CREATED:20230127T162550Z
LAST-MODIFIED:20230127T162550Z
UID:10019416-1919927700-1919931300@gslookout.org
SUMMARY:Lectionary Bible Study
DESCRIPTION:
URL:https://gslookout.org/event/lectionary-bible-study/2030-11-03/
LOCATION:Library
CATEGORIES:Formation
END:VEVENT
BEGIN:VEVENT
DTSTART;TZID=America/New_York:20301103T091500
DTEND;TZID=America/New_York:20301103T101500
DTSTAMP:20260422T073107
CREATED:20230127T163036Z
LAST-MODIFIED:20230127T163036Z
UID:10019417-1919927700-1919931300@gslookout.org
SUMMARY:Coffee & Conversations
DESCRIPTION:
URL:https://gslookout.org/event/coffee-conversations/2030-11-03/
LOCATION:Lupton Reading Room
CATEGORIES:Formation
END:VEVENT
BEGIN:VEVENT
DTSTART;TZID=America/New_York:20301103T103000
DTEND;TZID=America/New_York:20301103T233000
DTSTAMP:20260422T073107
CREATED:20230908T210148Z
LAST-MODIFIED:20230908T210149Z
UID:10019419-1919932200-1919979000@gslookout.org
SUMMARY:Youth Breakfast & Sunday School
DESCRIPTION:
URL:https://gslookout.org/event/youth-breakfast-sunday-school-2/2030-11-03/
LOCATION:Youth Building
CATEGORIES:Formation,Youth
END:VEVENT
BEGIN:VEVENT
DTSTART;TZID=America/New_York:20301105T100000
DTEND;TZID=America/New_York:20301105T103000
DTSTAMP:20260422T073107
CREATED:20221103T210703Z
LAST-MODIFIED:20230627T182417Z
UID:10019428-1920103200-1920105000@gslookout.org
SUMMARY:Intercessory Prayer Group
DESCRIPTION:
URL:https://gslookout.org/event/intercessory-prayer-group-2/2030-11-05/
LOCATION:Chapel
CATEGORIES:Formation,Worship
END:VEVENT
BEGIN:VEVENT
DTSTART;TZID=America/New_York:20301105T113000
DTEND;TZID=America/New_York:20301105T120000
DTSTAMP:20260422T073107
CREATED:20221103T210420Z
LAST-MODIFIED:20230627T182618Z
UID:10019430-1920108600-1920110400@gslookout.org
SUMMARY:Centering Prayer
DESCRIPTION:
URL:https://gslookout.org/event/centering-prayer-2/2030-11-05/
LOCATION:Lou Garcia Room
CATEGORIES:Formation
END:VEVENT
BEGIN:VEVENT
DTSTART;TZID=America/New_York:20301106T070000
DTEND;TZID=America/New_York:20301106T200000
DTSTAMP:20260422T073107
CREATED:20230127T161734Z
LAST-MODIFIED:20230127T161734Z
UID:10019432-1920178800-1920225600@gslookout.org
SUMMARY:Men's Bible Study
DESCRIPTION:
URL:https://gslookout.org/event/mens-bible-study/2030-11-06/
LOCATION:Talbird Hall
CATEGORIES:Formation
END:VEVENT
BEGIN:VEVENT
DTSTART;TZID=America/New_York:20301106T183000
DTEND;TZID=America/New_York:20301106T193000
DTSTAMP:20260422T073107
CREATED:20230127T163955Z
LAST-MODIFIED:20230127T165113Z
UID:10019433-1920220200-1920223800@gslookout.org
SUMMARY:Wednesday Night Youth
DESCRIPTION:
URL:https://gslookout.org/event/wednesday-night-youth/2030-11-06/
LOCATION:Youth Building
CATEGORIES:Formation,Youth
END:VEVENT
BEGIN:VEVENT
DTSTART;TZID=America/New_York:20301107T103000
DTEND;TZID=America/New_York:20301107T233000
DTSTAMP:20260422T073107
CREATED:20241122T224001Z
LAST-MODIFIED:20241122T224019Z
UID:10019437-1920277800-1920324600@gslookout.org
SUMMARY:Thursday Bible Study
DESCRIPTION:
URL:https://gslookout.org/event/thursday-bible-study-2/2030-11-07/
LOCATION:Talbird Hall
CATEGORIES:Formation
END:VEVENT
BEGIN:VEVENT
DTSTART;TZID=America/New_York:20301110T091500
DTEND;TZID=America/New_York:20301110T101500
DTSTAMP:20260422T073107
CREATED:20230127T162550Z
LAST-MODIFIED:20230127T162550Z
UID:10019439-1920532500-1920536100@gslookout.org
SUMMARY:Lectionary Bible Study
DESCRIPTION:
URL:https://gslookout.org/event/lectionary-bible-study/2030-11-10/
LOCATION:Library
CATEGORIES:Formation
END:VEVENT
BEGIN:VEVENT
DTSTART;TZID=America/New_York:20301110T091500
DTEND;TZID=America/New_York:20301110T101500
DTSTAMP:20260422T073107
CREATED:20230127T163036Z
LAST-MODIFIED:20230127T163036Z
UID:10019440-1920532500-1920536100@gslookout.org
SUMMARY:Coffee & Conversations
DESCRIPTION:
URL:https://gslookout.org/event/coffee-conversations/2030-11-10/
LOCATION:Lupton Reading Room
CATEGORIES:Formation
END:VEVENT
BEGIN:VEVENT
DTSTART;TZID=America/New_York:20301110T103000
DTEND;TZID=America/New_York:20301110T233000
DTSTAMP:20260422T073107
CREATED:20230908T210148Z
LAST-MODIFIED:20230908T210149Z
UID:10019442-1920537000-1920583800@gslookout.org
SUMMARY:Youth Breakfast & Sunday School
DESCRIPTION:
URL:https://gslookout.org/event/youth-breakfast-sunday-school-2/2030-11-10/
LOCATION:Youth Building
CATEGORIES:Formation,Youth
END:VEVENT
BEGIN:VEVENT
DTSTART;TZID=America/New_York:20301112T100000
DTEND;TZID=America/New_York:20301112T103000
DTSTAMP:20260422T073107
CREATED:20221103T210703Z
LAST-MODIFIED:20230627T182417Z
UID:10019451-1920708000-1920709800@gslookout.org
SUMMARY:Intercessory Prayer Group
DESCRIPTION:
URL:https://gslookout.org/event/intercessory-prayer-group-2/2030-11-12/
LOCATION:Chapel
CATEGORIES:Formation,Worship
END:VEVENT
BEGIN:VEVENT
DTSTART;TZID=America/New_York:20301112T113000
DTEND;TZID=America/New_York:20301112T120000
DTSTAMP:20260422T073107
CREATED:20221103T210420Z
LAST-MODIFIED:20230627T182618Z
UID:10019453-1920713400-1920715200@gslookout.org
SUMMARY:Centering Prayer
DESCRIPTION:
URL:https://gslookout.org/event/centering-prayer-2/2030-11-12/
LOCATION:Lou Garcia Room
CATEGORIES:Formation
END:VEVENT
BEGIN:VEVENT
DTSTART;TZID=America/New_York:20301113T070000
DTEND;TZID=America/New_York:20301113T200000
DTSTAMP:20260422T073107
CREATED:20230127T161734Z
LAST-MODIFIED:20230127T161734Z
UID:10019455-1920783600-1920830400@gslookout.org
SUMMARY:Men's Bible Study
DESCRIPTION:
URL:https://gslookout.org/event/mens-bible-study/2030-11-13/
LOCATION:Talbird Hall
CATEGORIES:Formation
END:VEVENT
BEGIN:VEVENT
DTSTART;TZID=America/New_York:20301113T183000
DTEND;TZID=America/New_York:20301113T193000
DTSTAMP:20260422T073107
CREATED:20230127T163955Z
LAST-MODIFIED:20230127T165113Z
UID:10019456-1920825000-1920828600@gslookout.org
SUMMARY:Wednesday Night Youth
DESCRIPTION:
URL:https://gslookout.org/event/wednesday-night-youth/2030-11-13/
LOCATION:Youth Building
CATEGORIES:Formation,Youth
END:VEVENT
BEGIN:VEVENT
DTSTART;TZID=America/New_York:20301114T103000
DTEND;TZID=America/New_York:20301114T233000
DTSTAMP:20260422T073107
CREATED:20241122T224001Z
LAST-MODIFIED:20241122T224019Z
UID:10019459-1920882600-1920929400@gslookout.org
SUMMARY:Thursday Bible Study
DESCRIPTION:
URL:https://gslookout.org/event/thursday-bible-study-2/2030-11-14/
LOCATION:Talbird Hall
CATEGORIES:Formation
END:VEVENT
BEGIN:VEVENT
DTSTART;TZID=America/New_York:20301117T091500
DTEND;TZID=America/New_York:20301117T101500
DTSTAMP:20260422T073107
CREATED:20230127T162550Z
LAST-MODIFIED:20230127T162550Z
UID:10019461-1921137300-1921140900@gslookout.org
SUMMARY:Lectionary Bible Study
DESCRIPTION:
URL:https://gslookout.org/event/lectionary-bible-study/2030-11-17/
LOCATION:Library
CATEGORIES:Formation
END:VEVENT
BEGIN:VEVENT
DTSTART;TZID=America/New_York:20301117T091500
DTEND;TZID=America/New_York:20301117T101500
DTSTAMP:20260422T073107
CREATED:20230127T163036Z
LAST-MODIFIED:20230127T163036Z
UID:10019462-1921137300-1921140900@gslookout.org
SUMMARY:Coffee & Conversations
DESCRIPTION:
URL:https://gslookout.org/event/coffee-conversations/2030-11-17/
LOCATION:Lupton Reading Room
CATEGORIES:Formation
END:VEVENT
BEGIN:VEVENT
DTSTART;TZID=America/New_York:20301117T103000
DTEND;TZID=America/New_York:20301117T233000
DTSTAMP:20260422T073107
CREATED:20230908T210148Z
LAST-MODIFIED:20230908T210149Z
UID:10019464-1921141800-1921188600@gslookout.org
SUMMARY:Youth Breakfast & Sunday School
DESCRIPTION:
URL:https://gslookout.org/event/youth-breakfast-sunday-school-2/2030-11-17/
LOCATION:Youth Building
CATEGORIES:Formation,Youth
END:VEVENT
BEGIN:VEVENT
DTSTART;TZID=America/New_York:20301119T100000
DTEND;TZID=America/New_York:20301119T103000
DTSTAMP:20260422T073107
CREATED:20221103T210703Z
LAST-MODIFIED:20230627T182417Z
UID:10019473-1921312800-1921314600@gslookout.org
SUMMARY:Intercessory Prayer Group
DESCRIPTION:
URL:https://gslookout.org/event/intercessory-prayer-group-2/2030-11-19/
LOCATION:Chapel
CATEGORIES:Formation,Worship
END:VEVENT
BEGIN:VEVENT
DTSTART;TZID=America/New_York:20301119T113000
DTEND;TZID=America/New_York:20301119T120000
DTSTAMP:20260422T073107
CREATED:20221103T210420Z
LAST-MODIFIED:20230627T182618Z
UID:10019475-1921318200-1921320000@gslookout.org
SUMMARY:Centering Prayer
DESCRIPTION:
URL:https://gslookout.org/event/centering-prayer-2/2030-11-19/
LOCATION:Lou Garcia Room
CATEGORIES:Formation
END:VEVENT
BEGIN:VEVENT
DTSTART;TZID=America/New_York:20301120T070000
DTEND;TZID=America/New_York:20301120T200000
DTSTAMP:20260422T073107
CREATED:20230127T161734Z
LAST-MODIFIED:20230127T161734Z
UID:10019477-1921388400-1921435200@gslookout.org
SUMMARY:Men's Bible Study
DESCRIPTION:
URL:https://gslookout.org/event/mens-bible-study/2030-11-20/
LOCATION:Talbird Hall
CATEGORIES:Formation
END:VEVENT
BEGIN:VEVENT
DTSTART;TZID=America/New_York:20301120T183000
DTEND;TZID=America/New_York:20301120T193000
DTSTAMP:20260422T073107
CREATED:20230127T163955Z
LAST-MODIFIED:20230127T165113Z
UID:10019478-1921429800-1921433400@gslookout.org
SUMMARY:Wednesday Night Youth
DESCRIPTION:
URL:https://gslookout.org/event/wednesday-night-youth/2030-11-20/
LOCATION:Youth Building
CATEGORIES:Formation,Youth
END:VEVENT
BEGIN:VEVENT
DTSTART;TZID=America/New_York:20301121T103000
DTEND;TZID=America/New_York:20301121T233000
DTSTAMP:20260422T073107
CREATED:20241122T224001Z
LAST-MODIFIED:20241122T224019Z
UID:10019482-1921487400-1921534200@gslookout.org
SUMMARY:Thursday Bible Study
DESCRIPTION:
URL:https://gslookout.org/event/thursday-bible-study-2/2030-11-21/
LOCATION:Talbird Hall
CATEGORIES:Formation
END:VEVENT
BEGIN:VEVENT
DTSTART;TZID=America/New_York:20301124T091500
DTEND;TZID=America/New_York:20301124T101500
DTSTAMP:20260422T073107
CREATED:20230127T162550Z
LAST-MODIFIED:20230127T162550Z
UID:10019484-1921742100-1921745700@gslookout.org
SUMMARY:Lectionary Bible Study
DESCRIPTION:
URL:https://gslookout.org/event/lectionary-bible-study/2030-11-24/
LOCATION:Library
CATEGORIES:Formation
END:VEVENT
BEGIN:VEVENT
DTSTART;TZID=America/New_York:20301124T091500
DTEND;TZID=America/New_York:20301124T101500
DTSTAMP:20260422T073107
CREATED:20230127T163036Z
LAST-MODIFIED:20230127T163036Z
UID:10019485-1921742100-1921745700@gslookout.org
SUMMARY:Coffee & Conversations
DESCRIPTION:
URL:https://gslookout.org/event/coffee-conversations/2030-11-24/
LOCATION:Lupton Reading Room
CATEGORIES:Formation
END:VEVENT
BEGIN:VEVENT
DTSTART;TZID=America/New_York:20301124T103000
DTEND;TZID=America/New_York:20301124T233000
DTSTAMP:20260422T073107
CREATED:20230908T210148Z
LAST-MODIFIED:20230908T210149Z
UID:10019487-1921746600-1921793400@gslookout.org
SUMMARY:Youth Breakfast & Sunday School
DESCRIPTION:
URL:https://gslookout.org/event/youth-breakfast-sunday-school-2/2030-11-24/
LOCATION:Youth Building
CATEGORIES:Formation,Youth
END:VEVENT
BEGIN:VEVENT
DTSTART;TZID=America/New_York:20301126T100000
DTEND;TZID=America/New_York:20301126T103000
DTSTAMP:20260422T073107
CREATED:20221103T210703Z
LAST-MODIFIED:20230627T182417Z
UID:10019496-1921917600-1921919400@gslookout.org
SUMMARY:Intercessory Prayer Group
DESCRIPTION:
URL:https://gslookout.org/event/intercessory-prayer-group-2/2030-11-26/
LOCATION:Chapel
CATEGORIES:Formation,Worship
END:VEVENT
BEGIN:VEVENT
DTSTART;TZID=America/New_York:20301126T113000
DTEND;TZID=America/New_York:20301126T120000
DTSTAMP:20260422T073107
CREATED:20221103T210420Z
LAST-MODIFIED:20230627T182618Z
UID:10019498-1921923000-1921924800@gslookout.org
SUMMARY:Centering Prayer
DESCRIPTION:
URL:https://gslookout.org/event/centering-prayer-2/2030-11-26/
LOCATION:Lou Garcia Room
CATEGORIES:Formation
END:VEVENT
BEGIN:VEVENT
DTSTART;TZID=America/New_York:20301127T070000
DTEND;TZID=America/New_York:20301127T200000
DTSTAMP:20260422T073107
CREATED:20230127T161734Z
LAST-MODIFIED:20230127T161734Z
UID:10019500-1921993200-1922040000@gslookout.org
SUMMARY:Men's Bible Study
DESCRIPTION:
URL:https://gslookout.org/event/mens-bible-study/2030-11-27/
LOCATION:Talbird Hall
CATEGORIES:Formation
END:VEVENT
END:VCALENDAR