BEGIN:VCALENDAR
VERSION:2.0
PRODID:-//Church of the Good Shepherd - ECPv6.15.20//NONSGML v1.0//EN
CALSCALE:GREGORIAN
METHOD:PUBLISH
X-WR-CALNAME:Church of the Good Shepherd
X-ORIGINAL-URL:https://gslookout.org
X-WR-CALDESC:Events for Church of the Good Shepherd
REFRESH-INTERVAL;VALUE=DURATION:PT1H
X-Robots-Tag:noindex
X-PUBLISHED-TTL:PT1H
BEGIN:VTIMEZONE
TZID:America/New_York
BEGIN:DAYLIGHT
TZOFFSETFROM:-0500
TZOFFSETTO:-0400
TZNAME:EDT
DTSTART:20300310T070000
END:DAYLIGHT
BEGIN:STANDARD
TZOFFSETFROM:-0400
TZOFFSETTO:-0500
TZNAME:EST
DTSTART:20301103T060000
END:STANDARD
BEGIN:DAYLIGHT
TZOFFSETFROM:-0500
TZOFFSETTO:-0400
TZNAME:EDT
DTSTART:20310309T070000
END:DAYLIGHT
BEGIN:STANDARD
TZOFFSETFROM:-0400
TZOFFSETTO:-0500
TZNAME:EST
DTSTART:20311102T060000
END:STANDARD
BEGIN:DAYLIGHT
TZOFFSETFROM:-0500
TZOFFSETTO:-0400
TZNAME:EDT
DTSTART:20320314T070000
END:DAYLIGHT
BEGIN:STANDARD
TZOFFSETFROM:-0400
TZOFFSETTO:-0500
TZNAME:EST
DTSTART:20321107T060000
END:STANDARD
END:VTIMEZONE
BEGIN:VEVENT
DTSTART;TZID=America/New_York:20310202T091500
DTEND;TZID=America/New_York:20310202T101500
DTSTAMP:20260422T122535
CREATED:20230127T162550Z
LAST-MODIFIED:20230127T162550Z
UID:10019719-1927790100-1927793700@gslookout.org
SUMMARY:Lectionary Bible Study
DESCRIPTION:
URL:https://gslookout.org/event/lectionary-bible-study/2031-02-02/
LOCATION:Library
CATEGORIES:Formation
END:VEVENT
BEGIN:VEVENT
DTSTART;TZID=America/New_York:20310202T091500
DTEND;TZID=America/New_York:20310202T101500
DTSTAMP:20260422T122535
CREATED:20230127T163036Z
LAST-MODIFIED:20230127T163036Z
UID:10019720-1927790100-1927793700@gslookout.org
SUMMARY:Coffee & Conversations
DESCRIPTION:
URL:https://gslookout.org/event/coffee-conversations/2031-02-02/
LOCATION:Lupton Reading Room
CATEGORIES:Formation
END:VEVENT
BEGIN:VEVENT
DTSTART;TZID=America/New_York:20310202T103000
DTEND;TZID=America/New_York:20310202T233000
DTSTAMP:20260422T122535
CREATED:20230908T210148Z
LAST-MODIFIED:20230908T210149Z
UID:10019722-1927794600-1927841400@gslookout.org
SUMMARY:Youth Breakfast & Sunday School
DESCRIPTION:
URL:https://gslookout.org/event/youth-breakfast-sunday-school-2/2031-02-02/
LOCATION:Youth Building
CATEGORIES:Formation,Youth
END:VEVENT
BEGIN:VEVENT
DTSTART;TZID=America/New_York:20310204T100000
DTEND;TZID=America/New_York:20310204T103000
DTSTAMP:20260422T122535
CREATED:20221103T210703Z
LAST-MODIFIED:20230627T182417Z
UID:10019731-1927965600-1927967400@gslookout.org
SUMMARY:Intercessory Prayer Group
DESCRIPTION:
URL:https://gslookout.org/event/intercessory-prayer-group-2/2031-02-04/
LOCATION:Chapel
CATEGORIES:Formation,Worship
END:VEVENT
BEGIN:VEVENT
DTSTART;TZID=America/New_York:20310204T113000
DTEND;TZID=America/New_York:20310204T120000
DTSTAMP:20260422T122535
CREATED:20221103T210420Z
LAST-MODIFIED:20230627T182618Z
UID:10019733-1927971000-1927972800@gslookout.org
SUMMARY:Centering Prayer
DESCRIPTION:
URL:https://gslookout.org/event/centering-prayer-2/2031-02-04/
LOCATION:Lou Garcia Room
CATEGORIES:Formation
END:VEVENT
BEGIN:VEVENT
DTSTART;TZID=America/New_York:20310205T070000
DTEND;TZID=America/New_York:20310205T200000
DTSTAMP:20260422T122535
CREATED:20230127T161734Z
LAST-MODIFIED:20230127T161734Z
UID:10019735-1928041200-1928088000@gslookout.org
SUMMARY:Men's Bible Study
DESCRIPTION:
URL:https://gslookout.org/event/mens-bible-study/2031-02-05/
LOCATION:Talbird Hall
CATEGORIES:Formation
END:VEVENT
BEGIN:VEVENT
DTSTART;TZID=America/New_York:20310205T183000
DTEND;TZID=America/New_York:20310205T193000
DTSTAMP:20260422T122535
CREATED:20230127T163955Z
LAST-MODIFIED:20230127T165113Z
UID:10019736-1928082600-1928086200@gslookout.org
SUMMARY:Wednesday Night Youth
DESCRIPTION:
URL:https://gslookout.org/event/wednesday-night-youth/2031-02-05/
LOCATION:Youth Building
CATEGORIES:Formation,Youth
END:VEVENT
BEGIN:VEVENT
DTSTART;TZID=America/New_York:20310206T103000
DTEND;TZID=America/New_York:20310206T233000
DTSTAMP:20260422T122535
CREATED:20241122T224001Z
LAST-MODIFIED:20241122T224019Z
UID:10019738-1928140200-1928187000@gslookout.org
SUMMARY:Thursday Bible Study
DESCRIPTION:
URL:https://gslookout.org/event/thursday-bible-study-2/2031-02-06/
LOCATION:Talbird Hall
CATEGORIES:Formation
END:VEVENT
BEGIN:VEVENT
DTSTART;TZID=America/New_York:20310209T091500
DTEND;TZID=America/New_York:20310209T101500
DTSTAMP:20260422T122535
CREATED:20230127T162550Z
LAST-MODIFIED:20230127T162550Z
UID:10019740-1928394900-1928398500@gslookout.org
SUMMARY:Lectionary Bible Study
DESCRIPTION:
URL:https://gslookout.org/event/lectionary-bible-study/2031-02-09/
LOCATION:Library
CATEGORIES:Formation
END:VEVENT
BEGIN:VEVENT
DTSTART;TZID=America/New_York:20310209T091500
DTEND;TZID=America/New_York:20310209T101500
DTSTAMP:20260422T122535
CREATED:20230127T163036Z
LAST-MODIFIED:20230127T163036Z
UID:10019741-1928394900-1928398500@gslookout.org
SUMMARY:Coffee & Conversations
DESCRIPTION:
URL:https://gslookout.org/event/coffee-conversations/2031-02-09/
LOCATION:Lupton Reading Room
CATEGORIES:Formation
END:VEVENT
BEGIN:VEVENT
DTSTART;TZID=America/New_York:20310209T103000
DTEND;TZID=America/New_York:20310209T233000
DTSTAMP:20260422T122535
CREATED:20230908T210148Z
LAST-MODIFIED:20230908T210149Z
UID:10019743-1928399400-1928446200@gslookout.org
SUMMARY:Youth Breakfast & Sunday School
DESCRIPTION:
URL:https://gslookout.org/event/youth-breakfast-sunday-school-2/2031-02-09/
LOCATION:Youth Building
CATEGORIES:Formation,Youth
END:VEVENT
BEGIN:VEVENT
DTSTART;TZID=America/New_York:20310211T100000
DTEND;TZID=America/New_York:20310211T103000
DTSTAMP:20260422T122535
CREATED:20221103T210703Z
LAST-MODIFIED:20230627T182417Z
UID:10019757-1928570400-1928572200@gslookout.org
SUMMARY:Intercessory Prayer Group
DESCRIPTION:
URL:https://gslookout.org/event/intercessory-prayer-group-2/2031-02-11/
LOCATION:Chapel
CATEGORIES:Formation,Worship
END:VEVENT
BEGIN:VEVENT
DTSTART;TZID=America/New_York:20310211T113000
DTEND;TZID=America/New_York:20310211T120000
DTSTAMP:20260422T122535
CREATED:20221103T210420Z
LAST-MODIFIED:20230627T182618Z
UID:10019759-1928575800-1928577600@gslookout.org
SUMMARY:Centering Prayer
DESCRIPTION:
URL:https://gslookout.org/event/centering-prayer-2/2031-02-11/
LOCATION:Lou Garcia Room
CATEGORIES:Formation
END:VEVENT
BEGIN:VEVENT
DTSTART;TZID=America/New_York:20310212T070000
DTEND;TZID=America/New_York:20310212T200000
DTSTAMP:20260422T122535
CREATED:20230127T161734Z
LAST-MODIFIED:20230127T161734Z
UID:10019760-1928646000-1928692800@gslookout.org
SUMMARY:Men's Bible Study
DESCRIPTION:
URL:https://gslookout.org/event/mens-bible-study/2031-02-12/
LOCATION:Talbird Hall
CATEGORIES:Formation
END:VEVENT
BEGIN:VEVENT
DTSTART;TZID=America/New_York:20310212T183000
DTEND;TZID=America/New_York:20310212T193000
DTSTAMP:20260422T122535
CREATED:20230127T163955Z
LAST-MODIFIED:20230127T165113Z
UID:10019761-1928687400-1928691000@gslookout.org
SUMMARY:Wednesday Night Youth
DESCRIPTION:
URL:https://gslookout.org/event/wednesday-night-youth/2031-02-12/
LOCATION:Youth Building
CATEGORIES:Formation,Youth
END:VEVENT
BEGIN:VEVENT
DTSTART;TZID=America/New_York:20310213T103000
DTEND;TZID=America/New_York:20310213T233000
DTSTAMP:20260422T122535
CREATED:20241122T224001Z
LAST-MODIFIED:20241122T224019Z
UID:10019763-1928745000-1928791800@gslookout.org
SUMMARY:Thursday Bible Study
DESCRIPTION:
URL:https://gslookout.org/event/thursday-bible-study-2/2031-02-13/
LOCATION:Talbird Hall
CATEGORIES:Formation
END:VEVENT
BEGIN:VEVENT
DTSTART;TZID=America/New_York:20310216T091500
DTEND;TZID=America/New_York:20310216T101500
DTSTAMP:20260422T122535
CREATED:20230127T162550Z
LAST-MODIFIED:20230127T162550Z
UID:10019766-1928999700-1929003300@gslookout.org
SUMMARY:Lectionary Bible Study
DESCRIPTION:
URL:https://gslookout.org/event/lectionary-bible-study/2031-02-16/
LOCATION:Library
CATEGORIES:Formation
END:VEVENT
BEGIN:VEVENT
DTSTART;TZID=America/New_York:20310216T091500
DTEND;TZID=America/New_York:20310216T101500
DTSTAMP:20260422T122535
CREATED:20230127T163036Z
LAST-MODIFIED:20230127T163036Z
UID:10019767-1928999700-1929003300@gslookout.org
SUMMARY:Coffee & Conversations
DESCRIPTION:
URL:https://gslookout.org/event/coffee-conversations/2031-02-16/
LOCATION:Lupton Reading Room
CATEGORIES:Formation
END:VEVENT
BEGIN:VEVENT
DTSTART;TZID=America/New_York:20310216T103000
DTEND;TZID=America/New_York:20310216T233000
DTSTAMP:20260422T122535
CREATED:20230908T210148Z
LAST-MODIFIED:20230908T210149Z
UID:10019769-1929004200-1929051000@gslookout.org
SUMMARY:Youth Breakfast & Sunday School
DESCRIPTION:
URL:https://gslookout.org/event/youth-breakfast-sunday-school-2/2031-02-16/
LOCATION:Youth Building
CATEGORIES:Formation,Youth
END:VEVENT
BEGIN:VEVENT
DTSTART;TZID=America/New_York:20310218T100000
DTEND;TZID=America/New_York:20310218T103000
DTSTAMP:20260422T122535
CREATED:20221103T210703Z
LAST-MODIFIED:20230627T182417Z
UID:10019778-1929175200-1929177000@gslookout.org
SUMMARY:Intercessory Prayer Group
DESCRIPTION:
URL:https://gslookout.org/event/intercessory-prayer-group-2/2031-02-18/
LOCATION:Chapel
CATEGORIES:Formation,Worship
END:VEVENT
BEGIN:VEVENT
DTSTART;TZID=America/New_York:20310218T113000
DTEND;TZID=America/New_York:20310218T120000
DTSTAMP:20260422T122535
CREATED:20221103T210420Z
LAST-MODIFIED:20230627T182618Z
UID:10019780-1929180600-1929182400@gslookout.org
SUMMARY:Centering Prayer
DESCRIPTION:
URL:https://gslookout.org/event/centering-prayer-2/2031-02-18/
LOCATION:Lou Garcia Room
CATEGORIES:Formation
END:VEVENT
BEGIN:VEVENT
DTSTART;TZID=America/New_York:20310219T070000
DTEND;TZID=America/New_York:20310219T200000
DTSTAMP:20260422T122535
CREATED:20230127T161734Z
LAST-MODIFIED:20230127T161734Z
UID:10019782-1929250800-1929297600@gslookout.org
SUMMARY:Men's Bible Study
DESCRIPTION:
URL:https://gslookout.org/event/mens-bible-study/2031-02-19/
LOCATION:Talbird Hall
CATEGORIES:Formation
END:VEVENT
BEGIN:VEVENT
DTSTART;TZID=America/New_York:20310219T183000
DTEND;TZID=America/New_York:20310219T193000
DTSTAMP:20260422T122535
CREATED:20230127T163955Z
LAST-MODIFIED:20230127T165113Z
UID:10019783-1929292200-1929295800@gslookout.org
SUMMARY:Wednesday Night Youth
DESCRIPTION:
URL:https://gslookout.org/event/wednesday-night-youth/2031-02-19/
LOCATION:Youth Building
CATEGORIES:Formation,Youth
END:VEVENT
BEGIN:VEVENT
DTSTART;TZID=America/New_York:20310220T103000
DTEND;TZID=America/New_York:20310220T233000
DTSTAMP:20260422T122535
CREATED:20241122T224001Z
LAST-MODIFIED:20241122T224019Z
UID:10019785-1929349800-1929396600@gslookout.org
SUMMARY:Thursday Bible Study
DESCRIPTION:
URL:https://gslookout.org/event/thursday-bible-study-2/2031-02-20/
LOCATION:Talbird Hall
CATEGORIES:Formation
END:VEVENT
BEGIN:VEVENT
DTSTART;TZID=America/New_York:20310223T091500
DTEND;TZID=America/New_York:20310223T101500
DTSTAMP:20260422T122535
CREATED:20230127T162550Z
LAST-MODIFIED:20230127T162550Z
UID:10019787-1929604500-1929608100@gslookout.org
SUMMARY:Lectionary Bible Study
DESCRIPTION:
URL:https://gslookout.org/event/lectionary-bible-study/2031-02-23/
LOCATION:Library
CATEGORIES:Formation
END:VEVENT
BEGIN:VEVENT
DTSTART;TZID=America/New_York:20310223T091500
DTEND;TZID=America/New_York:20310223T101500
DTSTAMP:20260422T122535
CREATED:20230127T163036Z
LAST-MODIFIED:20230127T163036Z
UID:10019788-1929604500-1929608100@gslookout.org
SUMMARY:Coffee & Conversations
DESCRIPTION:
URL:https://gslookout.org/event/coffee-conversations/2031-02-23/
LOCATION:Lupton Reading Room
CATEGORIES:Formation
END:VEVENT
BEGIN:VEVENT
DTSTART;TZID=America/New_York:20310223T103000
DTEND;TZID=America/New_York:20310223T233000
DTSTAMP:20260422T122535
CREATED:20230908T210148Z
LAST-MODIFIED:20230908T210149Z
UID:10019790-1929609000-1929655800@gslookout.org
SUMMARY:Youth Breakfast & Sunday School
DESCRIPTION:
URL:https://gslookout.org/event/youth-breakfast-sunday-school-2/2031-02-23/
LOCATION:Youth Building
CATEGORIES:Formation,Youth
END:VEVENT
BEGIN:VEVENT
DTSTART;TZID=America/New_York:20310225T100000
DTEND;TZID=America/New_York:20310225T103000
DTSTAMP:20260422T122535
CREATED:20221103T210703Z
LAST-MODIFIED:20230627T182417Z
UID:10019799-1929780000-1929781800@gslookout.org
SUMMARY:Intercessory Prayer Group
DESCRIPTION:
URL:https://gslookout.org/event/intercessory-prayer-group-2/2031-02-25/
LOCATION:Chapel
CATEGORIES:Formation,Worship
END:VEVENT
BEGIN:VEVENT
DTSTART;TZID=America/New_York:20310225T113000
DTEND;TZID=America/New_York:20310225T120000
DTSTAMP:20260422T122535
CREATED:20221103T210420Z
LAST-MODIFIED:20230627T182618Z
UID:10019801-1929785400-1929787200@gslookout.org
SUMMARY:Centering Prayer
DESCRIPTION:
URL:https://gslookout.org/event/centering-prayer-2/2031-02-25/
LOCATION:Lou Garcia Room
CATEGORIES:Formation
END:VEVENT
BEGIN:VEVENT
DTSTART;TZID=America/New_York:20310226T070000
DTEND;TZID=America/New_York:20310226T200000
DTSTAMP:20260422T122535
CREATED:20230127T161734Z
LAST-MODIFIED:20230127T161734Z
UID:10019803-1929855600-1929902400@gslookout.org
SUMMARY:Men's Bible Study
DESCRIPTION:
URL:https://gslookout.org/event/mens-bible-study/2031-02-26/
LOCATION:Talbird Hall
CATEGORIES:Formation
END:VEVENT
END:VCALENDAR