BEGIN:VCALENDAR
VERSION:2.0
PRODID:-//Church of the Good Shepherd - ECPv6.15.20//NONSGML v1.0//EN
CALSCALE:GREGORIAN
METHOD:PUBLISH
X-ORIGINAL-URL:https://gslookout.org
X-WR-CALDESC:Events for Church of the Good Shepherd
REFRESH-INTERVAL;VALUE=DURATION:PT1H
X-Robots-Tag:noindex
X-PUBLISHED-TTL:PT1H
BEGIN:VTIMEZONE
TZID:America/New_York
BEGIN:DAYLIGHT
TZOFFSETFROM:-0500
TZOFFSETTO:-0400
TZNAME:EDT
DTSTART:20300310T070000
END:DAYLIGHT
BEGIN:STANDARD
TZOFFSETFROM:-0400
TZOFFSETTO:-0500
TZNAME:EST
DTSTART:20301103T060000
END:STANDARD
BEGIN:DAYLIGHT
TZOFFSETFROM:-0500
TZOFFSETTO:-0400
TZNAME:EDT
DTSTART:20310309T070000
END:DAYLIGHT
BEGIN:STANDARD
TZOFFSETFROM:-0400
TZOFFSETTO:-0500
TZNAME:EST
DTSTART:20311102T060000
END:STANDARD
BEGIN:DAYLIGHT
TZOFFSETFROM:-0500
TZOFFSETTO:-0400
TZNAME:EDT
DTSTART:20320314T070000
END:DAYLIGHT
BEGIN:STANDARD
TZOFFSETFROM:-0400
TZOFFSETTO:-0500
TZNAME:EST
DTSTART:20321107T060000
END:STANDARD
END:VTIMEZONE
BEGIN:VEVENT
DTSTART;TZID=America/New_York:20310401T100000
DTEND;TZID=America/New_York:20310401T103000
DTSTAMP:20260422T154358
CREATED:20221103T210703Z
LAST-MODIFIED:20230627T182417Z
UID:10019905-1932804000-1932805800@gslookout.org
SUMMARY:Intercessory Prayer Group
DESCRIPTION:
URL:https://gslookout.org/event/intercessory-prayer-group-2/2031-04-01/
LOCATION:Chapel
CATEGORIES:Formation,Worship
END:VEVENT
BEGIN:VEVENT
DTSTART;TZID=America/New_York:20310401T113000
DTEND;TZID=America/New_York:20310401T120000
DTSTAMP:20260422T154358
CREATED:20221103T210420Z
LAST-MODIFIED:20230627T182618Z
UID:10019909-1932809400-1932811200@gslookout.org
SUMMARY:Centering Prayer
DESCRIPTION:
URL:https://gslookout.org/event/centering-prayer-2/2031-04-01/
LOCATION:Lou Garcia Room
CATEGORIES:Formation
END:VEVENT
BEGIN:VEVENT
DTSTART;TZID=America/New_York:20310402T070000
DTEND;TZID=America/New_York:20310402T200000
DTSTAMP:20260422T154358
CREATED:20230127T161734Z
LAST-MODIFIED:20230127T161734Z
UID:10019911-1932879600-1932926400@gslookout.org
SUMMARY:Men's Bible Study
DESCRIPTION:
URL:https://gslookout.org/event/mens-bible-study/2031-04-02/
LOCATION:Talbird Hall
CATEGORIES:Formation
END:VEVENT
BEGIN:VEVENT
DTSTART;TZID=America/New_York:20310402T183000
DTEND;TZID=America/New_York:20310402T193000
DTSTAMP:20260422T154358
CREATED:20230127T163955Z
LAST-MODIFIED:20230127T165113Z
UID:10019912-1932921000-1932924600@gslookout.org
SUMMARY:Wednesday Night Youth
DESCRIPTION:
URL:https://gslookout.org/event/wednesday-night-youth/2031-04-02/
LOCATION:Youth Building
CATEGORIES:Formation,Youth
END:VEVENT
BEGIN:VEVENT
DTSTART;TZID=America/New_York:20310403T103000
DTEND;TZID=America/New_York:20310403T233000
DTSTAMP:20260422T154358
CREATED:20241122T224001Z
LAST-MODIFIED:20241122T224019Z
UID:10019914-1932978600-1933025400@gslookout.org
SUMMARY:Thursday Bible Study
DESCRIPTION:
URL:https://gslookout.org/event/thursday-bible-study-2/2031-04-03/
LOCATION:Talbird Hall
CATEGORIES:Formation
END:VEVENT
BEGIN:VEVENT
DTSTART;TZID=America/New_York:20310406T091500
DTEND;TZID=America/New_York:20310406T101500
DTSTAMP:20260422T154358
CREATED:20230127T162550Z
LAST-MODIFIED:20230127T162550Z
UID:10019918-1933233300-1933236900@gslookout.org
SUMMARY:Lectionary Bible Study
DESCRIPTION:
URL:https://gslookout.org/event/lectionary-bible-study/2031-04-06/
LOCATION:Library
CATEGORIES:Formation
END:VEVENT
BEGIN:VEVENT
DTSTART;TZID=America/New_York:20310406T091500
DTEND;TZID=America/New_York:20310406T101500
DTSTAMP:20260422T154358
CREATED:20230127T163036Z
LAST-MODIFIED:20230127T163036Z
UID:10019919-1933233300-1933236900@gslookout.org
SUMMARY:Coffee & Conversations
DESCRIPTION:
URL:https://gslookout.org/event/coffee-conversations/2031-04-06/
LOCATION:Lupton Reading Room
CATEGORIES:Formation
END:VEVENT
BEGIN:VEVENT
DTSTART;TZID=America/New_York:20310406T103000
DTEND;TZID=America/New_York:20310406T233000
DTSTAMP:20260422T154358
CREATED:20230908T210148Z
LAST-MODIFIED:20230908T210149Z
UID:10019920-1933237800-1933284600@gslookout.org
SUMMARY:Youth Breakfast & Sunday School
DESCRIPTION:
URL:https://gslookout.org/event/youth-breakfast-sunday-school-2/2031-04-06/
LOCATION:Youth Building
CATEGORIES:Formation,Youth
END:VEVENT
BEGIN:VEVENT
DTSTART;TZID=America/New_York:20310408T100000
DTEND;TZID=America/New_York:20310408T103000
DTSTAMP:20260422T154358
CREATED:20221103T210703Z
LAST-MODIFIED:20230627T182417Z
UID:10019926-1933408800-1933410600@gslookout.org
SUMMARY:Intercessory Prayer Group
DESCRIPTION:
URL:https://gslookout.org/event/intercessory-prayer-group-2/2031-04-08/
LOCATION:Chapel
CATEGORIES:Formation,Worship
END:VEVENT
BEGIN:VEVENT
DTSTART;TZID=America/New_York:20310408T113000
DTEND;TZID=America/New_York:20310408T120000
DTSTAMP:20260422T154358
CREATED:20221103T210420Z
LAST-MODIFIED:20230627T182618Z
UID:10019928-1933414200-1933416000@gslookout.org
SUMMARY:Centering Prayer
DESCRIPTION:
URL:https://gslookout.org/event/centering-prayer-2/2031-04-08/
LOCATION:Lou Garcia Room
CATEGORIES:Formation
END:VEVENT
BEGIN:VEVENT
DTSTART;TZID=America/New_York:20310409T070000
DTEND;TZID=America/New_York:20310409T200000
DTSTAMP:20260422T154358
CREATED:20230127T161734Z
LAST-MODIFIED:20230127T161734Z
UID:10019930-1933484400-1933531200@gslookout.org
SUMMARY:Men's Bible Study
DESCRIPTION:
URL:https://gslookout.org/event/mens-bible-study/2031-04-09/
LOCATION:Talbird Hall
CATEGORIES:Formation
END:VEVENT
BEGIN:VEVENT
DTSTART;TZID=America/New_York:20310409T183000
DTEND;TZID=America/New_York:20310409T193000
DTSTAMP:20260422T154358
CREATED:20230127T163955Z
LAST-MODIFIED:20230127T165113Z
UID:10019931-1933525800-1933529400@gslookout.org
SUMMARY:Wednesday Night Youth
DESCRIPTION:
URL:https://gslookout.org/event/wednesday-night-youth/2031-04-09/
LOCATION:Youth Building
CATEGORIES:Formation,Youth
END:VEVENT
BEGIN:VEVENT
DTSTART;TZID=America/New_York:20310410T103000
DTEND;TZID=America/New_York:20310410T233000
DTSTAMP:20260422T154358
CREATED:20241122T224001Z
LAST-MODIFIED:20241122T224019Z
UID:10019934-1933583400-1933630200@gslookout.org
SUMMARY:Thursday Bible Study
DESCRIPTION:
URL:https://gslookout.org/event/thursday-bible-study-2/2031-04-10/
LOCATION:Talbird Hall
CATEGORIES:Formation
END:VEVENT
BEGIN:VEVENT
DTSTART;TZID=America/New_York:20310413T091500
DTEND;TZID=America/New_York:20310413T101500
DTSTAMP:20260422T154358
CREATED:20230127T162550Z
LAST-MODIFIED:20230127T162550Z
UID:10019936-1933838100-1933841700@gslookout.org
SUMMARY:Lectionary Bible Study
DESCRIPTION:
URL:https://gslookout.org/event/lectionary-bible-study/2031-04-13/
LOCATION:Library
CATEGORIES:Formation
END:VEVENT
BEGIN:VEVENT
DTSTART;TZID=America/New_York:20310413T091500
DTEND;TZID=America/New_York:20310413T101500
DTSTAMP:20260422T154358
CREATED:20230127T163036Z
LAST-MODIFIED:20230127T163036Z
UID:10019937-1933838100-1933841700@gslookout.org
SUMMARY:Coffee & Conversations
DESCRIPTION:
URL:https://gslookout.org/event/coffee-conversations/2031-04-13/
LOCATION:Lupton Reading Room
CATEGORIES:Formation
END:VEVENT
BEGIN:VEVENT
DTSTART;TZID=America/New_York:20310413T103000
DTEND;TZID=America/New_York:20310413T233000
DTSTAMP:20260422T154358
CREATED:20230908T210148Z
LAST-MODIFIED:20230908T210149Z
UID:10019939-1933842600-1933889400@gslookout.org
SUMMARY:Youth Breakfast & Sunday School
DESCRIPTION:
URL:https://gslookout.org/event/youth-breakfast-sunday-school-2/2031-04-13/
LOCATION:Youth Building
CATEGORIES:Formation,Youth
END:VEVENT
BEGIN:VEVENT
DTSTART;TZID=America/New_York:20310415T100000
DTEND;TZID=America/New_York:20310415T103000
DTSTAMP:20260422T154358
CREATED:20221103T210703Z
LAST-MODIFIED:20230627T182417Z
UID:10019946-1934013600-1934015400@gslookout.org
SUMMARY:Intercessory Prayer Group
DESCRIPTION:
URL:https://gslookout.org/event/intercessory-prayer-group-2/2031-04-15/
LOCATION:Chapel
CATEGORIES:Formation,Worship
END:VEVENT
BEGIN:VEVENT
DTSTART;TZID=America/New_York:20310415T113000
DTEND;TZID=America/New_York:20310415T120000
DTSTAMP:20260422T154358
CREATED:20221103T210420Z
LAST-MODIFIED:20230627T182618Z
UID:10019948-1934019000-1934020800@gslookout.org
SUMMARY:Centering Prayer
DESCRIPTION:
URL:https://gslookout.org/event/centering-prayer-2/2031-04-15/
LOCATION:Lou Garcia Room
CATEGORIES:Formation
END:VEVENT
BEGIN:VEVENT
DTSTART;TZID=America/New_York:20310416T070000
DTEND;TZID=America/New_York:20310416T200000
DTSTAMP:20260422T154358
CREATED:20230127T161734Z
LAST-MODIFIED:20230127T161734Z
UID:10019950-1934089200-1934136000@gslookout.org
SUMMARY:Men's Bible Study
DESCRIPTION:
URL:https://gslookout.org/event/mens-bible-study/2031-04-16/
LOCATION:Talbird Hall
CATEGORIES:Formation
END:VEVENT
BEGIN:VEVENT
DTSTART;TZID=America/New_York:20310416T183000
DTEND;TZID=America/New_York:20310416T193000
DTSTAMP:20260422T154358
CREATED:20230127T163955Z
LAST-MODIFIED:20230127T165113Z
UID:10019951-1934130600-1934134200@gslookout.org
SUMMARY:Wednesday Night Youth
DESCRIPTION:
URL:https://gslookout.org/event/wednesday-night-youth/2031-04-16/
LOCATION:Youth Building
CATEGORIES:Formation,Youth
END:VEVENT
BEGIN:VEVENT
DTSTART;TZID=America/New_York:20310417T103000
DTEND;TZID=America/New_York:20310417T233000
DTSTAMP:20260422T154358
CREATED:20241122T224001Z
LAST-MODIFIED:20241122T224019Z
UID:10019953-1934188200-1934235000@gslookout.org
SUMMARY:Thursday Bible Study
DESCRIPTION:
URL:https://gslookout.org/event/thursday-bible-study-2/2031-04-17/
LOCATION:Talbird Hall
CATEGORIES:Formation
END:VEVENT
BEGIN:VEVENT
DTSTART;TZID=America/New_York:20310420T091500
DTEND;TZID=America/New_York:20310420T101500
DTSTAMP:20260422T154358
CREATED:20230127T162550Z
LAST-MODIFIED:20230127T162550Z
UID:10019955-1934442900-1934446500@gslookout.org
SUMMARY:Lectionary Bible Study
DESCRIPTION:
URL:https://gslookout.org/event/lectionary-bible-study/2031-04-20/
LOCATION:Library
CATEGORIES:Formation
END:VEVENT
BEGIN:VEVENT
DTSTART;TZID=America/New_York:20310420T091500
DTEND;TZID=America/New_York:20310420T101500
DTSTAMP:20260422T154358
CREATED:20230127T163036Z
LAST-MODIFIED:20230127T163036Z
UID:10019956-1934442900-1934446500@gslookout.org
SUMMARY:Coffee & Conversations
DESCRIPTION:
URL:https://gslookout.org/event/coffee-conversations/2031-04-20/
LOCATION:Lupton Reading Room
CATEGORIES:Formation
END:VEVENT
END:VCALENDAR