BEGIN:VCALENDAR
VERSION:2.0
PRODID:-//Church of the Good Shepherd - ECPv6.15.20//NONSGML v1.0//EN
CALSCALE:GREGORIAN
METHOD:PUBLISH
X-WR-CALNAME:Church of the Good Shepherd
X-ORIGINAL-URL:https://gslookout.org
X-WR-CALDESC:Events for Church of the Good Shepherd
REFRESH-INTERVAL;VALUE=DURATION:PT1H
X-Robots-Tag:noindex
X-PUBLISHED-TTL:PT1H
BEGIN:VTIMEZONE
TZID:America/New_York
BEGIN:DAYLIGHT
TZOFFSETFROM:-0500
TZOFFSETTO:-0400
TZNAME:EDT
DTSTART:20280312T070000
END:DAYLIGHT
BEGIN:STANDARD
TZOFFSETFROM:-0400
TZOFFSETTO:-0500
TZNAME:EST
DTSTART:20281105T060000
END:STANDARD
BEGIN:DAYLIGHT
TZOFFSETFROM:-0500
TZOFFSETTO:-0400
TZNAME:EDT
DTSTART:20290311T070000
END:DAYLIGHT
BEGIN:STANDARD
TZOFFSETFROM:-0400
TZOFFSETTO:-0500
TZNAME:EST
DTSTART:20291104T060000
END:STANDARD
BEGIN:DAYLIGHT
TZOFFSETFROM:-0500
TZOFFSETTO:-0400
TZNAME:EDT
DTSTART:20300310T070000
END:DAYLIGHT
BEGIN:STANDARD
TZOFFSETFROM:-0400
TZOFFSETTO:-0500
TZNAME:EST
DTSTART:20301103T060000
END:STANDARD
END:VTIMEZONE
BEGIN:VEVENT
DTSTART;TZID=America/New_York:20290513T091500
DTEND;TZID=America/New_York:20290513T101500
DTSTAMP:20260425T214832
CREATED:20230127T162550Z
LAST-MODIFIED:20230127T162550Z
UID:10018839-1873358100-1873361700@gslookout.org
SUMMARY:Lectionary Bible Study
DESCRIPTION:
URL:https://gslookout.org/event/lectionary-bible-study/2029-05-13/
LOCATION:Library
CATEGORIES:Formation
END:VEVENT
BEGIN:VEVENT
DTSTART;TZID=America/New_York:20290513T091500
DTEND;TZID=America/New_York:20290513T101500
DTSTAMP:20260425T214832
CREATED:20230127T163036Z
LAST-MODIFIED:20230127T163036Z
UID:10016632-1873358100-1873361700@gslookout.org
SUMMARY:Coffee & Conversations
DESCRIPTION:
URL:https://gslookout.org/event/coffee-conversations/2029-05-13/
LOCATION:Lupton Reading Room
CATEGORIES:Formation
END:VEVENT
BEGIN:VEVENT
DTSTART;TZID=America/New_York:20290513T103000
DTEND;TZID=America/New_York:20290513T233000
DTSTAMP:20260425T214832
CREATED:20230908T210148Z
LAST-MODIFIED:20230908T210149Z
UID:10017707-1873362600-1873409400@gslookout.org
SUMMARY:Youth Breakfast & Sunday School
DESCRIPTION:
URL:https://gslookout.org/event/youth-breakfast-sunday-school-2/2029-05-13/
LOCATION:Youth Building
CATEGORIES:Formation,Youth
END:VEVENT
BEGIN:VEVENT
DTSTART;TZID=America/New_York:20290515T100000
DTEND;TZID=America/New_York:20290515T103000
DTSTAMP:20260425T214832
CREATED:20221103T210703Z
LAST-MODIFIED:20230627T182417Z
UID:10015772-1873533600-1873535400@gslookout.org
SUMMARY:Intercessory Prayer Group
DESCRIPTION:
URL:https://gslookout.org/event/intercessory-prayer-group-2/2029-05-15/
LOCATION:Chapel
CATEGORIES:Formation,Worship
END:VEVENT
BEGIN:VEVENT
DTSTART;TZID=America/New_York:20290515T113000
DTEND;TZID=America/New_York:20290515T120000
DTSTAMP:20260425T214832
CREATED:20221103T210420Z
LAST-MODIFIED:20230627T182618Z
UID:10015952-1873539000-1873540800@gslookout.org
SUMMARY:Centering Prayer
DESCRIPTION:
URL:https://gslookout.org/event/centering-prayer-2/2029-05-15/
LOCATION:Lou Garcia Room
CATEGORIES:Formation
END:VEVENT
BEGIN:VEVENT
DTSTART;TZID=America/New_York:20290516T070000
DTEND;TZID=America/New_York:20290516T200000
DTSTAMP:20260425T214832
CREATED:20230127T161734Z
LAST-MODIFIED:20230127T161734Z
UID:10016256-1873609200-1873656000@gslookout.org
SUMMARY:Men's Bible Study
DESCRIPTION:
URL:https://gslookout.org/event/mens-bible-study/2029-05-16/
LOCATION:Talbird Hall
CATEGORIES:Formation
END:VEVENT
BEGIN:VEVENT
DTSTART;TZID=America/New_York:20290516T183000
DTEND;TZID=America/New_York:20290516T193000
DTSTAMP:20260425T214832
CREATED:20230127T163955Z
LAST-MODIFIED:20230127T165113Z
UID:10016791-1873650600-1873654200@gslookout.org
SUMMARY:Wednesday Night Youth
DESCRIPTION:
URL:https://gslookout.org/event/wednesday-night-youth/2029-05-16/
LOCATION:Youth Building
CATEGORIES:Formation,Youth
END:VEVENT
BEGIN:VEVENT
DTSTART;TZID=America/New_York:20290517T103000
DTEND;TZID=America/New_York:20290517T233000
DTSTAMP:20260425T214832
CREATED:20241122T224001Z
LAST-MODIFIED:20241122T224019Z
UID:10015246-1873708200-1873755000@gslookout.org
SUMMARY:Thursday Bible Study
DESCRIPTION:
URL:https://gslookout.org/event/thursday-bible-study-2/2029-05-17/
LOCATION:Talbird Hall
CATEGORIES:Formation
END:VEVENT
BEGIN:VEVENT
DTSTART;TZID=America/New_York:20290520T091500
DTEND;TZID=America/New_York:20290520T101500
DTSTAMP:20260425T214832
CREATED:20230127T162550Z
LAST-MODIFIED:20230127T162550Z
UID:10018840-1873962900-1873966500@gslookout.org
SUMMARY:Lectionary Bible Study
DESCRIPTION:
URL:https://gslookout.org/event/lectionary-bible-study/2029-05-20/
LOCATION:Library
CATEGORIES:Formation
END:VEVENT
BEGIN:VEVENT
DTSTART;TZID=America/New_York:20290520T091500
DTEND;TZID=America/New_York:20290520T101500
DTSTAMP:20260425T214832
CREATED:20230127T163036Z
LAST-MODIFIED:20230127T163036Z
UID:10016633-1873962900-1873966500@gslookout.org
SUMMARY:Coffee & Conversations
DESCRIPTION:
URL:https://gslookout.org/event/coffee-conversations/2029-05-20/
LOCATION:Lupton Reading Room
CATEGORIES:Formation
END:VEVENT
BEGIN:VEVENT
DTSTART;TZID=America/New_York:20290520T103000
DTEND;TZID=America/New_York:20290520T233000
DTSTAMP:20260425T214832
CREATED:20230908T210148Z
LAST-MODIFIED:20230908T210149Z
UID:10017708-1873967400-1874014200@gslookout.org
SUMMARY:Youth Breakfast & Sunday School
DESCRIPTION:
URL:https://gslookout.org/event/youth-breakfast-sunday-school-2/2029-05-20/
LOCATION:Youth Building
CATEGORIES:Formation,Youth
END:VEVENT
BEGIN:VEVENT
DTSTART;TZID=America/New_York:20290522T100000
DTEND;TZID=America/New_York:20290522T103000
DTSTAMP:20260425T214832
CREATED:20221103T210703Z
LAST-MODIFIED:20230627T182417Z
UID:10015773-1874138400-1874140200@gslookout.org
SUMMARY:Intercessory Prayer Group
DESCRIPTION:
URL:https://gslookout.org/event/intercessory-prayer-group-2/2029-05-22/
LOCATION:Chapel
CATEGORIES:Formation,Worship
END:VEVENT
BEGIN:VEVENT
DTSTART;TZID=America/New_York:20290522T113000
DTEND;TZID=America/New_York:20290522T120000
DTSTAMP:20260425T214832
CREATED:20221103T210420Z
LAST-MODIFIED:20230627T182618Z
UID:10015953-1874143800-1874145600@gslookout.org
SUMMARY:Centering Prayer
DESCRIPTION:
URL:https://gslookout.org/event/centering-prayer-2/2029-05-22/
LOCATION:Lou Garcia Room
CATEGORIES:Formation
END:VEVENT
BEGIN:VEVENT
DTSTART;TZID=America/New_York:20290523T070000
DTEND;TZID=America/New_York:20290523T200000
DTSTAMP:20260425T214832
CREATED:20230127T161734Z
LAST-MODIFIED:20230127T161734Z
UID:10016257-1874214000-1874260800@gslookout.org
SUMMARY:Men's Bible Study
DESCRIPTION:
URL:https://gslookout.org/event/mens-bible-study/2029-05-23/
LOCATION:Talbird Hall
CATEGORIES:Formation
END:VEVENT
BEGIN:VEVENT
DTSTART;TZID=America/New_York:20290523T183000
DTEND;TZID=America/New_York:20290523T193000
DTSTAMP:20260425T214832
CREATED:20230127T163955Z
LAST-MODIFIED:20230127T165113Z
UID:10016792-1874255400-1874259000@gslookout.org
SUMMARY:Wednesday Night Youth
DESCRIPTION:
URL:https://gslookout.org/event/wednesday-night-youth/2029-05-23/
LOCATION:Youth Building
CATEGORIES:Formation,Youth
END:VEVENT
BEGIN:VEVENT
DTSTART;TZID=America/New_York:20290524T103000
DTEND;TZID=America/New_York:20290524T233000
DTSTAMP:20260425T214832
CREATED:20241122T224001Z
LAST-MODIFIED:20241122T224019Z
UID:10015247-1874313000-1874359800@gslookout.org
SUMMARY:Thursday Bible Study
DESCRIPTION:
URL:https://gslookout.org/event/thursday-bible-study-2/2029-05-24/
LOCATION:Talbird Hall
CATEGORIES:Formation
END:VEVENT
BEGIN:VEVENT
DTSTART;TZID=America/New_York:20290527T091500
DTEND;TZID=America/New_York:20290527T101500
DTSTAMP:20260425T214832
CREATED:20230127T162550Z
LAST-MODIFIED:20230127T162550Z
UID:10018841-1874567700-1874571300@gslookout.org
SUMMARY:Lectionary Bible Study
DESCRIPTION:
URL:https://gslookout.org/event/lectionary-bible-study/2029-05-27/
LOCATION:Library
CATEGORIES:Formation
END:VEVENT
BEGIN:VEVENT
DTSTART;TZID=America/New_York:20290527T091500
DTEND;TZID=America/New_York:20290527T101500
DTSTAMP:20260425T214832
CREATED:20230127T163036Z
LAST-MODIFIED:20230127T163036Z
UID:10016634-1874567700-1874571300@gslookout.org
SUMMARY:Coffee & Conversations
DESCRIPTION:
URL:https://gslookout.org/event/coffee-conversations/2029-05-27/
LOCATION:Lupton Reading Room
CATEGORIES:Formation
END:VEVENT
BEGIN:VEVENT
DTSTART;TZID=America/New_York:20290527T103000
DTEND;TZID=America/New_York:20290527T233000
DTSTAMP:20260425T214832
CREATED:20230908T210148Z
LAST-MODIFIED:20230908T210149Z
UID:10017709-1874572200-1874619000@gslookout.org
SUMMARY:Youth Breakfast & Sunday School
DESCRIPTION:
URL:https://gslookout.org/event/youth-breakfast-sunday-school-2/2029-05-27/
LOCATION:Youth Building
CATEGORIES:Formation,Youth
END:VEVENT
BEGIN:VEVENT
DTSTART;TZID=America/New_York:20290529T100000
DTEND;TZID=America/New_York:20290529T103000
DTSTAMP:20260425T214832
CREATED:20221103T210703Z
LAST-MODIFIED:20230627T182417Z
UID:10015774-1874743200-1874745000@gslookout.org
SUMMARY:Intercessory Prayer Group
DESCRIPTION:
URL:https://gslookout.org/event/intercessory-prayer-group-2/2029-05-29/
LOCATION:Chapel
CATEGORIES:Formation,Worship
END:VEVENT
BEGIN:VEVENT
DTSTART;TZID=America/New_York:20290529T113000
DTEND;TZID=America/New_York:20290529T120000
DTSTAMP:20260425T214832
CREATED:20221103T210420Z
LAST-MODIFIED:20230627T182618Z
UID:10015954-1874748600-1874750400@gslookout.org
SUMMARY:Centering Prayer
DESCRIPTION:
URL:https://gslookout.org/event/centering-prayer-2/2029-05-29/
LOCATION:Lou Garcia Room
CATEGORIES:Formation
END:VEVENT
BEGIN:VEVENT
DTSTART;TZID=America/New_York:20290530T070000
DTEND;TZID=America/New_York:20290530T200000
DTSTAMP:20260425T214832
CREATED:20230127T161734Z
LAST-MODIFIED:20230127T161734Z
UID:10016258-1874818800-1874865600@gslookout.org
SUMMARY:Men's Bible Study
DESCRIPTION:
URL:https://gslookout.org/event/mens-bible-study/2029-05-30/
LOCATION:Talbird Hall
CATEGORIES:Formation
END:VEVENT
BEGIN:VEVENT
DTSTART;TZID=America/New_York:20290530T183000
DTEND;TZID=America/New_York:20290530T193000
DTSTAMP:20260425T214832
CREATED:20230127T163955Z
LAST-MODIFIED:20230127T165113Z
UID:10016793-1874860200-1874863800@gslookout.org
SUMMARY:Wednesday Night Youth
DESCRIPTION:
URL:https://gslookout.org/event/wednesday-night-youth/2029-05-30/
LOCATION:Youth Building
CATEGORIES:Formation,Youth
END:VEVENT
BEGIN:VEVENT
DTSTART;TZID=America/New_York:20290531T103000
DTEND;TZID=America/New_York:20290531T233000
DTSTAMP:20260425T214832
CREATED:20241122T224001Z
LAST-MODIFIED:20241122T224019Z
UID:10015248-1874917800-1874964600@gslookout.org
SUMMARY:Thursday Bible Study
DESCRIPTION:
URL:https://gslookout.org/event/thursday-bible-study-2/2029-05-31/
LOCATION:Talbird Hall
CATEGORIES:Formation
END:VEVENT
BEGIN:VEVENT
DTSTART;TZID=America/New_York:20290603T091500
DTEND;TZID=America/New_York:20290603T101500
DTSTAMP:20260425T214832
CREATED:20230127T162550Z
LAST-MODIFIED:20230127T162550Z
UID:10018842-1875172500-1875176100@gslookout.org
SUMMARY:Lectionary Bible Study
DESCRIPTION:
URL:https://gslookout.org/event/lectionary-bible-study/2029-06-03/
LOCATION:Library
CATEGORIES:Formation
END:VEVENT
BEGIN:VEVENT
DTSTART;TZID=America/New_York:20290603T091500
DTEND;TZID=America/New_York:20290603T101500
DTSTAMP:20260425T214832
CREATED:20230127T163036Z
LAST-MODIFIED:20230127T163036Z
UID:10016635-1875172500-1875176100@gslookout.org
SUMMARY:Coffee & Conversations
DESCRIPTION:
URL:https://gslookout.org/event/coffee-conversations/2029-06-03/
LOCATION:Lupton Reading Room
CATEGORIES:Formation
END:VEVENT
BEGIN:VEVENT
DTSTART;TZID=America/New_York:20290603T103000
DTEND;TZID=America/New_York:20290603T233000
DTSTAMP:20260425T214832
CREATED:20230908T210148Z
LAST-MODIFIED:20230908T210149Z
UID:10017710-1875177000-1875223800@gslookout.org
SUMMARY:Youth Breakfast & Sunday School
DESCRIPTION:
URL:https://gslookout.org/event/youth-breakfast-sunday-school-2/2029-06-03/
LOCATION:Youth Building
CATEGORIES:Formation,Youth
END:VEVENT
BEGIN:VEVENT
DTSTART;TZID=America/New_York:20290605T100000
DTEND;TZID=America/New_York:20290605T103000
DTSTAMP:20260425T214832
CREATED:20221103T210703Z
LAST-MODIFIED:20230627T182417Z
UID:10015775-1875348000-1875349800@gslookout.org
SUMMARY:Intercessory Prayer Group
DESCRIPTION:
URL:https://gslookout.org/event/intercessory-prayer-group-2/2029-06-05/
LOCATION:Chapel
CATEGORIES:Formation,Worship
END:VEVENT
BEGIN:VEVENT
DTSTART;TZID=America/New_York:20290605T113000
DTEND;TZID=America/New_York:20290605T120000
DTSTAMP:20260425T214832
CREATED:20221103T210420Z
LAST-MODIFIED:20230627T182618Z
UID:10015955-1875353400-1875355200@gslookout.org
SUMMARY:Centering Prayer
DESCRIPTION:
URL:https://gslookout.org/event/centering-prayer-2/2029-06-05/
LOCATION:Lou Garcia Room
CATEGORIES:Formation
END:VEVENT
BEGIN:VEVENT
DTSTART;TZID=America/New_York:20290606T070000
DTEND;TZID=America/New_York:20290606T200000
DTSTAMP:20260425T214832
CREATED:20230127T161734Z
LAST-MODIFIED:20230127T161734Z
UID:10016259-1875423600-1875470400@gslookout.org
SUMMARY:Men's Bible Study
DESCRIPTION:
URL:https://gslookout.org/event/mens-bible-study/2029-06-06/
LOCATION:Talbird Hall
CATEGORIES:Formation
END:VEVENT
END:VCALENDAR