BEGIN:VCALENDAR
VERSION:2.0
PRODID:-//Church of the Good Shepherd - ECPv6.15.20//NONSGML v1.0//EN
CALSCALE:GREGORIAN
METHOD:PUBLISH
X-ORIGINAL-URL:https://gslookout.org
X-WR-CALDESC:Events for Church of the Good Shepherd
REFRESH-INTERVAL;VALUE=DURATION:PT1H
X-Robots-Tag:noindex
X-PUBLISHED-TTL:PT1H
BEGIN:VTIMEZONE
TZID:America/New_York
BEGIN:DAYLIGHT
TZOFFSETFROM:-0500
TZOFFSETTO:-0400
TZNAME:EDT
DTSTART:20260308T070000
END:DAYLIGHT
BEGIN:STANDARD
TZOFFSETFROM:-0400
TZOFFSETTO:-0500
TZNAME:EST
DTSTART:20261101T060000
END:STANDARD
BEGIN:DAYLIGHT
TZOFFSETFROM:-0500
TZOFFSETTO:-0400
TZNAME:EDT
DTSTART:20270314T070000
END:DAYLIGHT
BEGIN:STANDARD
TZOFFSETFROM:-0400
TZOFFSETTO:-0500
TZNAME:EST
DTSTART:20271107T060000
END:STANDARD
BEGIN:DAYLIGHT
TZOFFSETFROM:-0500
TZOFFSETTO:-0400
TZNAME:EDT
DTSTART:20280312T070000
END:DAYLIGHT
BEGIN:STANDARD
TZOFFSETFROM:-0400
TZOFFSETTO:-0500
TZNAME:EST
DTSTART:20281105T060000
END:STANDARD
END:VTIMEZONE
BEGIN:VEVENT
DTSTART;TZID=America/New_York:20270926T091500
DTEND;TZID=America/New_York:20270926T101500
DTSTAMP:20260419T095117
CREATED:20230127T162550Z
LAST-MODIFIED:20230127T162550Z
UID:10010714-1821950100-1821953700@gslookout.org
SUMMARY:Lectionary Bible Study
DESCRIPTION:
URL:https://gslookout.org/event/lectionary-bible-study/2027-09-26/
LOCATION:Library
CATEGORIES:Formation
END:VEVENT
BEGIN:VEVENT
DTSTART;TZID=America/New_York:20270926T091500
DTEND;TZID=America/New_York:20270926T101500
DTSTAMP:20260419T095117
CREATED:20230127T163036Z
LAST-MODIFIED:20230127T163036Z
UID:10010978-1821950100-1821953700@gslookout.org
SUMMARY:Coffee & Conversations
DESCRIPTION:
URL:https://gslookout.org/event/coffee-conversations/2027-09-26/
LOCATION:Lupton Reading Room
CATEGORIES:Formation
END:VEVENT
BEGIN:VEVENT
DTSTART;TZID=America/New_York:20270926T103000
DTEND;TZID=America/New_York:20270926T233000
DTSTAMP:20260419T095117
CREATED:20230908T210148Z
LAST-MODIFIED:20230908T210149Z
UID:10014636-1821954600-1822001400@gslookout.org
SUMMARY:Youth Breakfast & Sunday School
DESCRIPTION:
URL:https://gslookout.org/event/youth-breakfast-sunday-school-2/2027-09-26/
LOCATION:Youth Building
CATEGORIES:Formation,Youth
END:VEVENT
BEGIN:VEVENT
DTSTART;TZID=America/New_York:20270928T100000
DTEND;TZID=America/New_York:20270928T103000
DTSTAMP:20260419T095117
CREATED:20221103T210703Z
LAST-MODIFIED:20230627T182417Z
UID:10008677-1822125600-1822127400@gslookout.org
SUMMARY:Intercessory Prayer Group
DESCRIPTION:
URL:https://gslookout.org/event/intercessory-prayer-group-2/2027-09-28/
LOCATION:Chapel
CATEGORIES:Formation,Worship
END:VEVENT
BEGIN:VEVENT
DTSTART;TZID=America/New_York:20270928T113000
DTEND;TZID=America/New_York:20270928T120000
DTSTAMP:20260419T095117
CREATED:20221103T210420Z
LAST-MODIFIED:20230627T182618Z
UID:10008153-1822131000-1822132800@gslookout.org
SUMMARY:Centering Prayer
DESCRIPTION:
URL:https://gslookout.org/event/centering-prayer-2/2027-09-28/
LOCATION:Lou Garcia Room
CATEGORIES:Formation
END:VEVENT
BEGIN:VEVENT
DTSTART;TZID=America/New_York:20270929T070000
DTEND;TZID=America/New_York:20270929T200000
DTSTAMP:20260419T095117
CREATED:20230127T161734Z
LAST-MODIFIED:20230127T161734Z
UID:10009921-1822201200-1822248000@gslookout.org
SUMMARY:Men's Bible Study
DESCRIPTION:
URL:https://gslookout.org/event/mens-bible-study/2027-09-29/
LOCATION:Talbird Hall
CATEGORIES:Formation
END:VEVENT
BEGIN:VEVENT
DTSTART;TZID=America/New_York:20270929T183000
DTEND;TZID=America/New_York:20270929T193000
DTSTAMP:20260419T095117
CREATED:20230127T163955Z
LAST-MODIFIED:20230127T165113Z
UID:10012820-1822242600-1822246200@gslookout.org
SUMMARY:Wednesday Night Youth
DESCRIPTION:
URL:https://gslookout.org/event/wednesday-night-youth/2027-09-29/
LOCATION:Youth Building
CATEGORIES:Formation,Youth
END:VEVENT
BEGIN:VEVENT
DTSTART;TZID=America/New_York:20270930T103000
DTEND;TZID=America/New_York:20270930T233000
DTSTAMP:20260419T095117
CREATED:20241122T224001Z
LAST-MODIFIED:20241122T224019Z
UID:10010450-1822300200-1822347000@gslookout.org
SUMMARY:Thursday Bible Study
DESCRIPTION:
URL:https://gslookout.org/event/thursday-bible-study-2/2027-09-30/
LOCATION:Talbird Hall
CATEGORIES:Formation
END:VEVENT
BEGIN:VEVENT
DTSTART;TZID=America/New_York:20271003T091500
DTEND;TZID=America/New_York:20271003T101500
DTSTAMP:20260419T095117
CREATED:20230127T162550Z
LAST-MODIFIED:20230127T162550Z
UID:10010715-1822554900-1822558500@gslookout.org
SUMMARY:Lectionary Bible Study
DESCRIPTION:
URL:https://gslookout.org/event/lectionary-bible-study/2027-10-03/
LOCATION:Library
CATEGORIES:Formation
END:VEVENT
BEGIN:VEVENT
DTSTART;TZID=America/New_York:20271003T091500
DTEND;TZID=America/New_York:20271003T101500
DTSTAMP:20260419T095117
CREATED:20230127T163036Z
LAST-MODIFIED:20230127T163036Z
UID:10010979-1822554900-1822558500@gslookout.org
SUMMARY:Coffee & Conversations
DESCRIPTION:
URL:https://gslookout.org/event/coffee-conversations/2027-10-03/
LOCATION:Lupton Reading Room
CATEGORIES:Formation
END:VEVENT
BEGIN:VEVENT
DTSTART;TZID=America/New_York:20271003T103000
DTEND;TZID=America/New_York:20271003T233000
DTSTAMP:20260419T095117
CREATED:20230908T210148Z
LAST-MODIFIED:20230908T210149Z
UID:10014637-1822559400-1822606200@gslookout.org
SUMMARY:Youth Breakfast & Sunday School
DESCRIPTION:
URL:https://gslookout.org/event/youth-breakfast-sunday-school-2/2027-10-03/
LOCATION:Youth Building
CATEGORIES:Formation,Youth
END:VEVENT
BEGIN:VEVENT
DTSTART;TZID=America/New_York:20271005T100000
DTEND;TZID=America/New_York:20271005T103000
DTSTAMP:20260419T095117
CREATED:20221103T210703Z
LAST-MODIFIED:20230627T182417Z
UID:10008678-1822730400-1822732200@gslookout.org
SUMMARY:Intercessory Prayer Group
DESCRIPTION:
URL:https://gslookout.org/event/intercessory-prayer-group-2/2027-10-05/
LOCATION:Chapel
CATEGORIES:Formation,Worship
END:VEVENT
BEGIN:VEVENT
DTSTART;TZID=America/New_York:20271005T113000
DTEND;TZID=America/New_York:20271005T120000
DTSTAMP:20260419T095117
CREATED:20221103T210420Z
LAST-MODIFIED:20230627T182618Z
UID:10008154-1822735800-1822737600@gslookout.org
SUMMARY:Centering Prayer
DESCRIPTION:
URL:https://gslookout.org/event/centering-prayer-2/2027-10-05/
LOCATION:Lou Garcia Room
CATEGORIES:Formation
END:VEVENT
BEGIN:VEVENT
DTSTART;TZID=America/New_York:20271006T070000
DTEND;TZID=America/New_York:20271006T200000
DTSTAMP:20260419T095117
CREATED:20230127T161734Z
LAST-MODIFIED:20230127T161734Z
UID:10009922-1822806000-1822852800@gslookout.org
SUMMARY:Men's Bible Study
DESCRIPTION:
URL:https://gslookout.org/event/mens-bible-study/2027-10-06/
LOCATION:Talbird Hall
CATEGORIES:Formation
END:VEVENT
BEGIN:VEVENT
DTSTART;TZID=America/New_York:20271006T183000
DTEND;TZID=America/New_York:20271006T193000
DTSTAMP:20260419T095117
CREATED:20230127T163955Z
LAST-MODIFIED:20230127T165113Z
UID:10012821-1822847400-1822851000@gslookout.org
SUMMARY:Wednesday Night Youth
DESCRIPTION:
URL:https://gslookout.org/event/wednesday-night-youth/2027-10-06/
LOCATION:Youth Building
CATEGORIES:Formation,Youth
END:VEVENT
BEGIN:VEVENT
DTSTART;TZID=America/New_York:20271007T103000
DTEND;TZID=America/New_York:20271007T233000
DTSTAMP:20260419T095117
CREATED:20241122T224001Z
LAST-MODIFIED:20241122T224019Z
UID:10010451-1822905000-1822951800@gslookout.org
SUMMARY:Thursday Bible Study
DESCRIPTION:
URL:https://gslookout.org/event/thursday-bible-study-2/2027-10-07/
LOCATION:Talbird Hall
CATEGORIES:Formation
END:VEVENT
BEGIN:VEVENT
DTSTART;TZID=America/New_York:20271010T091500
DTEND;TZID=America/New_York:20271010T101500
DTSTAMP:20260419T095117
CREATED:20230127T162550Z
LAST-MODIFIED:20230127T162550Z
UID:10010716-1823159700-1823163300@gslookout.org
SUMMARY:Lectionary Bible Study
DESCRIPTION:
URL:https://gslookout.org/event/lectionary-bible-study/2027-10-10/
LOCATION:Library
CATEGORIES:Formation
END:VEVENT
BEGIN:VEVENT
DTSTART;TZID=America/New_York:20271010T091500
DTEND;TZID=America/New_York:20271010T101500
DTSTAMP:20260419T095117
CREATED:20230127T163036Z
LAST-MODIFIED:20230127T163036Z
UID:10010980-1823159700-1823163300@gslookout.org
SUMMARY:Coffee & Conversations
DESCRIPTION:
URL:https://gslookout.org/event/coffee-conversations/2027-10-10/
LOCATION:Lupton Reading Room
CATEGORIES:Formation
END:VEVENT
BEGIN:VEVENT
DTSTART;TZID=America/New_York:20271010T103000
DTEND;TZID=America/New_York:20271010T233000
DTSTAMP:20260419T095117
CREATED:20230908T210148Z
LAST-MODIFIED:20230908T210149Z
UID:10014638-1823164200-1823211000@gslookout.org
SUMMARY:Youth Breakfast & Sunday School
DESCRIPTION:
URL:https://gslookout.org/event/youth-breakfast-sunday-school-2/2027-10-10/
LOCATION:Youth Building
CATEGORIES:Formation,Youth
END:VEVENT
BEGIN:VEVENT
DTSTART;TZID=America/New_York:20271012T100000
DTEND;TZID=America/New_York:20271012T103000
DTSTAMP:20260419T095117
CREATED:20221103T210703Z
LAST-MODIFIED:20230627T182417Z
UID:10008679-1823335200-1823337000@gslookout.org
SUMMARY:Intercessory Prayer Group
DESCRIPTION:
URL:https://gslookout.org/event/intercessory-prayer-group-2/2027-10-12/
LOCATION:Chapel
CATEGORIES:Formation,Worship
END:VEVENT
BEGIN:VEVENT
DTSTART;TZID=America/New_York:20271012T113000
DTEND;TZID=America/New_York:20271012T120000
DTSTAMP:20260419T095117
CREATED:20221103T210420Z
LAST-MODIFIED:20230627T182618Z
UID:10008155-1823340600-1823342400@gslookout.org
SUMMARY:Centering Prayer
DESCRIPTION:
URL:https://gslookout.org/event/centering-prayer-2/2027-10-12/
LOCATION:Lou Garcia Room
CATEGORIES:Formation
END:VEVENT
BEGIN:VEVENT
DTSTART;TZID=America/New_York:20271013T070000
DTEND;TZID=America/New_York:20271013T200000
DTSTAMP:20260419T095117
CREATED:20230127T161734Z
LAST-MODIFIED:20230127T161734Z
UID:10009923-1823410800-1823457600@gslookout.org
SUMMARY:Men's Bible Study
DESCRIPTION:
URL:https://gslookout.org/event/mens-bible-study/2027-10-13/
LOCATION:Talbird Hall
CATEGORIES:Formation
END:VEVENT
BEGIN:VEVENT
DTSTART;TZID=America/New_York:20271013T183000
DTEND;TZID=America/New_York:20271013T193000
DTSTAMP:20260419T095117
CREATED:20230127T163955Z
LAST-MODIFIED:20230127T165113Z
UID:10012822-1823452200-1823455800@gslookout.org
SUMMARY:Wednesday Night Youth
DESCRIPTION:
URL:https://gslookout.org/event/wednesday-night-youth/2027-10-13/
LOCATION:Youth Building
CATEGORIES:Formation,Youth
END:VEVENT
BEGIN:VEVENT
DTSTART;TZID=America/New_York:20271014T103000
DTEND;TZID=America/New_York:20271014T233000
DTSTAMP:20260419T095117
CREATED:20241122T224001Z
LAST-MODIFIED:20241122T224019Z
UID:10010452-1823509800-1823556600@gslookout.org
SUMMARY:Thursday Bible Study
DESCRIPTION:
URL:https://gslookout.org/event/thursday-bible-study-2/2027-10-14/
LOCATION:Talbird Hall
CATEGORIES:Formation
END:VEVENT
BEGIN:VEVENT
DTSTART;TZID=America/New_York:20271017T091500
DTEND;TZID=America/New_York:20271017T101500
DTSTAMP:20260419T095117
CREATED:20230127T162550Z
LAST-MODIFIED:20230127T162550Z
UID:10010717-1823764500-1823768100@gslookout.org
SUMMARY:Lectionary Bible Study
DESCRIPTION:
URL:https://gslookout.org/event/lectionary-bible-study/2027-10-17/
LOCATION:Library
CATEGORIES:Formation
END:VEVENT
BEGIN:VEVENT
DTSTART;TZID=America/New_York:20271017T091500
DTEND;TZID=America/New_York:20271017T101500
DTSTAMP:20260419T095117
CREATED:20230127T163036Z
LAST-MODIFIED:20230127T163036Z
UID:10010981-1823764500-1823768100@gslookout.org
SUMMARY:Coffee & Conversations
DESCRIPTION:
URL:https://gslookout.org/event/coffee-conversations/2027-10-17/
LOCATION:Lupton Reading Room
CATEGORIES:Formation
END:VEVENT
BEGIN:VEVENT
DTSTART;TZID=America/New_York:20271017T103000
DTEND;TZID=America/New_York:20271017T233000
DTSTAMP:20260419T095117
CREATED:20230908T210148Z
LAST-MODIFIED:20230908T210149Z
UID:10014639-1823769000-1823815800@gslookout.org
SUMMARY:Youth Breakfast & Sunday School
DESCRIPTION:
URL:https://gslookout.org/event/youth-breakfast-sunday-school-2/2027-10-17/
LOCATION:Youth Building
CATEGORIES:Formation,Youth
END:VEVENT
BEGIN:VEVENT
DTSTART;TZID=America/New_York:20271019T100000
DTEND;TZID=America/New_York:20271019T103000
DTSTAMP:20260419T095117
CREATED:20221103T210703Z
LAST-MODIFIED:20230627T182417Z
UID:10008680-1823940000-1823941800@gslookout.org
SUMMARY:Intercessory Prayer Group
DESCRIPTION:
URL:https://gslookout.org/event/intercessory-prayer-group-2/2027-10-19/
LOCATION:Chapel
CATEGORIES:Formation,Worship
END:VEVENT
BEGIN:VEVENT
DTSTART;TZID=America/New_York:20271019T113000
DTEND;TZID=America/New_York:20271019T120000
DTSTAMP:20260419T095117
CREATED:20221103T210420Z
LAST-MODIFIED:20230627T182618Z
UID:10008156-1823945400-1823947200@gslookout.org
SUMMARY:Centering Prayer
DESCRIPTION:
URL:https://gslookout.org/event/centering-prayer-2/2027-10-19/
LOCATION:Lou Garcia Room
CATEGORIES:Formation
END:VEVENT
BEGIN:VEVENT
DTSTART;TZID=America/New_York:20271020T070000
DTEND;TZID=America/New_York:20271020T200000
DTSTAMP:20260419T095117
CREATED:20230127T161734Z
LAST-MODIFIED:20230127T161734Z
UID:10009924-1824015600-1824062400@gslookout.org
SUMMARY:Men's Bible Study
DESCRIPTION:
URL:https://gslookout.org/event/mens-bible-study/2027-10-20/
LOCATION:Talbird Hall
CATEGORIES:Formation
END:VEVENT
END:VCALENDAR