BEGIN:VCALENDAR
VERSION:2.0
PRODID:-//Church of the Good Shepherd - ECPv6.15.20//NONSGML v1.0//EN
CALSCALE:GREGORIAN
METHOD:PUBLISH
X-ORIGINAL-URL:https://gslookout.org
X-WR-CALDESC:Events for Church of the Good Shepherd
REFRESH-INTERVAL;VALUE=DURATION:PT1H
X-Robots-Tag:noindex
X-PUBLISHED-TTL:PT1H
BEGIN:VTIMEZONE
TZID:America/New_York
BEGIN:DAYLIGHT
TZOFFSETFROM:-0500
TZOFFSETTO:-0400
TZNAME:EDT
DTSTART:20260308T070000
END:DAYLIGHT
BEGIN:STANDARD
TZOFFSETFROM:-0400
TZOFFSETTO:-0500
TZNAME:EST
DTSTART:20261101T060000
END:STANDARD
BEGIN:DAYLIGHT
TZOFFSETFROM:-0500
TZOFFSETTO:-0400
TZNAME:EDT
DTSTART:20270314T070000
END:DAYLIGHT
BEGIN:STANDARD
TZOFFSETFROM:-0400
TZOFFSETTO:-0500
TZNAME:EST
DTSTART:20271107T060000
END:STANDARD
BEGIN:DAYLIGHT
TZOFFSETFROM:-0500
TZOFFSETTO:-0400
TZNAME:EDT
DTSTART:20280312T070000
END:DAYLIGHT
BEGIN:STANDARD
TZOFFSETFROM:-0400
TZOFFSETTO:-0500
TZNAME:EST
DTSTART:20281105T060000
END:STANDARD
END:VTIMEZONE
BEGIN:VEVENT
DTSTART;TZID=America/New_York:20271017T103000
DTEND;TZID=America/New_York:20271017T233000
DTSTAMP:20260419T165135
CREATED:20230908T210148Z
LAST-MODIFIED:20230908T210149Z
UID:10014639-1823769000-1823815800@gslookout.org
SUMMARY:Youth Breakfast & Sunday School
DESCRIPTION:
URL:https://gslookout.org/event/youth-breakfast-sunday-school-2/2027-10-17/
LOCATION:Youth Building
CATEGORIES:Formation,Youth
END:VEVENT
BEGIN:VEVENT
DTSTART;TZID=America/New_York:20271019T100000
DTEND;TZID=America/New_York:20271019T103000
DTSTAMP:20260419T165135
CREATED:20221103T210703Z
LAST-MODIFIED:20230627T182417Z
UID:10008680-1823940000-1823941800@gslookout.org
SUMMARY:Intercessory Prayer Group
DESCRIPTION:
URL:https://gslookout.org/event/intercessory-prayer-group-2/2027-10-19/
LOCATION:Chapel
CATEGORIES:Formation,Worship
END:VEVENT
BEGIN:VEVENT
DTSTART;TZID=America/New_York:20271019T113000
DTEND;TZID=America/New_York:20271019T120000
DTSTAMP:20260419T165135
CREATED:20221103T210420Z
LAST-MODIFIED:20230627T182618Z
UID:10008156-1823945400-1823947200@gslookout.org
SUMMARY:Centering Prayer
DESCRIPTION:
URL:https://gslookout.org/event/centering-prayer-2/2027-10-19/
LOCATION:Lou Garcia Room
CATEGORIES:Formation
END:VEVENT
BEGIN:VEVENT
DTSTART;TZID=America/New_York:20271020T070000
DTEND;TZID=America/New_York:20271020T200000
DTSTAMP:20260419T165135
CREATED:20230127T161734Z
LAST-MODIFIED:20230127T161734Z
UID:10009924-1824015600-1824062400@gslookout.org
SUMMARY:Men's Bible Study
DESCRIPTION:
URL:https://gslookout.org/event/mens-bible-study/2027-10-20/
LOCATION:Talbird Hall
CATEGORIES:Formation
END:VEVENT
BEGIN:VEVENT
DTSTART;TZID=America/New_York:20271020T183000
DTEND;TZID=America/New_York:20271020T193000
DTSTAMP:20260419T165135
CREATED:20230127T163955Z
LAST-MODIFIED:20230127T165113Z
UID:10012823-1824057000-1824060600@gslookout.org
SUMMARY:Wednesday Night Youth
DESCRIPTION:
URL:https://gslookout.org/event/wednesday-night-youth/2027-10-20/
LOCATION:Youth Building
CATEGORIES:Formation,Youth
END:VEVENT
BEGIN:VEVENT
DTSTART;TZID=America/New_York:20271021T103000
DTEND;TZID=America/New_York:20271021T233000
DTSTAMP:20260419T165135
CREATED:20241122T224001Z
LAST-MODIFIED:20241122T224019Z
UID:10010453-1824114600-1824161400@gslookout.org
SUMMARY:Thursday Bible Study
DESCRIPTION:
URL:https://gslookout.org/event/thursday-bible-study-2/2027-10-21/
LOCATION:Talbird Hall
CATEGORIES:Formation
END:VEVENT
BEGIN:VEVENT
DTSTART;TZID=America/New_York:20271024T091500
DTEND;TZID=America/New_York:20271024T101500
DTSTAMP:20260419T165135
CREATED:20230127T162550Z
LAST-MODIFIED:20230127T162550Z
UID:10010718-1824369300-1824372900@gslookout.org
SUMMARY:Lectionary Bible Study
DESCRIPTION:
URL:https://gslookout.org/event/lectionary-bible-study/2027-10-24/
LOCATION:Library
CATEGORIES:Formation
END:VEVENT
BEGIN:VEVENT
DTSTART;TZID=America/New_York:20271024T091500
DTEND;TZID=America/New_York:20271024T101500
DTSTAMP:20260419T165135
CREATED:20230127T163036Z
LAST-MODIFIED:20230127T163036Z
UID:10010982-1824369300-1824372900@gslookout.org
SUMMARY:Coffee & Conversations
DESCRIPTION:
URL:https://gslookout.org/event/coffee-conversations/2027-10-24/
LOCATION:Lupton Reading Room
CATEGORIES:Formation
END:VEVENT
BEGIN:VEVENT
DTSTART;TZID=America/New_York:20271024T103000
DTEND;TZID=America/New_York:20271024T233000
DTSTAMP:20260419T165135
CREATED:20230908T210148Z
LAST-MODIFIED:20230908T210149Z
UID:10014640-1824373800-1824420600@gslookout.org
SUMMARY:Youth Breakfast & Sunday School
DESCRIPTION:
URL:https://gslookout.org/event/youth-breakfast-sunday-school-2/2027-10-24/
LOCATION:Youth Building
CATEGORIES:Formation,Youth
END:VEVENT
BEGIN:VEVENT
DTSTART;TZID=America/New_York:20271026T100000
DTEND;TZID=America/New_York:20271026T103000
DTSTAMP:20260419T165135
CREATED:20221103T210703Z
LAST-MODIFIED:20230627T182417Z
UID:10008681-1824544800-1824546600@gslookout.org
SUMMARY:Intercessory Prayer Group
DESCRIPTION:
URL:https://gslookout.org/event/intercessory-prayer-group-2/2027-10-26/
LOCATION:Chapel
CATEGORIES:Formation,Worship
END:VEVENT
BEGIN:VEVENT
DTSTART;TZID=America/New_York:20271026T113000
DTEND;TZID=America/New_York:20271026T120000
DTSTAMP:20260419T165135
CREATED:20221103T210420Z
LAST-MODIFIED:20230627T182618Z
UID:10008157-1824550200-1824552000@gslookout.org
SUMMARY:Centering Prayer
DESCRIPTION:
URL:https://gslookout.org/event/centering-prayer-2/2027-10-26/
LOCATION:Lou Garcia Room
CATEGORIES:Formation
END:VEVENT
BEGIN:VEVENT
DTSTART;TZID=America/New_York:20271027T070000
DTEND;TZID=America/New_York:20271027T200000
DTSTAMP:20260419T165135
CREATED:20230127T161734Z
LAST-MODIFIED:20230127T161734Z
UID:10009925-1824620400-1824667200@gslookout.org
SUMMARY:Men's Bible Study
DESCRIPTION:
URL:https://gslookout.org/event/mens-bible-study/2027-10-27/
LOCATION:Talbird Hall
CATEGORIES:Formation
END:VEVENT
BEGIN:VEVENT
DTSTART;TZID=America/New_York:20271027T183000
DTEND;TZID=America/New_York:20271027T193000
DTSTAMP:20260419T165135
CREATED:20230127T163955Z
LAST-MODIFIED:20230127T165113Z
UID:10012824-1824661800-1824665400@gslookout.org
SUMMARY:Wednesday Night Youth
DESCRIPTION:
URL:https://gslookout.org/event/wednesday-night-youth/2027-10-27/
LOCATION:Youth Building
CATEGORIES:Formation,Youth
END:VEVENT
BEGIN:VEVENT
DTSTART;TZID=America/New_York:20271028T103000
DTEND;TZID=America/New_York:20271028T233000
DTSTAMP:20260419T165135
CREATED:20241122T224001Z
LAST-MODIFIED:20241122T224019Z
UID:10010454-1824719400-1824766200@gslookout.org
SUMMARY:Thursday Bible Study
DESCRIPTION:
URL:https://gslookout.org/event/thursday-bible-study-2/2027-10-28/
LOCATION:Talbird Hall
CATEGORIES:Formation
END:VEVENT
BEGIN:VEVENT
DTSTART;TZID=America/New_York:20271031T091500
DTEND;TZID=America/New_York:20271031T101500
DTSTAMP:20260419T165135
CREATED:20230127T162550Z
LAST-MODIFIED:20230127T162550Z
UID:10010719-1824974100-1824977700@gslookout.org
SUMMARY:Lectionary Bible Study
DESCRIPTION:
URL:https://gslookout.org/event/lectionary-bible-study/2027-10-31/
LOCATION:Library
CATEGORIES:Formation
END:VEVENT
BEGIN:VEVENT
DTSTART;TZID=America/New_York:20271031T091500
DTEND;TZID=America/New_York:20271031T101500
DTSTAMP:20260419T165135
CREATED:20230127T163036Z
LAST-MODIFIED:20230127T163036Z
UID:10010983-1824974100-1824977700@gslookout.org
SUMMARY:Coffee & Conversations
DESCRIPTION:
URL:https://gslookout.org/event/coffee-conversations/2027-10-31/
LOCATION:Lupton Reading Room
CATEGORIES:Formation
END:VEVENT
BEGIN:VEVENT
DTSTART;TZID=America/New_York:20271031T103000
DTEND;TZID=America/New_York:20271031T233000
DTSTAMP:20260419T165135
CREATED:20230908T210148Z
LAST-MODIFIED:20230908T210149Z
UID:10014641-1824978600-1825025400@gslookout.org
SUMMARY:Youth Breakfast & Sunday School
DESCRIPTION:
URL:https://gslookout.org/event/youth-breakfast-sunday-school-2/2027-10-31/
LOCATION:Youth Building
CATEGORIES:Formation,Youth
END:VEVENT
BEGIN:VEVENT
DTSTART;TZID=America/New_York:20271102T100000
DTEND;TZID=America/New_York:20271102T103000
DTSTAMP:20260419T165135
CREATED:20221103T210703Z
LAST-MODIFIED:20230627T182417Z
UID:10008682-1825149600-1825151400@gslookout.org
SUMMARY:Intercessory Prayer Group
DESCRIPTION:
URL:https://gslookout.org/event/intercessory-prayer-group-2/2027-11-02/
LOCATION:Chapel
CATEGORIES:Formation,Worship
END:VEVENT
BEGIN:VEVENT
DTSTART;TZID=America/New_York:20271102T113000
DTEND;TZID=America/New_York:20271102T120000
DTSTAMP:20260419T165135
CREATED:20221103T210420Z
LAST-MODIFIED:20230627T182618Z
UID:10008158-1825155000-1825156800@gslookout.org
SUMMARY:Centering Prayer
DESCRIPTION:
URL:https://gslookout.org/event/centering-prayer-2/2027-11-02/
LOCATION:Lou Garcia Room
CATEGORIES:Formation
END:VEVENT
BEGIN:VEVENT
DTSTART;TZID=America/New_York:20271103T070000
DTEND;TZID=America/New_York:20271103T200000
DTSTAMP:20260419T165135
CREATED:20230127T161734Z
LAST-MODIFIED:20230127T161734Z
UID:10009926-1825225200-1825272000@gslookout.org
SUMMARY:Men's Bible Study
DESCRIPTION:
URL:https://gslookout.org/event/mens-bible-study/2027-11-03/
LOCATION:Talbird Hall
CATEGORIES:Formation
END:VEVENT
BEGIN:VEVENT
DTSTART;TZID=America/New_York:20271103T183000
DTEND;TZID=America/New_York:20271103T193000
DTSTAMP:20260419T165135
CREATED:20230127T163955Z
LAST-MODIFIED:20230127T165113Z
UID:10012825-1825266600-1825270200@gslookout.org
SUMMARY:Wednesday Night Youth
DESCRIPTION:
URL:https://gslookout.org/event/wednesday-night-youth/2027-11-03/
LOCATION:Youth Building
CATEGORIES:Formation,Youth
END:VEVENT
BEGIN:VEVENT
DTSTART;TZID=America/New_York:20271104T103000
DTEND;TZID=America/New_York:20271104T233000
DTSTAMP:20260419T165135
CREATED:20241122T224001Z
LAST-MODIFIED:20241122T224019Z
UID:10010455-1825324200-1825371000@gslookout.org
SUMMARY:Thursday Bible Study
DESCRIPTION:
URL:https://gslookout.org/event/thursday-bible-study-2/2027-11-04/
LOCATION:Talbird Hall
CATEGORIES:Formation
END:VEVENT
BEGIN:VEVENT
DTSTART;TZID=America/New_York:20271107T091500
DTEND;TZID=America/New_York:20271107T101500
DTSTAMP:20260419T165135
CREATED:20230127T162550Z
LAST-MODIFIED:20230127T162550Z
UID:10010720-1825578900-1825582500@gslookout.org
SUMMARY:Lectionary Bible Study
DESCRIPTION:
URL:https://gslookout.org/event/lectionary-bible-study/2027-11-07/
LOCATION:Library
CATEGORIES:Formation
END:VEVENT
BEGIN:VEVENT
DTSTART;TZID=America/New_York:20271107T091500
DTEND;TZID=America/New_York:20271107T101500
DTSTAMP:20260419T165135
CREATED:20230127T163036Z
LAST-MODIFIED:20230127T163036Z
UID:10010984-1825578900-1825582500@gslookout.org
SUMMARY:Coffee & Conversations
DESCRIPTION:
URL:https://gslookout.org/event/coffee-conversations/2027-11-07/
LOCATION:Lupton Reading Room
CATEGORIES:Formation
END:VEVENT
BEGIN:VEVENT
DTSTART;TZID=America/New_York:20271107T103000
DTEND;TZID=America/New_York:20271107T233000
DTSTAMP:20260419T165135
CREATED:20230908T210148Z
LAST-MODIFIED:20230908T210149Z
UID:10014642-1825583400-1825630200@gslookout.org
SUMMARY:Youth Breakfast & Sunday School
DESCRIPTION:
URL:https://gslookout.org/event/youth-breakfast-sunday-school-2/2027-11-07/
LOCATION:Youth Building
CATEGORIES:Formation,Youth
END:VEVENT
BEGIN:VEVENT
DTSTART;TZID=America/New_York:20271109T100000
DTEND;TZID=America/New_York:20271109T103000
DTSTAMP:20260419T165135
CREATED:20221103T210703Z
LAST-MODIFIED:20230627T182417Z
UID:10014298-1825754400-1825756200@gslookout.org
SUMMARY:Intercessory Prayer Group
DESCRIPTION:
URL:https://gslookout.org/event/intercessory-prayer-group-2/2027-11-09/
LOCATION:Chapel
CATEGORIES:Formation,Worship
END:VEVENT
BEGIN:VEVENT
DTSTART;TZID=America/New_York:20271109T113000
DTEND;TZID=America/New_York:20271109T120000
DTSTAMP:20260419T165135
CREATED:20221103T210420Z
LAST-MODIFIED:20230627T182618Z
UID:10014366-1825759800-1825761600@gslookout.org
SUMMARY:Centering Prayer
DESCRIPTION:
URL:https://gslookout.org/event/centering-prayer-2/2027-11-09/
LOCATION:Lou Garcia Room
CATEGORIES:Formation
END:VEVENT
BEGIN:VEVENT
DTSTART;TZID=America/New_York:20271110T070000
DTEND;TZID=America/New_York:20271110T200000
DTSTAMP:20260419T165135
CREATED:20230127T161734Z
LAST-MODIFIED:20230127T161734Z
UID:10009927-1825830000-1825876800@gslookout.org
SUMMARY:Men's Bible Study
DESCRIPTION:
URL:https://gslookout.org/event/mens-bible-study/2027-11-10/
LOCATION:Talbird Hall
CATEGORIES:Formation
END:VEVENT
BEGIN:VEVENT
DTSTART;TZID=America/New_York:20271110T183000
DTEND;TZID=America/New_York:20271110T193000
DTSTAMP:20260419T165135
CREATED:20230127T163955Z
LAST-MODIFIED:20230127T165113Z
UID:10012826-1825871400-1825875000@gslookout.org
SUMMARY:Wednesday Night Youth
DESCRIPTION:
URL:https://gslookout.org/event/wednesday-night-youth/2027-11-10/
LOCATION:Youth Building
CATEGORIES:Formation,Youth
END:VEVENT
BEGIN:VEVENT
DTSTART;TZID=America/New_York:20271111T103000
DTEND;TZID=America/New_York:20271111T233000
DTSTAMP:20260419T165135
CREATED:20241122T224001Z
LAST-MODIFIED:20241122T224019Z
UID:10010456-1825929000-1825975800@gslookout.org
SUMMARY:Thursday Bible Study
DESCRIPTION:
URL:https://gslookout.org/event/thursday-bible-study-2/2027-11-11/
LOCATION:Talbird Hall
CATEGORIES:Formation
END:VEVENT
END:VCALENDAR