BEGIN:VCALENDAR
VERSION:2.0
PRODID:-//Church of the Good Shepherd - ECPv6.15.20//NONSGML v1.0//EN
CALSCALE:GREGORIAN
METHOD:PUBLISH
X-ORIGINAL-URL:https://gslookout.org
X-WR-CALDESC:Events for Church of the Good Shepherd
REFRESH-INTERVAL;VALUE=DURATION:PT1H
X-Robots-Tag:noindex
X-PUBLISHED-TTL:PT1H
BEGIN:VTIMEZONE
TZID:America/New_York
BEGIN:DAYLIGHT
TZOFFSETFROM:-0500
TZOFFSETTO:-0400
TZNAME:EDT
DTSTART:20260308T070000
END:DAYLIGHT
BEGIN:STANDARD
TZOFFSETFROM:-0400
TZOFFSETTO:-0500
TZNAME:EST
DTSTART:20261101T060000
END:STANDARD
BEGIN:DAYLIGHT
TZOFFSETFROM:-0500
TZOFFSETTO:-0400
TZNAME:EDT
DTSTART:20270314T070000
END:DAYLIGHT
BEGIN:STANDARD
TZOFFSETFROM:-0400
TZOFFSETTO:-0500
TZNAME:EST
DTSTART:20271107T060000
END:STANDARD
BEGIN:DAYLIGHT
TZOFFSETFROM:-0500
TZOFFSETTO:-0400
TZNAME:EDT
DTSTART:20280312T070000
END:DAYLIGHT
BEGIN:STANDARD
TZOFFSETFROM:-0400
TZOFFSETTO:-0500
TZNAME:EST
DTSTART:20281105T060000
END:STANDARD
END:VTIMEZONE
BEGIN:VEVENT
DTSTART;TZID=America/New_York:20271109T100000
DTEND;TZID=America/New_York:20271109T103000
DTSTAMP:20260419T235504
CREATED:20221103T210703Z
LAST-MODIFIED:20230627T182417Z
UID:10014298-1825754400-1825756200@gslookout.org
SUMMARY:Intercessory Prayer Group
DESCRIPTION:
URL:https://gslookout.org/event/intercessory-prayer-group-2/2027-11-09/
LOCATION:Chapel
CATEGORIES:Formation,Worship
END:VEVENT
BEGIN:VEVENT
DTSTART;TZID=America/New_York:20271109T113000
DTEND;TZID=America/New_York:20271109T120000
DTSTAMP:20260419T235504
CREATED:20221103T210420Z
LAST-MODIFIED:20230627T182618Z
UID:10014366-1825759800-1825761600@gslookout.org
SUMMARY:Centering Prayer
DESCRIPTION:
URL:https://gslookout.org/event/centering-prayer-2/2027-11-09/
LOCATION:Lou Garcia Room
CATEGORIES:Formation
END:VEVENT
BEGIN:VEVENT
DTSTART;TZID=America/New_York:20271110T070000
DTEND;TZID=America/New_York:20271110T200000
DTSTAMP:20260419T235504
CREATED:20230127T161734Z
LAST-MODIFIED:20230127T161734Z
UID:10009927-1825830000-1825876800@gslookout.org
SUMMARY:Men's Bible Study
DESCRIPTION:
URL:https://gslookout.org/event/mens-bible-study/2027-11-10/
LOCATION:Talbird Hall
CATEGORIES:Formation
END:VEVENT
BEGIN:VEVENT
DTSTART;TZID=America/New_York:20271110T183000
DTEND;TZID=America/New_York:20271110T193000
DTSTAMP:20260419T235504
CREATED:20230127T163955Z
LAST-MODIFIED:20230127T165113Z
UID:10012826-1825871400-1825875000@gslookout.org
SUMMARY:Wednesday Night Youth
DESCRIPTION:
URL:https://gslookout.org/event/wednesday-night-youth/2027-11-10/
LOCATION:Youth Building
CATEGORIES:Formation,Youth
END:VEVENT
BEGIN:VEVENT
DTSTART;TZID=America/New_York:20271111T103000
DTEND;TZID=America/New_York:20271111T233000
DTSTAMP:20260419T235504
CREATED:20241122T224001Z
LAST-MODIFIED:20241122T224019Z
UID:10010456-1825929000-1825975800@gslookout.org
SUMMARY:Thursday Bible Study
DESCRIPTION:
URL:https://gslookout.org/event/thursday-bible-study-2/2027-11-11/
LOCATION:Talbird Hall
CATEGORIES:Formation
END:VEVENT
BEGIN:VEVENT
DTSTART;TZID=America/New_York:20271114T091500
DTEND;TZID=America/New_York:20271114T101500
DTSTAMP:20260419T235504
CREATED:20230127T162550Z
LAST-MODIFIED:20230127T162550Z
UID:10010721-1826183700-1826187300@gslookout.org
SUMMARY:Lectionary Bible Study
DESCRIPTION:
URL:https://gslookout.org/event/lectionary-bible-study/2027-11-14/
LOCATION:Library
CATEGORIES:Formation
END:VEVENT
BEGIN:VEVENT
DTSTART;TZID=America/New_York:20271114T091500
DTEND;TZID=America/New_York:20271114T101500
DTSTAMP:20260419T235504
CREATED:20230127T163036Z
LAST-MODIFIED:20230127T163036Z
UID:10010985-1826183700-1826187300@gslookout.org
SUMMARY:Coffee & Conversations
DESCRIPTION:
URL:https://gslookout.org/event/coffee-conversations/2027-11-14/
LOCATION:Lupton Reading Room
CATEGORIES:Formation
END:VEVENT
BEGIN:VEVENT
DTSTART;TZID=America/New_York:20271114T103000
DTEND;TZID=America/New_York:20271114T233000
DTSTAMP:20260419T235504
CREATED:20230908T210148Z
LAST-MODIFIED:20230908T210149Z
UID:10014643-1826188200-1826235000@gslookout.org
SUMMARY:Youth Breakfast & Sunday School
DESCRIPTION:
URL:https://gslookout.org/event/youth-breakfast-sunday-school-2/2027-11-14/
LOCATION:Youth Building
CATEGORIES:Formation,Youth
END:VEVENT
BEGIN:VEVENT
DTSTART;TZID=America/New_York:20271116T100000
DTEND;TZID=America/New_York:20271116T103000
DTSTAMP:20260419T235504
CREATED:20221103T210703Z
LAST-MODIFIED:20230627T182417Z
UID:10014299-1826359200-1826361000@gslookout.org
SUMMARY:Intercessory Prayer Group
DESCRIPTION:
URL:https://gslookout.org/event/intercessory-prayer-group-2/2027-11-16/
LOCATION:Chapel
CATEGORIES:Formation,Worship
END:VEVENT
BEGIN:VEVENT
DTSTART;TZID=America/New_York:20271116T113000
DTEND;TZID=America/New_York:20271116T120000
DTSTAMP:20260419T235504
CREATED:20221103T210420Z
LAST-MODIFIED:20230627T182618Z
UID:10014367-1826364600-1826366400@gslookout.org
SUMMARY:Centering Prayer
DESCRIPTION:
URL:https://gslookout.org/event/centering-prayer-2/2027-11-16/
LOCATION:Lou Garcia Room
CATEGORIES:Formation
END:VEVENT
BEGIN:VEVENT
DTSTART;TZID=America/New_York:20271117T070000
DTEND;TZID=America/New_York:20271117T200000
DTSTAMP:20260419T235504
CREATED:20230127T161734Z
LAST-MODIFIED:20230127T161734Z
UID:10009928-1826434800-1826481600@gslookout.org
SUMMARY:Men's Bible Study
DESCRIPTION:
URL:https://gslookout.org/event/mens-bible-study/2027-11-17/
LOCATION:Talbird Hall
CATEGORIES:Formation
END:VEVENT
BEGIN:VEVENT
DTSTART;TZID=America/New_York:20271117T183000
DTEND;TZID=America/New_York:20271117T193000
DTSTAMP:20260419T235504
CREATED:20230127T163955Z
LAST-MODIFIED:20230127T165113Z
UID:10012827-1826476200-1826479800@gslookout.org
SUMMARY:Wednesday Night Youth
DESCRIPTION:
URL:https://gslookout.org/event/wednesday-night-youth/2027-11-17/
LOCATION:Youth Building
CATEGORIES:Formation,Youth
END:VEVENT
BEGIN:VEVENT
DTSTART;TZID=America/New_York:20271118T103000
DTEND;TZID=America/New_York:20271118T233000
DTSTAMP:20260419T235504
CREATED:20241122T224001Z
LAST-MODIFIED:20241122T224019Z
UID:10010457-1826533800-1826580600@gslookout.org
SUMMARY:Thursday Bible Study
DESCRIPTION:
URL:https://gslookout.org/event/thursday-bible-study-2/2027-11-18/
LOCATION:Talbird Hall
CATEGORIES:Formation
END:VEVENT
BEGIN:VEVENT
DTSTART;TZID=America/New_York:20271121T091500
DTEND;TZID=America/New_York:20271121T101500
DTSTAMP:20260419T235504
CREATED:20230127T162550Z
LAST-MODIFIED:20230127T162550Z
UID:10010722-1826788500-1826792100@gslookout.org
SUMMARY:Lectionary Bible Study
DESCRIPTION:
URL:https://gslookout.org/event/lectionary-bible-study/2027-11-21/
LOCATION:Library
CATEGORIES:Formation
END:VEVENT
BEGIN:VEVENT
DTSTART;TZID=America/New_York:20271121T091500
DTEND;TZID=America/New_York:20271121T101500
DTSTAMP:20260419T235504
CREATED:20230127T163036Z
LAST-MODIFIED:20230127T163036Z
UID:10010986-1826788500-1826792100@gslookout.org
SUMMARY:Coffee & Conversations
DESCRIPTION:
URL:https://gslookout.org/event/coffee-conversations/2027-11-21/
LOCATION:Lupton Reading Room
CATEGORIES:Formation
END:VEVENT
BEGIN:VEVENT
DTSTART;TZID=America/New_York:20271121T103000
DTEND;TZID=America/New_York:20271121T233000
DTSTAMP:20260419T235504
CREATED:20230908T210148Z
LAST-MODIFIED:20230908T210149Z
UID:10014644-1826793000-1826839800@gslookout.org
SUMMARY:Youth Breakfast & Sunday School
DESCRIPTION:
URL:https://gslookout.org/event/youth-breakfast-sunday-school-2/2027-11-21/
LOCATION:Youth Building
CATEGORIES:Formation,Youth
END:VEVENT
BEGIN:VEVENT
DTSTART;TZID=America/New_York:20271123T100000
DTEND;TZID=America/New_York:20271123T103000
DTSTAMP:20260419T235504
CREATED:20221103T210703Z
LAST-MODIFIED:20230627T182417Z
UID:10014300-1826964000-1826965800@gslookout.org
SUMMARY:Intercessory Prayer Group
DESCRIPTION:
URL:https://gslookout.org/event/intercessory-prayer-group-2/2027-11-23/
LOCATION:Chapel
CATEGORIES:Formation,Worship
END:VEVENT
BEGIN:VEVENT
DTSTART;TZID=America/New_York:20271123T113000
DTEND;TZID=America/New_York:20271123T120000
DTSTAMP:20260419T235504
CREATED:20221103T210420Z
LAST-MODIFIED:20230627T182618Z
UID:10014368-1826969400-1826971200@gslookout.org
SUMMARY:Centering Prayer
DESCRIPTION:
URL:https://gslookout.org/event/centering-prayer-2/2027-11-23/
LOCATION:Lou Garcia Room
CATEGORIES:Formation
END:VEVENT
BEGIN:VEVENT
DTSTART;TZID=America/New_York:20271124T070000
DTEND;TZID=America/New_York:20271124T200000
DTSTAMP:20260419T235504
CREATED:20230127T161734Z
LAST-MODIFIED:20230127T161734Z
UID:10009929-1827039600-1827086400@gslookout.org
SUMMARY:Men's Bible Study
DESCRIPTION:
URL:https://gslookout.org/event/mens-bible-study/2027-11-24/
LOCATION:Talbird Hall
CATEGORIES:Formation
END:VEVENT
BEGIN:VEVENT
DTSTART;TZID=America/New_York:20271124T183000
DTEND;TZID=America/New_York:20271124T193000
DTSTAMP:20260419T235504
CREATED:20230127T163955Z
LAST-MODIFIED:20230127T165113Z
UID:10012828-1827081000-1827084600@gslookout.org
SUMMARY:Wednesday Night Youth
DESCRIPTION:
URL:https://gslookout.org/event/wednesday-night-youth/2027-11-24/
LOCATION:Youth Building
CATEGORIES:Formation,Youth
END:VEVENT
BEGIN:VEVENT
DTSTART;TZID=America/New_York:20271125T103000
DTEND;TZID=America/New_York:20271125T233000
DTSTAMP:20260419T235504
CREATED:20241122T224001Z
LAST-MODIFIED:20241122T224019Z
UID:10010458-1827138600-1827185400@gslookout.org
SUMMARY:Thursday Bible Study
DESCRIPTION:
URL:https://gslookout.org/event/thursday-bible-study-2/2027-11-25/
LOCATION:Talbird Hall
CATEGORIES:Formation
END:VEVENT
BEGIN:VEVENT
DTSTART;TZID=America/New_York:20271128T091500
DTEND;TZID=America/New_York:20271128T101500
DTSTAMP:20260419T235504
CREATED:20230127T162550Z
LAST-MODIFIED:20230127T162550Z
UID:10010723-1827393300-1827396900@gslookout.org
SUMMARY:Lectionary Bible Study
DESCRIPTION:
URL:https://gslookout.org/event/lectionary-bible-study/2027-11-28/
LOCATION:Library
CATEGORIES:Formation
END:VEVENT
BEGIN:VEVENT
DTSTART;TZID=America/New_York:20271128T091500
DTEND;TZID=America/New_York:20271128T101500
DTSTAMP:20260419T235504
CREATED:20230127T163036Z
LAST-MODIFIED:20230127T163036Z
UID:10010987-1827393300-1827396900@gslookout.org
SUMMARY:Coffee & Conversations
DESCRIPTION:
URL:https://gslookout.org/event/coffee-conversations/2027-11-28/
LOCATION:Lupton Reading Room
CATEGORIES:Formation
END:VEVENT
BEGIN:VEVENT
DTSTART;TZID=America/New_York:20271128T103000
DTEND;TZID=America/New_York:20271128T233000
DTSTAMP:20260419T235504
CREATED:20230908T210148Z
LAST-MODIFIED:20230908T210149Z
UID:10014645-1827397800-1827444600@gslookout.org
SUMMARY:Youth Breakfast & Sunday School
DESCRIPTION:
URL:https://gslookout.org/event/youth-breakfast-sunday-school-2/2027-11-28/
LOCATION:Youth Building
CATEGORIES:Formation,Youth
END:VEVENT
BEGIN:VEVENT
DTSTART;TZID=America/New_York:20271130T100000
DTEND;TZID=America/New_York:20271130T103000
DTSTAMP:20260419T235504
CREATED:20221103T210703Z
LAST-MODIFIED:20230627T182417Z
UID:10014301-1827568800-1827570600@gslookout.org
SUMMARY:Intercessory Prayer Group
DESCRIPTION:
URL:https://gslookout.org/event/intercessory-prayer-group-2/2027-11-30/
LOCATION:Chapel
CATEGORIES:Formation,Worship
END:VEVENT
BEGIN:VEVENT
DTSTART;TZID=America/New_York:20271130T113000
DTEND;TZID=America/New_York:20271130T120000
DTSTAMP:20260419T235504
CREATED:20221103T210420Z
LAST-MODIFIED:20230627T182618Z
UID:10014369-1827574200-1827576000@gslookout.org
SUMMARY:Centering Prayer
DESCRIPTION:
URL:https://gslookout.org/event/centering-prayer-2/2027-11-30/
LOCATION:Lou Garcia Room
CATEGORIES:Formation
END:VEVENT
BEGIN:VEVENT
DTSTART;TZID=America/New_York:20271201T070000
DTEND;TZID=America/New_York:20271201T200000
DTSTAMP:20260419T235504
CREATED:20230127T161734Z
LAST-MODIFIED:20230127T161734Z
UID:10009930-1827644400-1827691200@gslookout.org
SUMMARY:Men's Bible Study
DESCRIPTION:
URL:https://gslookout.org/event/mens-bible-study/2027-12-01/
LOCATION:Talbird Hall
CATEGORIES:Formation
END:VEVENT
BEGIN:VEVENT
DTSTART;TZID=America/New_York:20271201T183000
DTEND;TZID=America/New_York:20271201T193000
DTSTAMP:20260419T235504
CREATED:20230127T163955Z
LAST-MODIFIED:20230127T165113Z
UID:10012829-1827685800-1827689400@gslookout.org
SUMMARY:Wednesday Night Youth
DESCRIPTION:
URL:https://gslookout.org/event/wednesday-night-youth/2027-12-01/
LOCATION:Youth Building
CATEGORIES:Formation,Youth
END:VEVENT
BEGIN:VEVENT
DTSTART;TZID=America/New_York:20271202T103000
DTEND;TZID=America/New_York:20271202T233000
DTSTAMP:20260419T235504
CREATED:20241122T224001Z
LAST-MODIFIED:20241122T224019Z
UID:10010459-1827743400-1827790200@gslookout.org
SUMMARY:Thursday Bible Study
DESCRIPTION:
URL:https://gslookout.org/event/thursday-bible-study-2/2027-12-02/
LOCATION:Talbird Hall
CATEGORIES:Formation
END:VEVENT
BEGIN:VEVENT
DTSTART;TZID=America/New_York:20271205T091500
DTEND;TZID=America/New_York:20271205T101500
DTSTAMP:20260419T235504
CREATED:20230127T162550Z
LAST-MODIFIED:20230127T162550Z
UID:10010724-1827998100-1828001700@gslookout.org
SUMMARY:Lectionary Bible Study
DESCRIPTION:
URL:https://gslookout.org/event/lectionary-bible-study/2027-12-05/
LOCATION:Library
CATEGORIES:Formation
END:VEVENT
END:VCALENDAR