BEGIN:VCALENDAR
VERSION:2.0
PRODID:-//Church of the Good Shepherd - ECPv6.15.20//NONSGML v1.0//EN
CALSCALE:GREGORIAN
METHOD:PUBLISH
X-ORIGINAL-URL:https://gslookout.org
X-WR-CALDESC:Events for Church of the Good Shepherd
REFRESH-INTERVAL;VALUE=DURATION:PT1H
X-Robots-Tag:noindex
X-PUBLISHED-TTL:PT1H
BEGIN:VTIMEZONE
TZID:America/New_York
BEGIN:DAYLIGHT
TZOFFSETFROM:-0500
TZOFFSETTO:-0400
TZNAME:EDT
DTSTART:20270314T070000
END:DAYLIGHT
BEGIN:STANDARD
TZOFFSETFROM:-0400
TZOFFSETTO:-0500
TZNAME:EST
DTSTART:20271107T060000
END:STANDARD
BEGIN:DAYLIGHT
TZOFFSETFROM:-0500
TZOFFSETTO:-0400
TZNAME:EDT
DTSTART:20280312T070000
END:DAYLIGHT
BEGIN:STANDARD
TZOFFSETFROM:-0400
TZOFFSETTO:-0500
TZNAME:EST
DTSTART:20281105T060000
END:STANDARD
BEGIN:DAYLIGHT
TZOFFSETFROM:-0500
TZOFFSETTO:-0400
TZNAME:EDT
DTSTART:20290311T070000
END:DAYLIGHT
BEGIN:STANDARD
TZOFFSETFROM:-0400
TZOFFSETTO:-0500
TZNAME:EST
DTSTART:20291104T060000
END:STANDARD
END:VTIMEZONE
BEGIN:VEVENT
DTSTART;TZID=America/New_York:20280326T091500
DTEND;TZID=America/New_York:20280326T101500
DTSTAMP:20260422T060101
CREATED:20230127T163036Z
LAST-MODIFIED:20230127T163036Z
UID:10013704-1837674900-1837678500@gslookout.org
SUMMARY:Coffee & Conversations
DESCRIPTION:
URL:https://gslookout.org/event/coffee-conversations/2028-03-26/
LOCATION:Lupton Reading Room
CATEGORIES:Formation
END:VEVENT
BEGIN:VEVENT
DTSTART;TZID=America/New_York:20280326T103000
DTEND;TZID=America/New_York:20280326T233000
DTSTAMP:20260422T060101
CREATED:20230908T210148Z
LAST-MODIFIED:20230908T210149Z
UID:10014662-1837679400-1837726200@gslookout.org
SUMMARY:Youth Breakfast & Sunday School
DESCRIPTION:
URL:https://gslookout.org/event/youth-breakfast-sunday-school-2/2028-03-26/
LOCATION:Youth Building
CATEGORIES:Formation,Youth
END:VEVENT
BEGIN:VEVENT
DTSTART;TZID=America/New_York:20280328T100000
DTEND;TZID=America/New_York:20280328T103000
DTSTAMP:20260422T060101
CREATED:20221103T210703Z
LAST-MODIFIED:20230627T182417Z
UID:10014318-1837850400-1837852200@gslookout.org
SUMMARY:Intercessory Prayer Group
DESCRIPTION:
URL:https://gslookout.org/event/intercessory-prayer-group-2/2028-03-28/
LOCATION:Chapel
CATEGORIES:Formation,Worship
END:VEVENT
BEGIN:VEVENT
DTSTART;TZID=America/New_York:20280328T113000
DTEND;TZID=America/New_York:20280328T120000
DTSTAMP:20260422T060101
CREATED:20221103T210420Z
LAST-MODIFIED:20230627T182618Z
UID:10014386-1837855800-1837857600@gslookout.org
SUMMARY:Centering Prayer
DESCRIPTION:
URL:https://gslookout.org/event/centering-prayer-2/2028-03-28/
LOCATION:Lou Garcia Room
CATEGORIES:Formation
END:VEVENT
BEGIN:VEVENT
DTSTART;TZID=America/New_York:20280329T070000
DTEND;TZID=America/New_York:20280329T200000
DTSTAMP:20260422T060101
CREATED:20230127T161734Z
LAST-MODIFIED:20230127T161734Z
UID:10016197-1837926000-1837972800@gslookout.org
SUMMARY:Men's Bible Study
DESCRIPTION:
URL:https://gslookout.org/event/mens-bible-study/2028-03-29/
LOCATION:Talbird Hall
CATEGORIES:Formation
END:VEVENT
BEGIN:VEVENT
DTSTART;TZID=America/New_York:20280329T183000
DTEND;TZID=America/New_York:20280329T193000
DTSTAMP:20260422T060101
CREATED:20230127T163955Z
LAST-MODIFIED:20230127T165113Z
UID:10015014-1837967400-1837971000@gslookout.org
SUMMARY:Wednesday Night Youth
DESCRIPTION:
URL:https://gslookout.org/event/wednesday-night-youth/2028-03-29/
LOCATION:Youth Building
CATEGORIES:Formation,Youth
END:VEVENT
BEGIN:VEVENT
DTSTART;TZID=America/New_York:20280330T103000
DTEND;TZID=America/New_York:20280330T233000
DTSTAMP:20260422T060101
CREATED:20241122T224001Z
LAST-MODIFIED:20241122T224019Z
UID:10014408-1838025000-1838071800@gslookout.org
SUMMARY:Thursday Bible Study
DESCRIPTION:
URL:https://gslookout.org/event/thursday-bible-study-2/2028-03-30/
LOCATION:Talbird Hall
CATEGORIES:Formation
END:VEVENT
BEGIN:VEVENT
DTSTART;TZID=America/New_York:20280402T091500
DTEND;TZID=America/New_York:20280402T101500
DTSTAMP:20260422T060101
CREATED:20230127T162550Z
LAST-MODIFIED:20230127T162550Z
UID:10018781-1838279700-1838283300@gslookout.org
SUMMARY:Lectionary Bible Study
DESCRIPTION:
URL:https://gslookout.org/event/lectionary-bible-study/2028-04-02/
LOCATION:Library
CATEGORIES:Formation
END:VEVENT
BEGIN:VEVENT
DTSTART;TZID=America/New_York:20280402T091500
DTEND;TZID=America/New_York:20280402T101500
DTSTAMP:20260422T060101
CREATED:20230127T163036Z
LAST-MODIFIED:20230127T163036Z
UID:10013705-1838279700-1838283300@gslookout.org
SUMMARY:Coffee & Conversations
DESCRIPTION:
URL:https://gslookout.org/event/coffee-conversations/2028-04-02/
LOCATION:Lupton Reading Room
CATEGORIES:Formation
END:VEVENT
BEGIN:VEVENT
DTSTART;TZID=America/New_York:20280402T103000
DTEND;TZID=America/New_York:20280402T233000
DTSTAMP:20260422T060101
CREATED:20230908T210148Z
LAST-MODIFIED:20230908T210149Z
UID:10014663-1838284200-1838331000@gslookout.org
SUMMARY:Youth Breakfast & Sunday School
DESCRIPTION:
URL:https://gslookout.org/event/youth-breakfast-sunday-school-2/2028-04-02/
LOCATION:Youth Building
CATEGORIES:Formation,Youth
END:VEVENT
BEGIN:VEVENT
DTSTART;TZID=America/New_York:20280404T100000
DTEND;TZID=America/New_York:20280404T103000
DTSTAMP:20260422T060101
CREATED:20221103T210703Z
LAST-MODIFIED:20230627T182417Z
UID:10014319-1838455200-1838457000@gslookout.org
SUMMARY:Intercessory Prayer Group
DESCRIPTION:
URL:https://gslookout.org/event/intercessory-prayer-group-2/2028-04-04/
LOCATION:Chapel
CATEGORIES:Formation,Worship
END:VEVENT
BEGIN:VEVENT
DTSTART;TZID=America/New_York:20280404T113000
DTEND;TZID=America/New_York:20280404T120000
DTSTAMP:20260422T060101
CREATED:20221103T210420Z
LAST-MODIFIED:20230627T182618Z
UID:10014387-1838460600-1838462400@gslookout.org
SUMMARY:Centering Prayer
DESCRIPTION:
URL:https://gslookout.org/event/centering-prayer-2/2028-04-04/
LOCATION:Lou Garcia Room
CATEGORIES:Formation
END:VEVENT
BEGIN:VEVENT
DTSTART;TZID=America/New_York:20280405T070000
DTEND;TZID=America/New_York:20280405T200000
DTSTAMP:20260422T060101
CREATED:20230127T161734Z
LAST-MODIFIED:20230127T161734Z
UID:10016198-1838530800-1838577600@gslookout.org
SUMMARY:Men's Bible Study
DESCRIPTION:
URL:https://gslookout.org/event/mens-bible-study/2028-04-05/
LOCATION:Talbird Hall
CATEGORIES:Formation
END:VEVENT
BEGIN:VEVENT
DTSTART;TZID=America/New_York:20280405T183000
DTEND;TZID=America/New_York:20280405T193000
DTSTAMP:20260422T060101
CREATED:20230127T163955Z
LAST-MODIFIED:20230127T165113Z
UID:10015015-1838572200-1838575800@gslookout.org
SUMMARY:Wednesday Night Youth
DESCRIPTION:
URL:https://gslookout.org/event/wednesday-night-youth/2028-04-05/
LOCATION:Youth Building
CATEGORIES:Formation,Youth
END:VEVENT
BEGIN:VEVENT
DTSTART;TZID=America/New_York:20280406T103000
DTEND;TZID=America/New_York:20280406T233000
DTSTAMP:20260422T060101
CREATED:20241122T224001Z
LAST-MODIFIED:20241122T224019Z
UID:10014409-1838629800-1838676600@gslookout.org
SUMMARY:Thursday Bible Study
DESCRIPTION:
URL:https://gslookout.org/event/thursday-bible-study-2/2028-04-06/
LOCATION:Talbird Hall
CATEGORIES:Formation
END:VEVENT
BEGIN:VEVENT
DTSTART;TZID=America/New_York:20280409T091500
DTEND;TZID=America/New_York:20280409T101500
DTSTAMP:20260422T060101
CREATED:20230127T162550Z
LAST-MODIFIED:20230127T162550Z
UID:10018782-1838884500-1838888100@gslookout.org
SUMMARY:Lectionary Bible Study
DESCRIPTION:
URL:https://gslookout.org/event/lectionary-bible-study/2028-04-09/
LOCATION:Library
CATEGORIES:Formation
END:VEVENT
BEGIN:VEVENT
DTSTART;TZID=America/New_York:20280409T091500
DTEND;TZID=America/New_York:20280409T101500
DTSTAMP:20260422T060101
CREATED:20230127T163036Z
LAST-MODIFIED:20230127T163036Z
UID:10013706-1838884500-1838888100@gslookout.org
SUMMARY:Coffee & Conversations
DESCRIPTION:
URL:https://gslookout.org/event/coffee-conversations/2028-04-09/
LOCATION:Lupton Reading Room
CATEGORIES:Formation
END:VEVENT
BEGIN:VEVENT
DTSTART;TZID=America/New_York:20280409T103000
DTEND;TZID=America/New_York:20280409T233000
DTSTAMP:20260422T060101
CREATED:20230908T210148Z
LAST-MODIFIED:20230908T210149Z
UID:10014664-1838889000-1838935800@gslookout.org
SUMMARY:Youth Breakfast & Sunday School
DESCRIPTION:
URL:https://gslookout.org/event/youth-breakfast-sunday-school-2/2028-04-09/
LOCATION:Youth Building
CATEGORIES:Formation,Youth
END:VEVENT
BEGIN:VEVENT
DTSTART;TZID=America/New_York:20280411T100000
DTEND;TZID=America/New_York:20280411T103000
DTSTAMP:20260422T060101
CREATED:20221103T210703Z
LAST-MODIFIED:20230627T182417Z
UID:10014320-1839060000-1839061800@gslookout.org
SUMMARY:Intercessory Prayer Group
DESCRIPTION:
URL:https://gslookout.org/event/intercessory-prayer-group-2/2028-04-11/
LOCATION:Chapel
CATEGORIES:Formation,Worship
END:VEVENT
BEGIN:VEVENT
DTSTART;TZID=America/New_York:20280411T113000
DTEND;TZID=America/New_York:20280411T120000
DTSTAMP:20260422T060101
CREATED:20221103T210420Z
LAST-MODIFIED:20230627T182618Z
UID:10014388-1839065400-1839067200@gslookout.org
SUMMARY:Centering Prayer
DESCRIPTION:
URL:https://gslookout.org/event/centering-prayer-2/2028-04-11/
LOCATION:Lou Garcia Room
CATEGORIES:Formation
END:VEVENT
BEGIN:VEVENT
DTSTART;TZID=America/New_York:20280412T070000
DTEND;TZID=America/New_York:20280412T200000
DTSTAMP:20260422T060101
CREATED:20230127T161734Z
LAST-MODIFIED:20230127T161734Z
UID:10016199-1839135600-1839182400@gslookout.org
SUMMARY:Men's Bible Study
DESCRIPTION:
URL:https://gslookout.org/event/mens-bible-study/2028-04-12/
LOCATION:Talbird Hall
CATEGORIES:Formation
END:VEVENT
BEGIN:VEVENT
DTSTART;TZID=America/New_York:20280412T183000
DTEND;TZID=America/New_York:20280412T193000
DTSTAMP:20260422T060101
CREATED:20230127T163955Z
LAST-MODIFIED:20230127T165113Z
UID:10015016-1839177000-1839180600@gslookout.org
SUMMARY:Wednesday Night Youth
DESCRIPTION:
URL:https://gslookout.org/event/wednesday-night-youth/2028-04-12/
LOCATION:Youth Building
CATEGORIES:Formation,Youth
END:VEVENT
BEGIN:VEVENT
DTSTART;TZID=America/New_York:20280413T103000
DTEND;TZID=America/New_York:20280413T233000
DTSTAMP:20260422T060101
CREATED:20241122T224001Z
LAST-MODIFIED:20241122T224019Z
UID:10014410-1839234600-1839281400@gslookout.org
SUMMARY:Thursday Bible Study
DESCRIPTION:
URL:https://gslookout.org/event/thursday-bible-study-2/2028-04-13/
LOCATION:Talbird Hall
CATEGORIES:Formation
END:VEVENT
BEGIN:VEVENT
DTSTART;TZID=America/New_York:20280416T091500
DTEND;TZID=America/New_York:20280416T101500
DTSTAMP:20260422T060101
CREATED:20230127T162550Z
LAST-MODIFIED:20230127T162550Z
UID:10018783-1839489300-1839492900@gslookout.org
SUMMARY:Lectionary Bible Study
DESCRIPTION:
URL:https://gslookout.org/event/lectionary-bible-study/2028-04-16/
LOCATION:Library
CATEGORIES:Formation
END:VEVENT
BEGIN:VEVENT
DTSTART;TZID=America/New_York:20280416T091500
DTEND;TZID=America/New_York:20280416T101500
DTSTAMP:20260422T060101
CREATED:20230127T163036Z
LAST-MODIFIED:20230127T163036Z
UID:10014961-1839489300-1839492900@gslookout.org
SUMMARY:Coffee & Conversations
DESCRIPTION:
URL:https://gslookout.org/event/coffee-conversations/2028-04-16/
LOCATION:Lupton Reading Room
CATEGORIES:Formation
END:VEVENT
BEGIN:VEVENT
DTSTART;TZID=America/New_York:20280416T103000
DTEND;TZID=America/New_York:20280416T233000
DTSTAMP:20260422T060101
CREATED:20230908T210148Z
LAST-MODIFIED:20230908T210149Z
UID:10014665-1839493800-1839540600@gslookout.org
SUMMARY:Youth Breakfast & Sunday School
DESCRIPTION:
URL:https://gslookout.org/event/youth-breakfast-sunday-school-2/2028-04-16/
LOCATION:Youth Building
CATEGORIES:Formation,Youth
END:VEVENT
BEGIN:VEVENT
DTSTART;TZID=America/New_York:20280418T100000
DTEND;TZID=America/New_York:20280418T103000
DTSTAMP:20260422T060101
CREATED:20221103T210703Z
LAST-MODIFIED:20230627T182417Z
UID:10014321-1839664800-1839666600@gslookout.org
SUMMARY:Intercessory Prayer Group
DESCRIPTION:
URL:https://gslookout.org/event/intercessory-prayer-group-2/2028-04-18/
LOCATION:Chapel
CATEGORIES:Formation,Worship
END:VEVENT
BEGIN:VEVENT
DTSTART;TZID=America/New_York:20280418T113000
DTEND;TZID=America/New_York:20280418T120000
DTSTAMP:20260422T060101
CREATED:20221103T210420Z
LAST-MODIFIED:20230627T182618Z
UID:10014389-1839670200-1839672000@gslookout.org
SUMMARY:Centering Prayer
DESCRIPTION:
URL:https://gslookout.org/event/centering-prayer-2/2028-04-18/
LOCATION:Lou Garcia Room
CATEGORIES:Formation
END:VEVENT
BEGIN:VEVENT
DTSTART;TZID=America/New_York:20280419T070000
DTEND;TZID=America/New_York:20280419T200000
DTSTAMP:20260422T060101
CREATED:20230127T161734Z
LAST-MODIFIED:20230127T161734Z
UID:10016200-1839740400-1839787200@gslookout.org
SUMMARY:Men's Bible Study
DESCRIPTION:
URL:https://gslookout.org/event/mens-bible-study/2028-04-19/
LOCATION:Talbird Hall
CATEGORIES:Formation
END:VEVENT
BEGIN:VEVENT
DTSTART;TZID=America/New_York:20280419T183000
DTEND;TZID=America/New_York:20280419T193000
DTSTAMP:20260422T060101
CREATED:20230127T163955Z
LAST-MODIFIED:20230127T165113Z
UID:10015017-1839781800-1839785400@gslookout.org
SUMMARY:Wednesday Night Youth
DESCRIPTION:
URL:https://gslookout.org/event/wednesday-night-youth/2028-04-19/
LOCATION:Youth Building
CATEGORIES:Formation,Youth
END:VEVENT
END:VCALENDAR