BEGIN:VCALENDAR
VERSION:2.0
PRODID:-//Church of the Good Shepherd - ECPv6.15.20//NONSGML v1.0//EN
CALSCALE:GREGORIAN
METHOD:PUBLISH
X-WR-CALNAME:Church of the Good Shepherd
X-ORIGINAL-URL:https://gslookout.org
X-WR-CALDESC:Events for Church of the Good Shepherd
REFRESH-INTERVAL;VALUE=DURATION:PT1H
X-Robots-Tag:noindex
X-PUBLISHED-TTL:PT1H
BEGIN:VTIMEZONE
TZID:America/New_York
BEGIN:DAYLIGHT
TZOFFSETFROM:-0500
TZOFFSETTO:-0400
TZNAME:EDT
DTSTART:20270314T070000
END:DAYLIGHT
BEGIN:STANDARD
TZOFFSETFROM:-0400
TZOFFSETTO:-0500
TZNAME:EST
DTSTART:20271107T060000
END:STANDARD
BEGIN:DAYLIGHT
TZOFFSETFROM:-0500
TZOFFSETTO:-0400
TZNAME:EDT
DTSTART:20280312T070000
END:DAYLIGHT
BEGIN:STANDARD
TZOFFSETFROM:-0400
TZOFFSETTO:-0500
TZNAME:EST
DTSTART:20281105T060000
END:STANDARD
BEGIN:DAYLIGHT
TZOFFSETFROM:-0500
TZOFFSETTO:-0400
TZNAME:EDT
DTSTART:20290311T070000
END:DAYLIGHT
BEGIN:STANDARD
TZOFFSETFROM:-0400
TZOFFSETTO:-0500
TZNAME:EST
DTSTART:20291104T060000
END:STANDARD
END:VTIMEZONE
BEGIN:VEVENT
DTSTART;TZID=America/New_York:20280416T091500
DTEND;TZID=America/New_York:20280416T101500
DTSTAMP:20260422T090517
CREATED:20230127T163036Z
LAST-MODIFIED:20230127T163036Z
UID:10014961-1839489300-1839492900@gslookout.org
SUMMARY:Coffee & Conversations
DESCRIPTION:
URL:https://gslookout.org/event/coffee-conversations/2028-04-16/
LOCATION:Lupton Reading Room
CATEGORIES:Formation
END:VEVENT
BEGIN:VEVENT
DTSTART;TZID=America/New_York:20280416T103000
DTEND;TZID=America/New_York:20280416T233000
DTSTAMP:20260422T090517
CREATED:20230908T210148Z
LAST-MODIFIED:20230908T210149Z
UID:10014665-1839493800-1839540600@gslookout.org
SUMMARY:Youth Breakfast & Sunday School
DESCRIPTION:
URL:https://gslookout.org/event/youth-breakfast-sunday-school-2/2028-04-16/
LOCATION:Youth Building
CATEGORIES:Formation,Youth
END:VEVENT
BEGIN:VEVENT
DTSTART;TZID=America/New_York:20280418T100000
DTEND;TZID=America/New_York:20280418T103000
DTSTAMP:20260422T090517
CREATED:20221103T210703Z
LAST-MODIFIED:20230627T182417Z
UID:10014321-1839664800-1839666600@gslookout.org
SUMMARY:Intercessory Prayer Group
DESCRIPTION:
URL:https://gslookout.org/event/intercessory-prayer-group-2/2028-04-18/
LOCATION:Chapel
CATEGORIES:Formation,Worship
END:VEVENT
BEGIN:VEVENT
DTSTART;TZID=America/New_York:20280418T113000
DTEND;TZID=America/New_York:20280418T120000
DTSTAMP:20260422T090517
CREATED:20221103T210420Z
LAST-MODIFIED:20230627T182618Z
UID:10014389-1839670200-1839672000@gslookout.org
SUMMARY:Centering Prayer
DESCRIPTION:
URL:https://gslookout.org/event/centering-prayer-2/2028-04-18/
LOCATION:Lou Garcia Room
CATEGORIES:Formation
END:VEVENT
BEGIN:VEVENT
DTSTART;TZID=America/New_York:20280419T070000
DTEND;TZID=America/New_York:20280419T200000
DTSTAMP:20260422T090517
CREATED:20230127T161734Z
LAST-MODIFIED:20230127T161734Z
UID:10016200-1839740400-1839787200@gslookout.org
SUMMARY:Men's Bible Study
DESCRIPTION:
URL:https://gslookout.org/event/mens-bible-study/2028-04-19/
LOCATION:Talbird Hall
CATEGORIES:Formation
END:VEVENT
BEGIN:VEVENT
DTSTART;TZID=America/New_York:20280419T183000
DTEND;TZID=America/New_York:20280419T193000
DTSTAMP:20260422T090517
CREATED:20230127T163955Z
LAST-MODIFIED:20230127T165113Z
UID:10015017-1839781800-1839785400@gslookout.org
SUMMARY:Wednesday Night Youth
DESCRIPTION:
URL:https://gslookout.org/event/wednesday-night-youth/2028-04-19/
LOCATION:Youth Building
CATEGORIES:Formation,Youth
END:VEVENT
BEGIN:VEVENT
DTSTART;TZID=America/New_York:20280420T103000
DTEND;TZID=America/New_York:20280420T233000
DTSTAMP:20260422T090517
CREATED:20241122T224001Z
LAST-MODIFIED:20241122T224019Z
UID:10014411-1839839400-1839886200@gslookout.org
SUMMARY:Thursday Bible Study
DESCRIPTION:
URL:https://gslookout.org/event/thursday-bible-study-2/2028-04-20/
LOCATION:Talbird Hall
CATEGORIES:Formation
END:VEVENT
BEGIN:VEVENT
DTSTART;TZID=America/New_York:20280423T091500
DTEND;TZID=America/New_York:20280423T101500
DTSTAMP:20260422T090517
CREATED:20230127T162550Z
LAST-MODIFIED:20230127T162550Z
UID:10018784-1840094100-1840097700@gslookout.org
SUMMARY:Lectionary Bible Study
DESCRIPTION:
URL:https://gslookout.org/event/lectionary-bible-study/2028-04-23/
LOCATION:Library
CATEGORIES:Formation
END:VEVENT
BEGIN:VEVENT
DTSTART;TZID=America/New_York:20280423T091500
DTEND;TZID=America/New_York:20280423T101500
DTSTAMP:20260422T090517
CREATED:20230127T163036Z
LAST-MODIFIED:20230127T163036Z
UID:10014962-1840094100-1840097700@gslookout.org
SUMMARY:Coffee & Conversations
DESCRIPTION:
URL:https://gslookout.org/event/coffee-conversations/2028-04-23/
LOCATION:Lupton Reading Room
CATEGORIES:Formation
END:VEVENT
BEGIN:VEVENT
DTSTART;TZID=America/New_York:20280423T103000
DTEND;TZID=America/New_York:20280423T233000
DTSTAMP:20260422T090517
CREATED:20230908T210148Z
LAST-MODIFIED:20230908T210149Z
UID:10014666-1840098600-1840145400@gslookout.org
SUMMARY:Youth Breakfast & Sunday School
DESCRIPTION:
URL:https://gslookout.org/event/youth-breakfast-sunday-school-2/2028-04-23/
LOCATION:Youth Building
CATEGORIES:Formation,Youth
END:VEVENT
BEGIN:VEVENT
DTSTART;TZID=America/New_York:20280425T100000
DTEND;TZID=America/New_York:20280425T103000
DTSTAMP:20260422T090517
CREATED:20221103T210703Z
LAST-MODIFIED:20230627T182417Z
UID:10014322-1840269600-1840271400@gslookout.org
SUMMARY:Intercessory Prayer Group
DESCRIPTION:
URL:https://gslookout.org/event/intercessory-prayer-group-2/2028-04-25/
LOCATION:Chapel
CATEGORIES:Formation,Worship
END:VEVENT
BEGIN:VEVENT
DTSTART;TZID=America/New_York:20280425T113000
DTEND;TZID=America/New_York:20280425T120000
DTSTAMP:20260422T090517
CREATED:20221103T210420Z
LAST-MODIFIED:20230627T182618Z
UID:10014390-1840275000-1840276800@gslookout.org
SUMMARY:Centering Prayer
DESCRIPTION:
URL:https://gslookout.org/event/centering-prayer-2/2028-04-25/
LOCATION:Lou Garcia Room
CATEGORIES:Formation
END:VEVENT
BEGIN:VEVENT
DTSTART;TZID=America/New_York:20280426T070000
DTEND;TZID=America/New_York:20280426T200000
DTSTAMP:20260422T090517
CREATED:20230127T161734Z
LAST-MODIFIED:20230127T161734Z
UID:10016201-1840345200-1840392000@gslookout.org
SUMMARY:Men's Bible Study
DESCRIPTION:
URL:https://gslookout.org/event/mens-bible-study/2028-04-26/
LOCATION:Talbird Hall
CATEGORIES:Formation
END:VEVENT
BEGIN:VEVENT
DTSTART;TZID=America/New_York:20280426T183000
DTEND;TZID=America/New_York:20280426T193000
DTSTAMP:20260422T090517
CREATED:20230127T163955Z
LAST-MODIFIED:20230127T165113Z
UID:10015018-1840386600-1840390200@gslookout.org
SUMMARY:Wednesday Night Youth
DESCRIPTION:
URL:https://gslookout.org/event/wednesday-night-youth/2028-04-26/
LOCATION:Youth Building
CATEGORIES:Formation,Youth
END:VEVENT
BEGIN:VEVENT
DTSTART;TZID=America/New_York:20280427T103000
DTEND;TZID=America/New_York:20280427T233000
DTSTAMP:20260422T090517
CREATED:20241122T224001Z
LAST-MODIFIED:20241122T224019Z
UID:10014412-1840444200-1840491000@gslookout.org
SUMMARY:Thursday Bible Study
DESCRIPTION:
URL:https://gslookout.org/event/thursday-bible-study-2/2028-04-27/
LOCATION:Talbird Hall
CATEGORIES:Formation
END:VEVENT
BEGIN:VEVENT
DTSTART;TZID=America/New_York:20280430T091500
DTEND;TZID=America/New_York:20280430T101500
DTSTAMP:20260422T090517
CREATED:20230127T162550Z
LAST-MODIFIED:20230127T162550Z
UID:10018785-1840698900-1840702500@gslookout.org
SUMMARY:Lectionary Bible Study
DESCRIPTION:
URL:https://gslookout.org/event/lectionary-bible-study/2028-04-30/
LOCATION:Library
CATEGORIES:Formation
END:VEVENT
BEGIN:VEVENT
DTSTART;TZID=America/New_York:20280430T091500
DTEND;TZID=America/New_York:20280430T101500
DTSTAMP:20260422T090517
CREATED:20230127T163036Z
LAST-MODIFIED:20230127T163036Z
UID:10014963-1840698900-1840702500@gslookout.org
SUMMARY:Coffee & Conversations
DESCRIPTION:
URL:https://gslookout.org/event/coffee-conversations/2028-04-30/
LOCATION:Lupton Reading Room
CATEGORIES:Formation
END:VEVENT
BEGIN:VEVENT
DTSTART;TZID=America/New_York:20280430T103000
DTEND;TZID=America/New_York:20280430T233000
DTSTAMP:20260422T090517
CREATED:20230908T210148Z
LAST-MODIFIED:20230908T210149Z
UID:10014667-1840703400-1840750200@gslookout.org
SUMMARY:Youth Breakfast & Sunday School
DESCRIPTION:
URL:https://gslookout.org/event/youth-breakfast-sunday-school-2/2028-04-30/
LOCATION:Youth Building
CATEGORIES:Formation,Youth
END:VEVENT
BEGIN:VEVENT
DTSTART;TZID=America/New_York:20280502T100000
DTEND;TZID=America/New_York:20280502T103000
DTSTAMP:20260422T090517
CREATED:20221103T210703Z
LAST-MODIFIED:20230627T182417Z
UID:10014323-1840874400-1840876200@gslookout.org
SUMMARY:Intercessory Prayer Group
DESCRIPTION:
URL:https://gslookout.org/event/intercessory-prayer-group-2/2028-05-02/
LOCATION:Chapel
CATEGORIES:Formation,Worship
END:VEVENT
BEGIN:VEVENT
DTSTART;TZID=America/New_York:20280502T113000
DTEND;TZID=America/New_York:20280502T120000
DTSTAMP:20260422T090517
CREATED:20221103T210420Z
LAST-MODIFIED:20230627T182618Z
UID:10014391-1840879800-1840881600@gslookout.org
SUMMARY:Centering Prayer
DESCRIPTION:
URL:https://gslookout.org/event/centering-prayer-2/2028-05-02/
LOCATION:Lou Garcia Room
CATEGORIES:Formation
END:VEVENT
BEGIN:VEVENT
DTSTART;TZID=America/New_York:20280503T070000
DTEND;TZID=America/New_York:20280503T200000
DTSTAMP:20260422T090517
CREATED:20230127T161734Z
LAST-MODIFIED:20230127T161734Z
UID:10016202-1840950000-1840996800@gslookout.org
SUMMARY:Men's Bible Study
DESCRIPTION:
URL:https://gslookout.org/event/mens-bible-study/2028-05-03/
LOCATION:Talbird Hall
CATEGORIES:Formation
END:VEVENT
BEGIN:VEVENT
DTSTART;TZID=America/New_York:20280503T183000
DTEND;TZID=America/New_York:20280503T193000
DTSTAMP:20260422T090517
CREATED:20230127T163955Z
LAST-MODIFIED:20230127T165113Z
UID:10015019-1840991400-1840995000@gslookout.org
SUMMARY:Wednesday Night Youth
DESCRIPTION:
URL:https://gslookout.org/event/wednesday-night-youth/2028-05-03/
LOCATION:Youth Building
CATEGORIES:Formation,Youth
END:VEVENT
BEGIN:VEVENT
DTSTART;TZID=America/New_York:20280504T103000
DTEND;TZID=America/New_York:20280504T233000
DTSTAMP:20260422T090517
CREATED:20241122T224001Z
LAST-MODIFIED:20241122T224019Z
UID:10014413-1841049000-1841095800@gslookout.org
SUMMARY:Thursday Bible Study
DESCRIPTION:
URL:https://gslookout.org/event/thursday-bible-study-2/2028-05-04/
LOCATION:Talbird Hall
CATEGORIES:Formation
END:VEVENT
BEGIN:VEVENT
DTSTART;TZID=America/New_York:20280507T091500
DTEND;TZID=America/New_York:20280507T101500
DTSTAMP:20260422T090517
CREATED:20230127T162550Z
LAST-MODIFIED:20230127T162550Z
UID:10018786-1841303700-1841307300@gslookout.org
SUMMARY:Lectionary Bible Study
DESCRIPTION:
URL:https://gslookout.org/event/lectionary-bible-study/2028-05-07/
LOCATION:Library
CATEGORIES:Formation
END:VEVENT
BEGIN:VEVENT
DTSTART;TZID=America/New_York:20280507T091500
DTEND;TZID=America/New_York:20280507T101500
DTSTAMP:20260422T090517
CREATED:20230127T163036Z
LAST-MODIFIED:20230127T163036Z
UID:10014964-1841303700-1841307300@gslookout.org
SUMMARY:Coffee & Conversations
DESCRIPTION:
URL:https://gslookout.org/event/coffee-conversations/2028-05-07/
LOCATION:Lupton Reading Room
CATEGORIES:Formation
END:VEVENT
BEGIN:VEVENT
DTSTART;TZID=America/New_York:20280507T103000
DTEND;TZID=America/New_York:20280507T233000
DTSTAMP:20260422T090517
CREATED:20230908T210148Z
LAST-MODIFIED:20230908T210149Z
UID:10014668-1841308200-1841355000@gslookout.org
SUMMARY:Youth Breakfast & Sunday School
DESCRIPTION:
URL:https://gslookout.org/event/youth-breakfast-sunday-school-2/2028-05-07/
LOCATION:Youth Building
CATEGORIES:Formation,Youth
END:VEVENT
BEGIN:VEVENT
DTSTART;TZID=America/New_York:20280509T100000
DTEND;TZID=America/New_York:20280509T103000
DTSTAMP:20260422T090517
CREATED:20221103T210703Z
LAST-MODIFIED:20230627T182417Z
UID:10014324-1841479200-1841481000@gslookout.org
SUMMARY:Intercessory Prayer Group
DESCRIPTION:
URL:https://gslookout.org/event/intercessory-prayer-group-2/2028-05-09/
LOCATION:Chapel
CATEGORIES:Formation,Worship
END:VEVENT
BEGIN:VEVENT
DTSTART;TZID=America/New_York:20280509T113000
DTEND;TZID=America/New_York:20280509T120000
DTSTAMP:20260422T090517
CREATED:20221103T210420Z
LAST-MODIFIED:20230627T182618Z
UID:10014392-1841484600-1841486400@gslookout.org
SUMMARY:Centering Prayer
DESCRIPTION:
URL:https://gslookout.org/event/centering-prayer-2/2028-05-09/
LOCATION:Lou Garcia Room
CATEGORIES:Formation
END:VEVENT
BEGIN:VEVENT
DTSTART;TZID=America/New_York:20280510T070000
DTEND;TZID=America/New_York:20280510T200000
DTSTAMP:20260422T090517
CREATED:20230127T161734Z
LAST-MODIFIED:20230127T161734Z
UID:10016203-1841554800-1841601600@gslookout.org
SUMMARY:Men's Bible Study
DESCRIPTION:
URL:https://gslookout.org/event/mens-bible-study/2028-05-10/
LOCATION:Talbird Hall
CATEGORIES:Formation
END:VEVENT
BEGIN:VEVENT
DTSTART;TZID=America/New_York:20280510T183000
DTEND;TZID=America/New_York:20280510T193000
DTSTAMP:20260422T090517
CREATED:20230127T163955Z
LAST-MODIFIED:20230127T165113Z
UID:10015020-1841596200-1841599800@gslookout.org
SUMMARY:Wednesday Night Youth
DESCRIPTION:
URL:https://gslookout.org/event/wednesday-night-youth/2028-05-10/
LOCATION:Youth Building
CATEGORIES:Formation,Youth
END:VEVENT
END:VCALENDAR