BEGIN:VCALENDAR
VERSION:2.0
PRODID:-//Church of the Good Shepherd - ECPv6.15.20//NONSGML v1.0//EN
CALSCALE:GREGORIAN
METHOD:PUBLISH
X-ORIGINAL-URL:https://gslookout.org
X-WR-CALDESC:Events for Church of the Good Shepherd
REFRESH-INTERVAL;VALUE=DURATION:PT1H
X-Robots-Tag:noindex
X-PUBLISHED-TTL:PT1H
BEGIN:VTIMEZONE
TZID:America/New_York
BEGIN:DAYLIGHT
TZOFFSETFROM:-0500
TZOFFSETTO:-0400
TZNAME:EDT
DTSTART:20270314T070000
END:DAYLIGHT
BEGIN:STANDARD
TZOFFSETFROM:-0400
TZOFFSETTO:-0500
TZNAME:EST
DTSTART:20271107T060000
END:STANDARD
BEGIN:DAYLIGHT
TZOFFSETFROM:-0500
TZOFFSETTO:-0400
TZNAME:EDT
DTSTART:20280312T070000
END:DAYLIGHT
BEGIN:STANDARD
TZOFFSETFROM:-0400
TZOFFSETTO:-0500
TZNAME:EST
DTSTART:20281105T060000
END:STANDARD
BEGIN:DAYLIGHT
TZOFFSETFROM:-0500
TZOFFSETTO:-0400
TZNAME:EDT
DTSTART:20290311T070000
END:DAYLIGHT
BEGIN:STANDARD
TZOFFSETFROM:-0400
TZOFFSETTO:-0500
TZNAME:EST
DTSTART:20291104T060000
END:STANDARD
END:VTIMEZONE
BEGIN:VEVENT
DTSTART;TZID=America/New_York:20281024T113000
DTEND;TZID=America/New_York:20281024T120000
DTSTAMP:20260424T151913
CREATED:20221103T210420Z
LAST-MODIFIED:20230627T182618Z
UID:10015923-1855999800-1856001600@gslookout.org
SUMMARY:Centering Prayer
DESCRIPTION:
URL:https://gslookout.org/event/centering-prayer-2/2028-10-24/
LOCATION:Lou Garcia Room
CATEGORIES:Formation
END:VEVENT
BEGIN:VEVENT
DTSTART;TZID=America/New_York:20281025T070000
DTEND;TZID=America/New_York:20281025T200000
DTSTAMP:20260424T151914
CREATED:20230127T161734Z
LAST-MODIFIED:20230127T161734Z
UID:10016227-1856070000-1856116800@gslookout.org
SUMMARY:Men's Bible Study
DESCRIPTION:
URL:https://gslookout.org/event/mens-bible-study/2028-10-25/
LOCATION:Talbird Hall
CATEGORIES:Formation
END:VEVENT
BEGIN:VEVENT
DTSTART;TZID=America/New_York:20281025T183000
DTEND;TZID=America/New_York:20281025T193000
DTSTAMP:20260424T151914
CREATED:20230127T163955Z
LAST-MODIFIED:20230127T165113Z
UID:10015044-1856111400-1856115000@gslookout.org
SUMMARY:Wednesday Night Youth
DESCRIPTION:
URL:https://gslookout.org/event/wednesday-night-youth/2028-10-25/
LOCATION:Youth Building
CATEGORIES:Formation,Youth
END:VEVENT
BEGIN:VEVENT
DTSTART;TZID=America/New_York:20281026T103000
DTEND;TZID=America/New_York:20281026T233000
DTSTAMP:20260424T151914
CREATED:20241122T224001Z
LAST-MODIFIED:20241122T224019Z
UID:10015217-1856169000-1856215800@gslookout.org
SUMMARY:Thursday Bible Study
DESCRIPTION:
URL:https://gslookout.org/event/thursday-bible-study-2/2028-10-26/
LOCATION:Talbird Hall
CATEGORIES:Formation
END:VEVENT
BEGIN:VEVENT
DTSTART;TZID=America/New_York:20281029T091500
DTEND;TZID=America/New_York:20281029T101500
DTSTAMP:20260424T151914
CREATED:20230127T162550Z
LAST-MODIFIED:20230127T162550Z
UID:10018811-1856423700-1856427300@gslookout.org
SUMMARY:Lectionary Bible Study
DESCRIPTION:
URL:https://gslookout.org/event/lectionary-bible-study/2028-10-29/
LOCATION:Library
CATEGORIES:Formation
END:VEVENT
BEGIN:VEVENT
DTSTART;TZID=America/New_York:20281029T091500
DTEND;TZID=America/New_York:20281029T101500
DTSTAMP:20260424T151914
CREATED:20230127T163036Z
LAST-MODIFIED:20230127T163036Z
UID:10014989-1856423700-1856427300@gslookout.org
SUMMARY:Coffee & Conversations
DESCRIPTION:
URL:https://gslookout.org/event/coffee-conversations/2028-10-29/
LOCATION:Lupton Reading Room
CATEGORIES:Formation
END:VEVENT
BEGIN:VEVENT
DTSTART;TZID=America/New_York:20281029T103000
DTEND;TZID=America/New_York:20281029T233000
DTSTAMP:20260424T151914
CREATED:20230908T210148Z
LAST-MODIFIED:20230908T210149Z
UID:10015001-1856428200-1856475000@gslookout.org
SUMMARY:Youth Breakfast & Sunday School
DESCRIPTION:
URL:https://gslookout.org/event/youth-breakfast-sunday-school-2/2028-10-29/
LOCATION:Youth Building
CATEGORIES:Formation,Youth
END:VEVENT
BEGIN:VEVENT
DTSTART;TZID=America/New_York:20281031T100000
DTEND;TZID=America/New_York:20281031T103000
DTSTAMP:20260424T151914
CREATED:20221103T210703Z
LAST-MODIFIED:20230627T182417Z
UID:10015744-1856599200-1856601000@gslookout.org
SUMMARY:Intercessory Prayer Group
DESCRIPTION:
URL:https://gslookout.org/event/intercessory-prayer-group-2/2028-10-31/
LOCATION:Chapel
CATEGORIES:Formation,Worship
END:VEVENT
BEGIN:VEVENT
DTSTART;TZID=America/New_York:20281031T113000
DTEND;TZID=America/New_York:20281031T120000
DTSTAMP:20260424T151914
CREATED:20221103T210420Z
LAST-MODIFIED:20230627T182618Z
UID:10015924-1856604600-1856606400@gslookout.org
SUMMARY:Centering Prayer
DESCRIPTION:
URL:https://gslookout.org/event/centering-prayer-2/2028-10-31/
LOCATION:Lou Garcia Room
CATEGORIES:Formation
END:VEVENT
BEGIN:VEVENT
DTSTART;TZID=America/New_York:20281101T070000
DTEND;TZID=America/New_York:20281101T200000
DTSTAMP:20260424T151914
CREATED:20230127T161734Z
LAST-MODIFIED:20230127T161734Z
UID:10016228-1856674800-1856721600@gslookout.org
SUMMARY:Men's Bible Study
DESCRIPTION:
URL:https://gslookout.org/event/mens-bible-study/2028-11-01/
LOCATION:Talbird Hall
CATEGORIES:Formation
END:VEVENT
BEGIN:VEVENT
DTSTART;TZID=America/New_York:20281101T183000
DTEND;TZID=America/New_York:20281101T193000
DTSTAMP:20260424T151914
CREATED:20230127T163955Z
LAST-MODIFIED:20230127T165113Z
UID:10015045-1856716200-1856719800@gslookout.org
SUMMARY:Wednesday Night Youth
DESCRIPTION:
URL:https://gslookout.org/event/wednesday-night-youth/2028-11-01/
LOCATION:Youth Building
CATEGORIES:Formation,Youth
END:VEVENT
BEGIN:VEVENT
DTSTART;TZID=America/New_York:20281102T103000
DTEND;TZID=America/New_York:20281102T233000
DTSTAMP:20260424T151914
CREATED:20241122T224001Z
LAST-MODIFIED:20241122T224019Z
UID:10015218-1856773800-1856820600@gslookout.org
SUMMARY:Thursday Bible Study
DESCRIPTION:
URL:https://gslookout.org/event/thursday-bible-study-2/2028-11-02/
LOCATION:Talbird Hall
CATEGORIES:Formation
END:VEVENT
BEGIN:VEVENT
DTSTART;TZID=America/New_York:20281105T091500
DTEND;TZID=America/New_York:20281105T101500
DTSTAMP:20260424T151914
CREATED:20230127T162550Z
LAST-MODIFIED:20230127T162550Z
UID:10018812-1857028500-1857032100@gslookout.org
SUMMARY:Lectionary Bible Study
DESCRIPTION:
URL:https://gslookout.org/event/lectionary-bible-study/2028-11-05/
LOCATION:Library
CATEGORIES:Formation
END:VEVENT
BEGIN:VEVENT
DTSTART;TZID=America/New_York:20281105T091500
DTEND;TZID=America/New_York:20281105T101500
DTSTAMP:20260424T151914
CREATED:20230127T163036Z
LAST-MODIFIED:20230127T163036Z
UID:10014990-1857028500-1857032100@gslookout.org
SUMMARY:Coffee & Conversations
DESCRIPTION:
URL:https://gslookout.org/event/coffee-conversations/2028-11-05/
LOCATION:Lupton Reading Room
CATEGORIES:Formation
END:VEVENT
BEGIN:VEVENT
DTSTART;TZID=America/New_York:20281105T103000
DTEND;TZID=America/New_York:20281105T233000
DTSTAMP:20260424T151914
CREATED:20230908T210148Z
LAST-MODIFIED:20230908T210149Z
UID:10015002-1857033000-1857079800@gslookout.org
SUMMARY:Youth Breakfast & Sunday School
DESCRIPTION:
URL:https://gslookout.org/event/youth-breakfast-sunday-school-2/2028-11-05/
LOCATION:Youth Building
CATEGORIES:Formation,Youth
END:VEVENT
BEGIN:VEVENT
DTSTART;TZID=America/New_York:20281107T100000
DTEND;TZID=America/New_York:20281107T103000
DTSTAMP:20260424T151914
CREATED:20221103T210703Z
LAST-MODIFIED:20230627T182417Z
UID:10015745-1857204000-1857205800@gslookout.org
SUMMARY:Intercessory Prayer Group
DESCRIPTION:
URL:https://gslookout.org/event/intercessory-prayer-group-2/2028-11-07/
LOCATION:Chapel
CATEGORIES:Formation,Worship
END:VEVENT
BEGIN:VEVENT
DTSTART;TZID=America/New_York:20281107T113000
DTEND;TZID=America/New_York:20281107T120000
DTSTAMP:20260424T151914
CREATED:20221103T210420Z
LAST-MODIFIED:20230627T182618Z
UID:10015925-1857209400-1857211200@gslookout.org
SUMMARY:Centering Prayer
DESCRIPTION:
URL:https://gslookout.org/event/centering-prayer-2/2028-11-07/
LOCATION:Lou Garcia Room
CATEGORIES:Formation
END:VEVENT
BEGIN:VEVENT
DTSTART;TZID=America/New_York:20281108T070000
DTEND;TZID=America/New_York:20281108T200000
DTSTAMP:20260424T151914
CREATED:20230127T161734Z
LAST-MODIFIED:20230127T161734Z
UID:10016229-1857279600-1857326400@gslookout.org
SUMMARY:Men's Bible Study
DESCRIPTION:
URL:https://gslookout.org/event/mens-bible-study/2028-11-08/
LOCATION:Talbird Hall
CATEGORIES:Formation
END:VEVENT
BEGIN:VEVENT
DTSTART;TZID=America/New_York:20281108T183000
DTEND;TZID=America/New_York:20281108T193000
DTSTAMP:20260424T151914
CREATED:20230127T163955Z
LAST-MODIFIED:20230127T165113Z
UID:10015046-1857321000-1857324600@gslookout.org
SUMMARY:Wednesday Night Youth
DESCRIPTION:
URL:https://gslookout.org/event/wednesday-night-youth/2028-11-08/
LOCATION:Youth Building
CATEGORIES:Formation,Youth
END:VEVENT
BEGIN:VEVENT
DTSTART;TZID=America/New_York:20281109T103000
DTEND;TZID=America/New_York:20281109T233000
DTSTAMP:20260424T151914
CREATED:20241122T224001Z
LAST-MODIFIED:20241122T224019Z
UID:10015219-1857378600-1857425400@gslookout.org
SUMMARY:Thursday Bible Study
DESCRIPTION:
URL:https://gslookout.org/event/thursday-bible-study-2/2028-11-09/
LOCATION:Talbird Hall
CATEGORIES:Formation
END:VEVENT
BEGIN:VEVENT
DTSTART;TZID=America/New_York:20281112T091500
DTEND;TZID=America/New_York:20281112T101500
DTSTAMP:20260424T151914
CREATED:20230127T162550Z
LAST-MODIFIED:20230127T162550Z
UID:10018813-1857633300-1857636900@gslookout.org
SUMMARY:Lectionary Bible Study
DESCRIPTION:
URL:https://gslookout.org/event/lectionary-bible-study/2028-11-12/
LOCATION:Library
CATEGORIES:Formation
END:VEVENT
BEGIN:VEVENT
DTSTART;TZID=America/New_York:20281112T091500
DTEND;TZID=America/New_York:20281112T101500
DTSTAMP:20260424T151914
CREATED:20230127T163036Z
LAST-MODIFIED:20230127T163036Z
UID:10014991-1857633300-1857636900@gslookout.org
SUMMARY:Coffee & Conversations
DESCRIPTION:
URL:https://gslookout.org/event/coffee-conversations/2028-11-12/
LOCATION:Lupton Reading Room
CATEGORIES:Formation
END:VEVENT
BEGIN:VEVENT
DTSTART;TZID=America/New_York:20281112T103000
DTEND;TZID=America/New_York:20281112T233000
DTSTAMP:20260424T151914
CREATED:20230908T210148Z
LAST-MODIFIED:20230908T210149Z
UID:10015003-1857637800-1857684600@gslookout.org
SUMMARY:Youth Breakfast & Sunday School
DESCRIPTION:
URL:https://gslookout.org/event/youth-breakfast-sunday-school-2/2028-11-12/
LOCATION:Youth Building
CATEGORIES:Formation,Youth
END:VEVENT
BEGIN:VEVENT
DTSTART;TZID=America/New_York:20281114T100000
DTEND;TZID=America/New_York:20281114T103000
DTSTAMP:20260424T151914
CREATED:20221103T210703Z
LAST-MODIFIED:20230627T182417Z
UID:10015746-1857808800-1857810600@gslookout.org
SUMMARY:Intercessory Prayer Group
DESCRIPTION:
URL:https://gslookout.org/event/intercessory-prayer-group-2/2028-11-14/
LOCATION:Chapel
CATEGORIES:Formation,Worship
END:VEVENT
BEGIN:VEVENT
DTSTART;TZID=America/New_York:20281114T113000
DTEND;TZID=America/New_York:20281114T120000
DTSTAMP:20260424T151914
CREATED:20221103T210420Z
LAST-MODIFIED:20230627T182618Z
UID:10015926-1857814200-1857816000@gslookout.org
SUMMARY:Centering Prayer
DESCRIPTION:
URL:https://gslookout.org/event/centering-prayer-2/2028-11-14/
LOCATION:Lou Garcia Room
CATEGORIES:Formation
END:VEVENT
BEGIN:VEVENT
DTSTART;TZID=America/New_York:20281115T070000
DTEND;TZID=America/New_York:20281115T200000
DTSTAMP:20260424T151914
CREATED:20230127T161734Z
LAST-MODIFIED:20230127T161734Z
UID:10016230-1857884400-1857931200@gslookout.org
SUMMARY:Men's Bible Study
DESCRIPTION:
URL:https://gslookout.org/event/mens-bible-study/2028-11-15/
LOCATION:Talbird Hall
CATEGORIES:Formation
END:VEVENT
BEGIN:VEVENT
DTSTART;TZID=America/New_York:20281115T183000
DTEND;TZID=America/New_York:20281115T193000
DTSTAMP:20260424T151914
CREATED:20230127T163955Z
LAST-MODIFIED:20230127T165113Z
UID:10015047-1857925800-1857929400@gslookout.org
SUMMARY:Wednesday Night Youth
DESCRIPTION:
URL:https://gslookout.org/event/wednesday-night-youth/2028-11-15/
LOCATION:Youth Building
CATEGORIES:Formation,Youth
END:VEVENT
BEGIN:VEVENT
DTSTART;TZID=America/New_York:20281116T103000
DTEND;TZID=America/New_York:20281116T233000
DTSTAMP:20260424T151914
CREATED:20241122T224001Z
LAST-MODIFIED:20241122T224019Z
UID:10015220-1857983400-1858030200@gslookout.org
SUMMARY:Thursday Bible Study
DESCRIPTION:
URL:https://gslookout.org/event/thursday-bible-study-2/2028-11-16/
LOCATION:Talbird Hall
CATEGORIES:Formation
END:VEVENT
BEGIN:VEVENT
DTSTART;TZID=America/New_York:20281119T091500
DTEND;TZID=America/New_York:20281119T101500
DTSTAMP:20260424T151914
CREATED:20230127T162550Z
LAST-MODIFIED:20230127T162550Z
UID:10018814-1858238100-1858241700@gslookout.org
SUMMARY:Lectionary Bible Study
DESCRIPTION:
URL:https://gslookout.org/event/lectionary-bible-study/2028-11-19/
LOCATION:Library
CATEGORIES:Formation
END:VEVENT
BEGIN:VEVENT
DTSTART;TZID=America/New_York:20281119T091500
DTEND;TZID=America/New_York:20281119T101500
DTSTAMP:20260424T151914
CREATED:20230127T163036Z
LAST-MODIFIED:20230127T163036Z
UID:10014992-1858238100-1858241700@gslookout.org
SUMMARY:Coffee & Conversations
DESCRIPTION:
URL:https://gslookout.org/event/coffee-conversations/2028-11-19/
LOCATION:Lupton Reading Room
CATEGORIES:Formation
END:VEVENT
END:VCALENDAR