BEGIN:VCALENDAR
VERSION:2.0
PRODID:-//Church of the Good Shepherd - ECPv6.15.20//NONSGML v1.0//EN
CALSCALE:GREGORIAN
METHOD:PUBLISH
X-WR-CALNAME:Church of the Good Shepherd
X-ORIGINAL-URL:https://gslookout.org
X-WR-CALDESC:Events for Church of the Good Shepherd
REFRESH-INTERVAL;VALUE=DURATION:PT1H
X-Robots-Tag:noindex
X-PUBLISHED-TTL:PT1H
BEGIN:VTIMEZONE
TZID:America/New_York
BEGIN:DAYLIGHT
TZOFFSETFROM:-0500
TZOFFSETTO:-0400
TZNAME:EDT
DTSTART:20290311T070000
END:DAYLIGHT
BEGIN:STANDARD
TZOFFSETFROM:-0400
TZOFFSETTO:-0500
TZNAME:EST
DTSTART:20291104T060000
END:STANDARD
BEGIN:DAYLIGHT
TZOFFSETFROM:-0500
TZOFFSETTO:-0400
TZNAME:EDT
DTSTART:20300310T070000
END:DAYLIGHT
BEGIN:STANDARD
TZOFFSETFROM:-0400
TZOFFSETTO:-0500
TZNAME:EST
DTSTART:20301103T060000
END:STANDARD
BEGIN:DAYLIGHT
TZOFFSETFROM:-0500
TZOFFSETTO:-0400
TZNAME:EDT
DTSTART:20310309T070000
END:DAYLIGHT
BEGIN:STANDARD
TZOFFSETFROM:-0400
TZOFFSETTO:-0500
TZNAME:EST
DTSTART:20311102T060000
END:STANDARD
END:VTIMEZONE
BEGIN:VEVENT
DTSTART;TZID=America/New_York:20300206T184500
DTEND;TZID=America/New_York:20300206T200000
DTSTAMP:20260419T215011
CREATED:20230127T163523Z
LAST-MODIFIED:20230127T163523Z
UID:10016362-1896633900-1896638400@gslookout.org
SUMMARY:Adult Choir Rehearsal
DESCRIPTION:
URL:https://gslookout.org/event/adult-choir-rehearsal/2030-02-06/
LOCATION:Choir Room
CATEGORIES:Music
END:VEVENT
BEGIN:VEVENT
DTSTART;TZID=America/New_York:20300213T184500
DTEND;TZID=America/New_York:20300213T200000
DTSTAMP:20260419T215011
CREATED:20230127T163523Z
LAST-MODIFIED:20230127T163523Z
UID:10016363-1897238700-1897243200@gslookout.org
SUMMARY:Adult Choir Rehearsal
DESCRIPTION:
URL:https://gslookout.org/event/adult-choir-rehearsal/2030-02-13/
LOCATION:Choir Room
CATEGORIES:Music
END:VEVENT
BEGIN:VEVENT
DTSTART;TZID=America/New_York:20300220T184500
DTEND;TZID=America/New_York:20300220T200000
DTSTAMP:20260419T215011
CREATED:20230127T163523Z
LAST-MODIFIED:20230127T163523Z
UID:10016364-1897843500-1897848000@gslookout.org
SUMMARY:Adult Choir Rehearsal
DESCRIPTION:
URL:https://gslookout.org/event/adult-choir-rehearsal/2030-02-20/
LOCATION:Choir Room
CATEGORIES:Music
END:VEVENT
BEGIN:VEVENT
DTSTART;TZID=America/New_York:20300227T184500
DTEND;TZID=America/New_York:20300227T200000
DTSTAMP:20260419T215011
CREATED:20230127T163523Z
LAST-MODIFIED:20230127T163523Z
UID:10016365-1898448300-1898452800@gslookout.org
SUMMARY:Adult Choir Rehearsal
DESCRIPTION:
URL:https://gslookout.org/event/adult-choir-rehearsal/2030-02-27/
LOCATION:Choir Room
CATEGORIES:Music
END:VEVENT
END:VCALENDAR