BEGIN:VCALENDAR
VERSION:2.0
PRODID:-//Church of the Good Shepherd - ECPv6.15.20//NONSGML v1.0//EN
CALSCALE:GREGORIAN
METHOD:PUBLISH
X-WR-CALNAME:Church of the Good Shepherd
X-ORIGINAL-URL:https://gslookout.org
X-WR-CALDESC:Events for Church of the Good Shepherd
REFRESH-INTERVAL;VALUE=DURATION:PT1H
X-Robots-Tag:noindex
X-PUBLISHED-TTL:PT1H
BEGIN:VTIMEZONE
TZID:America/New_York
BEGIN:DAYLIGHT
TZOFFSETFROM:-0500
TZOFFSETTO:-0400
TZNAME:EDT
DTSTART:20290311T070000
END:DAYLIGHT
BEGIN:STANDARD
TZOFFSETFROM:-0400
TZOFFSETTO:-0500
TZNAME:EST
DTSTART:20291104T060000
END:STANDARD
BEGIN:DAYLIGHT
TZOFFSETFROM:-0500
TZOFFSETTO:-0400
TZNAME:EDT
DTSTART:20300310T070000
END:DAYLIGHT
BEGIN:STANDARD
TZOFFSETFROM:-0400
TZOFFSETTO:-0500
TZNAME:EST
DTSTART:20301103T060000
END:STANDARD
BEGIN:DAYLIGHT
TZOFFSETFROM:-0500
TZOFFSETTO:-0400
TZNAME:EDT
DTSTART:20310309T070000
END:DAYLIGHT
BEGIN:STANDARD
TZOFFSETFROM:-0400
TZOFFSETTO:-0500
TZNAME:EST
DTSTART:20311102T060000
END:STANDARD
END:VTIMEZONE
BEGIN:VEVENT
DTSTART;TZID=America/New_York:20300117T083000
DTEND;TZID=America/New_York:20300117T090000
DTSTAMP:20260419T152856
CREATED:20230519T155339Z
LAST-MODIFIED:20230519T155340Z
UID:10018673-1894869000-1894870800@gslookout.org
SUMMARY:Morning Prayer
DESCRIPTION:With Kathleen Crevasse on Facebook
URL:https://gslookout.org/event/morning-prayer-2-2/2030-01-17/
LOCATION:Facebook
CATEGORIES:Worship
END:VEVENT
BEGIN:VEVENT
DTSTART;TZID=America/New_York:20300118T083000
DTEND;TZID=America/New_York:20300118T090000
DTSTAMP:20260419T152856
CREATED:20230519T155339Z
LAST-MODIFIED:20230519T155340Z
UID:10018674-1894955400-1894957200@gslookout.org
SUMMARY:Morning Prayer
DESCRIPTION:With Kathleen Crevasse on Facebook
URL:https://gslookout.org/event/morning-prayer-2-2/2030-01-18/
LOCATION:Facebook
CATEGORIES:Worship
END:VEVENT
BEGIN:VEVENT
DTSTART;TZID=America/New_York:20300120T080000
DTEND;TZID=America/New_York:20300120T090000
DTSTAMP:20260419T152856
CREATED:20221103T212229Z
LAST-MODIFIED:20221103T212229Z
UID:10015718-1895126400-1895130000@gslookout.org
SUMMARY:Holy Eucharist\, Rite I
DESCRIPTION:Rite I\, spoken service at 8:00 am
URL:https://gslookout.org/event/holy-eucharist-rite-i/2030-01-20/
LOCATION:Church
CATEGORIES:Worship
END:VEVENT
BEGIN:VEVENT
DTSTART;TZID=America/New_York:20300120T103000
DTEND;TZID=America/New_York:20300120T120000
DTSTAMP:20260419T152856
CREATED:20221103T211341Z
LAST-MODIFIED:20221103T211341Z
UID:10016737-1895135400-1895140800@gslookout.org
SUMMARY:Holy Eucharist\, Rite II
DESCRIPTION:Rite II with hymns and choir at 10:30 am
URL:https://gslookout.org/event/holy-eucharist-rite-ii-4/2030-01-20/
LOCATION:Church
CATEGORIES:Worship
END:VEVENT
BEGIN:VEVENT
DTSTART;TZID=America/New_York:20300120T170500
DTEND;TZID=America/New_York:20300120T180500
DTSTAMP:20260419T152856
CREATED:20221103T212050Z
LAST-MODIFIED:20230608T164040Z
UID:10016768-1895159100-1895162700@gslookout.org
SUMMARY:Holy Eucharist\, Rite II
DESCRIPTION:Holy Eucharist Rite II with guitar and hymns
URL:https://gslookout.org/event/holy-eucharist-rite-ii-6/2030-01-20/
LOCATION:Chapel
CATEGORIES:Worship
END:VEVENT
BEGIN:VEVENT
DTSTART;TZID=America/New_York:20300121T083000
DTEND;TZID=America/New_York:20300121T090000
DTSTAMP:20260419T152856
CREATED:20230519T155339Z
LAST-MODIFIED:20230519T155340Z
UID:10018675-1895214600-1895216400@gslookout.org
SUMMARY:Morning Prayer
DESCRIPTION:With Kathleen Crevasse on Facebook
URL:https://gslookout.org/event/morning-prayer-2-2/2030-01-21/
LOCATION:Facebook
CATEGORIES:Worship
END:VEVENT
BEGIN:VEVENT
DTSTART;TZID=America/New_York:20300122T083000
DTEND;TZID=America/New_York:20300122T090000
DTSTAMP:20260419T152856
CREATED:20230519T155339Z
LAST-MODIFIED:20230519T155340Z
UID:10018676-1895301000-1895302800@gslookout.org
SUMMARY:Morning Prayer
DESCRIPTION:With Kathleen Crevasse on Facebook
URL:https://gslookout.org/event/morning-prayer-2-2/2030-01-22/
LOCATION:Facebook
CATEGORIES:Worship
END:VEVENT
BEGIN:VEVENT
DTSTART;TZID=America/New_York:20300122T100000
DTEND;TZID=America/New_York:20300122T103000
DTSTAMP:20260419T152856
CREATED:20221103T210703Z
LAST-MODIFIED:20230627T182417Z
UID:10015808-1895306400-1895308200@gslookout.org
SUMMARY:Intercessory Prayer Group
DESCRIPTION:
URL:https://gslookout.org/event/intercessory-prayer-group-2/2030-01-22/
LOCATION:Chapel
CATEGORIES:Formation,Worship
END:VEVENT
BEGIN:VEVENT
DTSTART;TZID=America/New_York:20300122T103000
DTEND;TZID=America/New_York:20300122T110000
DTSTAMP:20260419T152856
CREATED:20221103T210552Z
LAST-MODIFIED:20230627T182525Z
UID:10017637-1895308200-1895310000@gslookout.org
SUMMARY:Healing Service
DESCRIPTION:
URL:https://gslookout.org/event/healing-service-2/2030-01-22/
LOCATION:Chapel
CATEGORIES:Worship
END:VEVENT
BEGIN:VEVENT
DTSTART;TZID=America/New_York:20300123T083000
DTEND;TZID=America/New_York:20300123T090000
DTSTAMP:20260419T152856
CREATED:20230519T155339Z
LAST-MODIFIED:20230519T155340Z
UID:10018677-1895387400-1895389200@gslookout.org
SUMMARY:Morning Prayer
DESCRIPTION:With Kathleen Crevasse on Facebook
URL:https://gslookout.org/event/morning-prayer-2-2/2030-01-23/
LOCATION:Facebook
CATEGORIES:Worship
END:VEVENT
BEGIN:VEVENT
DTSTART;TZID=America/New_York:20300124T083000
DTEND;TZID=America/New_York:20300124T090000
DTSTAMP:20260419T152856
CREATED:20230519T155339Z
LAST-MODIFIED:20230519T155340Z
UID:10018678-1895473800-1895475600@gslookout.org
SUMMARY:Morning Prayer
DESCRIPTION:With Kathleen Crevasse on Facebook
URL:https://gslookout.org/event/morning-prayer-2-2/2030-01-24/
LOCATION:Facebook
CATEGORIES:Worship
END:VEVENT
BEGIN:VEVENT
DTSTART;TZID=America/New_York:20300125T083000
DTEND;TZID=America/New_York:20300125T090000
DTSTAMP:20260419T152856
CREATED:20230519T155339Z
LAST-MODIFIED:20230519T155340Z
UID:10018679-1895560200-1895562000@gslookout.org
SUMMARY:Morning Prayer
DESCRIPTION:With Kathleen Crevasse on Facebook
URL:https://gslookout.org/event/morning-prayer-2-2/2030-01-25/
LOCATION:Facebook
CATEGORIES:Worship
END:VEVENT
BEGIN:VEVENT
DTSTART;TZID=America/New_York:20300127T080000
DTEND;TZID=America/New_York:20300127T090000
DTSTAMP:20260419T152856
CREATED:20221103T212229Z
LAST-MODIFIED:20221103T212229Z
UID:10015719-1895731200-1895734800@gslookout.org
SUMMARY:Holy Eucharist\, Rite I
DESCRIPTION:Rite I\, spoken service at 8:00 am
URL:https://gslookout.org/event/holy-eucharist-rite-i/2030-01-27/
LOCATION:Church
CATEGORIES:Worship
END:VEVENT
BEGIN:VEVENT
DTSTART;TZID=America/New_York:20300127T103000
DTEND;TZID=America/New_York:20300127T120000
DTSTAMP:20260419T152856
CREATED:20221103T211341Z
LAST-MODIFIED:20221103T211341Z
UID:10016738-1895740200-1895745600@gslookout.org
SUMMARY:Holy Eucharist\, Rite II
DESCRIPTION:Rite II with hymns and choir at 10:30 am
URL:https://gslookout.org/event/holy-eucharist-rite-ii-4/2030-01-27/
LOCATION:Church
CATEGORIES:Worship
END:VEVENT
BEGIN:VEVENT
DTSTART;TZID=America/New_York:20300127T170500
DTEND;TZID=America/New_York:20300127T180500
DTSTAMP:20260419T152856
CREATED:20221103T212050Z
LAST-MODIFIED:20230608T164040Z
UID:10016769-1895763900-1895767500@gslookout.org
SUMMARY:Holy Eucharist\, Rite II
DESCRIPTION:Holy Eucharist Rite II with guitar and hymns
URL:https://gslookout.org/event/holy-eucharist-rite-ii-6/2030-01-27/
LOCATION:Chapel
CATEGORIES:Worship
END:VEVENT
BEGIN:VEVENT
DTSTART;TZID=America/New_York:20300128T083000
DTEND;TZID=America/New_York:20300128T090000
DTSTAMP:20260419T152856
CREATED:20230519T155339Z
LAST-MODIFIED:20230519T155340Z
UID:10018680-1895819400-1895821200@gslookout.org
SUMMARY:Morning Prayer
DESCRIPTION:With Kathleen Crevasse on Facebook
URL:https://gslookout.org/event/morning-prayer-2-2/2030-01-28/
LOCATION:Facebook
CATEGORIES:Worship
END:VEVENT
BEGIN:VEVENT
DTSTART;TZID=America/New_York:20300129T083000
DTEND;TZID=America/New_York:20300129T090000
DTSTAMP:20260419T152856
CREATED:20230519T155339Z
LAST-MODIFIED:20230519T155340Z
UID:10018681-1895905800-1895907600@gslookout.org
SUMMARY:Morning Prayer
DESCRIPTION:With Kathleen Crevasse on Facebook
URL:https://gslookout.org/event/morning-prayer-2-2/2030-01-29/
LOCATION:Facebook
CATEGORIES:Worship
END:VEVENT
BEGIN:VEVENT
DTSTART;TZID=America/New_York:20300129T100000
DTEND;TZID=America/New_York:20300129T103000
DTSTAMP:20260419T152856
CREATED:20221103T210703Z
LAST-MODIFIED:20230627T182417Z
UID:10015809-1895911200-1895913000@gslookout.org
SUMMARY:Intercessory Prayer Group
DESCRIPTION:
URL:https://gslookout.org/event/intercessory-prayer-group-2/2030-01-29/
LOCATION:Chapel
CATEGORIES:Formation,Worship
END:VEVENT
BEGIN:VEVENT
DTSTART;TZID=America/New_York:20300129T103000
DTEND;TZID=America/New_York:20300129T110000
DTSTAMP:20260419T152856
CREATED:20221103T210552Z
LAST-MODIFIED:20230627T182525Z
UID:10017638-1895913000-1895914800@gslookout.org
SUMMARY:Healing Service
DESCRIPTION:
URL:https://gslookout.org/event/healing-service-2/2030-01-29/
LOCATION:Chapel
CATEGORIES:Worship
END:VEVENT
BEGIN:VEVENT
DTSTART;TZID=America/New_York:20300130T083000
DTEND;TZID=America/New_York:20300130T090000
DTSTAMP:20260419T152856
CREATED:20230519T155339Z
LAST-MODIFIED:20230519T155340Z
UID:10018682-1895992200-1895994000@gslookout.org
SUMMARY:Morning Prayer
DESCRIPTION:With Kathleen Crevasse on Facebook
URL:https://gslookout.org/event/morning-prayer-2-2/2030-01-30/
LOCATION:Facebook
CATEGORIES:Worship
END:VEVENT
BEGIN:VEVENT
DTSTART;TZID=America/New_York:20300131T083000
DTEND;TZID=America/New_York:20300131T090000
DTSTAMP:20260419T152856
CREATED:20230519T155339Z
LAST-MODIFIED:20230519T155340Z
UID:10018683-1896078600-1896080400@gslookout.org
SUMMARY:Morning Prayer
DESCRIPTION:With Kathleen Crevasse on Facebook
URL:https://gslookout.org/event/morning-prayer-2-2/2030-01-31/
LOCATION:Facebook
CATEGORIES:Worship
END:VEVENT
BEGIN:VEVENT
DTSTART;TZID=America/New_York:20300201T083000
DTEND;TZID=America/New_York:20300201T090000
DTSTAMP:20260419T152856
CREATED:20230519T155339Z
LAST-MODIFIED:20230519T155340Z
UID:10018684-1896165000-1896166800@gslookout.org
SUMMARY:Morning Prayer
DESCRIPTION:With Kathleen Crevasse on Facebook
URL:https://gslookout.org/event/morning-prayer-2-2/2030-02-01/
LOCATION:Facebook
CATEGORIES:Worship
END:VEVENT
BEGIN:VEVENT
DTSTART;TZID=America/New_York:20300203T080000
DTEND;TZID=America/New_York:20300203T090000
DTSTAMP:20260419T152856
CREATED:20221103T212229Z
LAST-MODIFIED:20221103T212229Z
UID:10015720-1896336000-1896339600@gslookout.org
SUMMARY:Holy Eucharist\, Rite I
DESCRIPTION:Rite I\, spoken service at 8:00 am
URL:https://gslookout.org/event/holy-eucharist-rite-i/2030-02-03/
LOCATION:Church
CATEGORIES:Worship
END:VEVENT
BEGIN:VEVENT
DTSTART;TZID=America/New_York:20300203T103000
DTEND;TZID=America/New_York:20300203T120000
DTSTAMP:20260419T152856
CREATED:20221103T211341Z
LAST-MODIFIED:20221103T211341Z
UID:10016739-1896345000-1896350400@gslookout.org
SUMMARY:Holy Eucharist\, Rite II
DESCRIPTION:Rite II with hymns and choir at 10:30 am
URL:https://gslookout.org/event/holy-eucharist-rite-ii-4/2030-02-03/
LOCATION:Church
CATEGORIES:Worship
END:VEVENT
BEGIN:VEVENT
DTSTART;TZID=America/New_York:20300203T170500
DTEND;TZID=America/New_York:20300203T180500
DTSTAMP:20260419T152856
CREATED:20221103T212050Z
LAST-MODIFIED:20230608T164040Z
UID:10016770-1896368700-1896372300@gslookout.org
SUMMARY:Holy Eucharist\, Rite II
DESCRIPTION:Holy Eucharist Rite II with guitar and hymns
URL:https://gslookout.org/event/holy-eucharist-rite-ii-6/2030-02-03/
LOCATION:Chapel
CATEGORIES:Worship
END:VEVENT
BEGIN:VEVENT
DTSTART;TZID=America/New_York:20300204T083000
DTEND;TZID=America/New_York:20300204T090000
DTSTAMP:20260419T152856
CREATED:20230519T155339Z
LAST-MODIFIED:20230519T155340Z
UID:10018685-1896424200-1896426000@gslookout.org
SUMMARY:Morning Prayer
DESCRIPTION:With Kathleen Crevasse on Facebook
URL:https://gslookout.org/event/morning-prayer-2-2/2030-02-04/
LOCATION:Facebook
CATEGORIES:Worship
END:VEVENT
BEGIN:VEVENT
DTSTART;TZID=America/New_York:20300205T083000
DTEND;TZID=America/New_York:20300205T090000
DTSTAMP:20260419T152856
CREATED:20230519T155339Z
LAST-MODIFIED:20230519T155340Z
UID:10018686-1896510600-1896512400@gslookout.org
SUMMARY:Morning Prayer
DESCRIPTION:With Kathleen Crevasse on Facebook
URL:https://gslookout.org/event/morning-prayer-2-2/2030-02-05/
LOCATION:Facebook
CATEGORIES:Worship
END:VEVENT
BEGIN:VEVENT
DTSTART;TZID=America/New_York:20300205T100000
DTEND;TZID=America/New_York:20300205T103000
DTSTAMP:20260419T152856
CREATED:20221103T210703Z
LAST-MODIFIED:20230627T182417Z
UID:10015810-1896516000-1896517800@gslookout.org
SUMMARY:Intercessory Prayer Group
DESCRIPTION:
URL:https://gslookout.org/event/intercessory-prayer-group-2/2030-02-05/
LOCATION:Chapel
CATEGORIES:Formation,Worship
END:VEVENT
BEGIN:VEVENT
DTSTART;TZID=America/New_York:20300205T103000
DTEND;TZID=America/New_York:20300205T110000
DTSTAMP:20260419T152856
CREATED:20221103T210552Z
LAST-MODIFIED:20230627T182525Z
UID:10017639-1896517800-1896519600@gslookout.org
SUMMARY:Healing Service
DESCRIPTION:
URL:https://gslookout.org/event/healing-service-2/2030-02-05/
LOCATION:Chapel
CATEGORIES:Worship
END:VEVENT
BEGIN:VEVENT
DTSTART;TZID=America/New_York:20300206T083000
DTEND;TZID=America/New_York:20300206T090000
DTSTAMP:20260419T152856
CREATED:20230519T155339Z
LAST-MODIFIED:20230519T155340Z
UID:10018687-1896597000-1896598800@gslookout.org
SUMMARY:Morning Prayer
DESCRIPTION:With Kathleen Crevasse on Facebook
URL:https://gslookout.org/event/morning-prayer-2-2/2030-02-06/
LOCATION:Facebook
CATEGORIES:Worship
END:VEVENT
END:VCALENDAR