BEGIN:VCALENDAR
VERSION:2.0
PRODID:-//Church of the Good Shepherd - ECPv6.15.20//NONSGML v1.0//EN
CALSCALE:GREGORIAN
METHOD:PUBLISH
X-ORIGINAL-URL:https://gslookout.org
X-WR-CALDESC:Events for Church of the Good Shepherd
REFRESH-INTERVAL;VALUE=DURATION:PT1H
X-Robots-Tag:noindex
X-PUBLISHED-TTL:PT1H
BEGIN:VTIMEZONE
TZID:America/New_York
BEGIN:DAYLIGHT
TZOFFSETFROM:-0500
TZOFFSETTO:-0400
TZNAME:EDT
DTSTART:20290311T070000
END:DAYLIGHT
BEGIN:STANDARD
TZOFFSETFROM:-0400
TZOFFSETTO:-0500
TZNAME:EST
DTSTART:20291104T060000
END:STANDARD
BEGIN:DAYLIGHT
TZOFFSETFROM:-0500
TZOFFSETTO:-0400
TZNAME:EDT
DTSTART:20300310T070000
END:DAYLIGHT
BEGIN:STANDARD
TZOFFSETFROM:-0400
TZOFFSETTO:-0500
TZNAME:EST
DTSTART:20301103T060000
END:STANDARD
BEGIN:DAYLIGHT
TZOFFSETFROM:-0500
TZOFFSETTO:-0400
TZNAME:EDT
DTSTART:20310309T070000
END:DAYLIGHT
BEGIN:STANDARD
TZOFFSETFROM:-0400
TZOFFSETTO:-0500
TZNAME:EST
DTSTART:20311102T060000
END:STANDARD
END:VTIMEZONE
BEGIN:VEVENT
DTSTART;TZID=America/New_York:20300212T100000
DTEND;TZID=America/New_York:20300212T103000
DTSTAMP:20260420T032040
CREATED:20221103T210703Z
LAST-MODIFIED:20230627T182417Z
UID:10015811-1897120800-1897122600@gslookout.org
SUMMARY:Intercessory Prayer Group
DESCRIPTION:
URL:https://gslookout.org/event/intercessory-prayer-group-2/2030-02-12/
LOCATION:Chapel
CATEGORIES:Formation,Worship
END:VEVENT
BEGIN:VEVENT
DTSTART;TZID=America/New_York:20300212T103000
DTEND;TZID=America/New_York:20300212T110000
DTSTAMP:20260420T032040
CREATED:20221103T210552Z
LAST-MODIFIED:20230627T182525Z
UID:10017640-1897122600-1897124400@gslookout.org
SUMMARY:Healing Service
DESCRIPTION:
URL:https://gslookout.org/event/healing-service-2/2030-02-12/
LOCATION:Chapel
CATEGORIES:Worship
END:VEVENT
BEGIN:VEVENT
DTSTART;TZID=America/New_York:20300213T083000
DTEND;TZID=America/New_York:20300213T090000
DTSTAMP:20260420T032040
CREATED:20230519T155339Z
LAST-MODIFIED:20230519T155340Z
UID:10018692-1897201800-1897203600@gslookout.org
SUMMARY:Morning Prayer
DESCRIPTION:With Kathleen Crevasse on Facebook
URL:https://gslookout.org/event/morning-prayer-2-2/2030-02-13/
LOCATION:Facebook
CATEGORIES:Worship
END:VEVENT
BEGIN:VEVENT
DTSTART;TZID=America/New_York:20300214T083000
DTEND;TZID=America/New_York:20300214T090000
DTSTAMP:20260420T032040
CREATED:20230519T155339Z
LAST-MODIFIED:20230519T155340Z
UID:10018693-1897288200-1897290000@gslookout.org
SUMMARY:Morning Prayer
DESCRIPTION:With Kathleen Crevasse on Facebook
URL:https://gslookout.org/event/morning-prayer-2-2/2030-02-14/
LOCATION:Facebook
CATEGORIES:Worship
END:VEVENT
BEGIN:VEVENT
DTSTART;TZID=America/New_York:20300215T083000
DTEND;TZID=America/New_York:20300215T090000
DTSTAMP:20260420T032040
CREATED:20230519T155339Z
LAST-MODIFIED:20230519T155340Z
UID:10018694-1897374600-1897376400@gslookout.org
SUMMARY:Morning Prayer
DESCRIPTION:With Kathleen Crevasse on Facebook
URL:https://gslookout.org/event/morning-prayer-2-2/2030-02-15/
LOCATION:Facebook
CATEGORIES:Worship
END:VEVENT
BEGIN:VEVENT
DTSTART;TZID=America/New_York:20300217T080000
DTEND;TZID=America/New_York:20300217T090000
DTSTAMP:20260420T032040
CREATED:20221103T212229Z
LAST-MODIFIED:20221103T212229Z
UID:10015722-1897545600-1897549200@gslookout.org
SUMMARY:Holy Eucharist\, Rite I
DESCRIPTION:Rite I\, spoken service at 8:00 am
URL:https://gslookout.org/event/holy-eucharist-rite-i/2030-02-17/
LOCATION:Church
CATEGORIES:Worship
END:VEVENT
BEGIN:VEVENT
DTSTART;TZID=America/New_York:20300217T103000
DTEND;TZID=America/New_York:20300217T120000
DTSTAMP:20260420T032041
CREATED:20221103T211341Z
LAST-MODIFIED:20221103T211341Z
UID:10016741-1897554600-1897560000@gslookout.org
SUMMARY:Holy Eucharist\, Rite II
DESCRIPTION:Rite II with hymns and choir at 10:30 am
URL:https://gslookout.org/event/holy-eucharist-rite-ii-4/2030-02-17/
LOCATION:Church
CATEGORIES:Worship
END:VEVENT
BEGIN:VEVENT
DTSTART;TZID=America/New_York:20300217T170500
DTEND;TZID=America/New_York:20300217T180500
DTSTAMP:20260420T032041
CREATED:20221103T212050Z
LAST-MODIFIED:20230608T164040Z
UID:10016772-1897578300-1897581900@gslookout.org
SUMMARY:Holy Eucharist\, Rite II
DESCRIPTION:Holy Eucharist Rite II with guitar and hymns
URL:https://gslookout.org/event/holy-eucharist-rite-ii-6/2030-02-17/
LOCATION:Chapel
CATEGORIES:Worship
END:VEVENT
BEGIN:VEVENT
DTSTART;TZID=America/New_York:20300218T083000
DTEND;TZID=America/New_York:20300218T090000
DTSTAMP:20260420T032041
CREATED:20230519T155339Z
LAST-MODIFIED:20230519T155340Z
UID:10018695-1897633800-1897635600@gslookout.org
SUMMARY:Morning Prayer
DESCRIPTION:With Kathleen Crevasse on Facebook
URL:https://gslookout.org/event/morning-prayer-2-2/2030-02-18/
LOCATION:Facebook
CATEGORIES:Worship
END:VEVENT
BEGIN:VEVENT
DTSTART;TZID=America/New_York:20300219T083000
DTEND;TZID=America/New_York:20300219T090000
DTSTAMP:20260420T032041
CREATED:20230519T155339Z
LAST-MODIFIED:20230519T155340Z
UID:10018696-1897720200-1897722000@gslookout.org
SUMMARY:Morning Prayer
DESCRIPTION:With Kathleen Crevasse on Facebook
URL:https://gslookout.org/event/morning-prayer-2-2/2030-02-19/
LOCATION:Facebook
CATEGORIES:Worship
END:VEVENT
BEGIN:VEVENT
DTSTART;TZID=America/New_York:20300219T100000
DTEND;TZID=America/New_York:20300219T103000
DTSTAMP:20260420T032041
CREATED:20221103T210703Z
LAST-MODIFIED:20230627T182417Z
UID:10015812-1897725600-1897727400@gslookout.org
SUMMARY:Intercessory Prayer Group
DESCRIPTION:
URL:https://gslookout.org/event/intercessory-prayer-group-2/2030-02-19/
LOCATION:Chapel
CATEGORIES:Formation,Worship
END:VEVENT
BEGIN:VEVENT
DTSTART;TZID=America/New_York:20300219T103000
DTEND;TZID=America/New_York:20300219T110000
DTSTAMP:20260420T032041
CREATED:20221103T210552Z
LAST-MODIFIED:20230627T182525Z
UID:10017641-1897727400-1897729200@gslookout.org
SUMMARY:Healing Service
DESCRIPTION:
URL:https://gslookout.org/event/healing-service-2/2030-02-19/
LOCATION:Chapel
CATEGORIES:Worship
END:VEVENT
BEGIN:VEVENT
DTSTART;TZID=America/New_York:20300220T083000
DTEND;TZID=America/New_York:20300220T090000
DTSTAMP:20260420T032041
CREATED:20230519T155339Z
LAST-MODIFIED:20230519T155340Z
UID:10018697-1897806600-1897808400@gslookout.org
SUMMARY:Morning Prayer
DESCRIPTION:With Kathleen Crevasse on Facebook
URL:https://gslookout.org/event/morning-prayer-2-2/2030-02-20/
LOCATION:Facebook
CATEGORIES:Worship
END:VEVENT
BEGIN:VEVENT
DTSTART;TZID=America/New_York:20300221T083000
DTEND;TZID=America/New_York:20300221T090000
DTSTAMP:20260420T032041
CREATED:20230519T155339Z
LAST-MODIFIED:20230519T155340Z
UID:10018698-1897893000-1897894800@gslookout.org
SUMMARY:Morning Prayer
DESCRIPTION:With Kathleen Crevasse on Facebook
URL:https://gslookout.org/event/morning-prayer-2-2/2030-02-21/
LOCATION:Facebook
CATEGORIES:Worship
END:VEVENT
BEGIN:VEVENT
DTSTART;TZID=America/New_York:20300222T083000
DTEND;TZID=America/New_York:20300222T090000
DTSTAMP:20260420T032041
CREATED:20230519T155339Z
LAST-MODIFIED:20230519T155340Z
UID:10018699-1897979400-1897981200@gslookout.org
SUMMARY:Morning Prayer
DESCRIPTION:With Kathleen Crevasse on Facebook
URL:https://gslookout.org/event/morning-prayer-2-2/2030-02-22/
LOCATION:Facebook
CATEGORIES:Worship
END:VEVENT
BEGIN:VEVENT
DTSTART;TZID=America/New_York:20300224T080000
DTEND;TZID=America/New_York:20300224T090000
DTSTAMP:20260420T032041
CREATED:20221103T212229Z
LAST-MODIFIED:20221103T212229Z
UID:10015723-1898150400-1898154000@gslookout.org
SUMMARY:Holy Eucharist\, Rite I
DESCRIPTION:Rite I\, spoken service at 8:00 am
URL:https://gslookout.org/event/holy-eucharist-rite-i/2030-02-24/
LOCATION:Church
CATEGORIES:Worship
END:VEVENT
BEGIN:VEVENT
DTSTART;TZID=America/New_York:20300224T103000
DTEND;TZID=America/New_York:20300224T120000
DTSTAMP:20260420T032041
CREATED:20221103T211341Z
LAST-MODIFIED:20221103T211341Z
UID:10016742-1898159400-1898164800@gslookout.org
SUMMARY:Holy Eucharist\, Rite II
DESCRIPTION:Rite II with hymns and choir at 10:30 am
URL:https://gslookout.org/event/holy-eucharist-rite-ii-4/2030-02-24/
LOCATION:Church
CATEGORIES:Worship
END:VEVENT
BEGIN:VEVENT
DTSTART;TZID=America/New_York:20300224T170500
DTEND;TZID=America/New_York:20300224T180500
DTSTAMP:20260420T032041
CREATED:20221103T212050Z
LAST-MODIFIED:20230608T164040Z
UID:10016773-1898183100-1898186700@gslookout.org
SUMMARY:Holy Eucharist\, Rite II
DESCRIPTION:Holy Eucharist Rite II with guitar and hymns
URL:https://gslookout.org/event/holy-eucharist-rite-ii-6/2030-02-24/
LOCATION:Chapel
CATEGORIES:Worship
END:VEVENT
BEGIN:VEVENT
DTSTART;TZID=America/New_York:20300225T083000
DTEND;TZID=America/New_York:20300225T090000
DTSTAMP:20260420T032041
CREATED:20230519T155339Z
LAST-MODIFIED:20230519T155340Z
UID:10018700-1898238600-1898240400@gslookout.org
SUMMARY:Morning Prayer
DESCRIPTION:With Kathleen Crevasse on Facebook
URL:https://gslookout.org/event/morning-prayer-2-2/2030-02-25/
LOCATION:Facebook
CATEGORIES:Worship
END:VEVENT
BEGIN:VEVENT
DTSTART;TZID=America/New_York:20300226T083000
DTEND;TZID=America/New_York:20300226T090000
DTSTAMP:20260420T032041
CREATED:20230519T155339Z
LAST-MODIFIED:20230519T155340Z
UID:10018701-1898325000-1898326800@gslookout.org
SUMMARY:Morning Prayer
DESCRIPTION:With Kathleen Crevasse on Facebook
URL:https://gslookout.org/event/morning-prayer-2-2/2030-02-26/
LOCATION:Facebook
CATEGORIES:Worship
END:VEVENT
BEGIN:VEVENT
DTSTART;TZID=America/New_York:20300226T100000
DTEND;TZID=America/New_York:20300226T103000
DTSTAMP:20260420T032041
CREATED:20221103T210703Z
LAST-MODIFIED:20230627T182417Z
UID:10015813-1898330400-1898332200@gslookout.org
SUMMARY:Intercessory Prayer Group
DESCRIPTION:
URL:https://gslookout.org/event/intercessory-prayer-group-2/2030-02-26/
LOCATION:Chapel
CATEGORIES:Formation,Worship
END:VEVENT
BEGIN:VEVENT
DTSTART;TZID=America/New_York:20300226T103000
DTEND;TZID=America/New_York:20300226T110000
DTSTAMP:20260420T032041
CREATED:20221103T210552Z
LAST-MODIFIED:20230627T182525Z
UID:10017642-1898332200-1898334000@gslookout.org
SUMMARY:Healing Service
DESCRIPTION:
URL:https://gslookout.org/event/healing-service-2/2030-02-26/
LOCATION:Chapel
CATEGORIES:Worship
END:VEVENT
BEGIN:VEVENT
DTSTART;TZID=America/New_York:20300227T083000
DTEND;TZID=America/New_York:20300227T090000
DTSTAMP:20260420T032041
CREATED:20230519T155339Z
LAST-MODIFIED:20230519T155340Z
UID:10018702-1898411400-1898413200@gslookout.org
SUMMARY:Morning Prayer
DESCRIPTION:With Kathleen Crevasse on Facebook
URL:https://gslookout.org/event/morning-prayer-2-2/2030-02-27/
LOCATION:Facebook
CATEGORIES:Worship
END:VEVENT
BEGIN:VEVENT
DTSTART;TZID=America/New_York:20300228T083000
DTEND;TZID=America/New_York:20300228T090000
DTSTAMP:20260420T032041
CREATED:20230519T155339Z
LAST-MODIFIED:20230519T155340Z
UID:10018703-1898497800-1898499600@gslookout.org
SUMMARY:Morning Prayer
DESCRIPTION:With Kathleen Crevasse on Facebook
URL:https://gslookout.org/event/morning-prayer-2-2/2030-02-28/
LOCATION:Facebook
CATEGORIES:Worship
END:VEVENT
BEGIN:VEVENT
DTSTART;TZID=America/New_York:20300301T083000
DTEND;TZID=America/New_York:20300301T090000
DTSTAMP:20260420T032041
CREATED:20230519T155339Z
LAST-MODIFIED:20230519T155340Z
UID:10018704-1898584200-1898586000@gslookout.org
SUMMARY:Morning Prayer
DESCRIPTION:With Kathleen Crevasse on Facebook
URL:https://gslookout.org/event/morning-prayer-2-2/2030-03-01/
LOCATION:Facebook
CATEGORIES:Worship
END:VEVENT
BEGIN:VEVENT
DTSTART;TZID=America/New_York:20300303T080000
DTEND;TZID=America/New_York:20300303T090000
DTSTAMP:20260420T032041
CREATED:20221103T212229Z
LAST-MODIFIED:20221103T212229Z
UID:10015724-1898755200-1898758800@gslookout.org
SUMMARY:Holy Eucharist\, Rite I
DESCRIPTION:Rite I\, spoken service at 8:00 am
URL:https://gslookout.org/event/holy-eucharist-rite-i/2030-03-03/
LOCATION:Church
CATEGORIES:Worship
END:VEVENT
BEGIN:VEVENT
DTSTART;TZID=America/New_York:20300303T103000
DTEND;TZID=America/New_York:20300303T120000
DTSTAMP:20260420T032041
CREATED:20221103T211341Z
LAST-MODIFIED:20221103T211341Z
UID:10016743-1898764200-1898769600@gslookout.org
SUMMARY:Holy Eucharist\, Rite II
DESCRIPTION:Rite II with hymns and choir at 10:30 am
URL:https://gslookout.org/event/holy-eucharist-rite-ii-4/2030-03-03/
LOCATION:Church
CATEGORIES:Worship
END:VEVENT
BEGIN:VEVENT
DTSTART;TZID=America/New_York:20300303T170500
DTEND;TZID=America/New_York:20300303T180500
DTSTAMP:20260420T032041
CREATED:20221103T212050Z
LAST-MODIFIED:20230608T164040Z
UID:10016774-1898787900-1898791500@gslookout.org
SUMMARY:Holy Eucharist\, Rite II
DESCRIPTION:Holy Eucharist Rite II with guitar and hymns
URL:https://gslookout.org/event/holy-eucharist-rite-ii-6/2030-03-03/
LOCATION:Chapel
CATEGORIES:Worship
END:VEVENT
BEGIN:VEVENT
DTSTART;TZID=America/New_York:20300304T083000
DTEND;TZID=America/New_York:20300304T090000
DTSTAMP:20260420T032041
CREATED:20230519T155339Z
LAST-MODIFIED:20230519T155340Z
UID:10018705-1898843400-1898845200@gslookout.org
SUMMARY:Morning Prayer
DESCRIPTION:With Kathleen Crevasse on Facebook
URL:https://gslookout.org/event/morning-prayer-2-2/2030-03-04/
LOCATION:Facebook
CATEGORIES:Worship
END:VEVENT
BEGIN:VEVENT
DTSTART;TZID=America/New_York:20300305T083000
DTEND;TZID=America/New_York:20300305T090000
DTSTAMP:20260420T032041
CREATED:20230519T155339Z
LAST-MODIFIED:20230519T155340Z
UID:10018706-1898929800-1898931600@gslookout.org
SUMMARY:Morning Prayer
DESCRIPTION:With Kathleen Crevasse on Facebook
URL:https://gslookout.org/event/morning-prayer-2-2/2030-03-05/
LOCATION:Facebook
CATEGORIES:Worship
END:VEVENT
END:VCALENDAR