BEGIN:VCALENDAR
VERSION:2.0
PRODID:-//Church of the Good Shepherd - ECPv6.15.20//NONSGML v1.0//EN
CALSCALE:GREGORIAN
METHOD:PUBLISH
X-WR-CALNAME:Church of the Good Shepherd
X-ORIGINAL-URL:https://gslookout.org
X-WR-CALDESC:Events for Church of the Good Shepherd
REFRESH-INTERVAL;VALUE=DURATION:PT1H
X-Robots-Tag:noindex
X-PUBLISHED-TTL:PT1H
BEGIN:VTIMEZONE
TZID:America/New_York
BEGIN:DAYLIGHT
TZOFFSETFROM:-0500
TZOFFSETTO:-0400
TZNAME:EDT
DTSTART:20290311T070000
END:DAYLIGHT
BEGIN:STANDARD
TZOFFSETFROM:-0400
TZOFFSETTO:-0500
TZNAME:EST
DTSTART:20291104T060000
END:STANDARD
BEGIN:DAYLIGHT
TZOFFSETFROM:-0500
TZOFFSETTO:-0400
TZNAME:EDT
DTSTART:20300310T070000
END:DAYLIGHT
BEGIN:STANDARD
TZOFFSETFROM:-0400
TZOFFSETTO:-0500
TZNAME:EST
DTSTART:20301103T060000
END:STANDARD
BEGIN:DAYLIGHT
TZOFFSETFROM:-0500
TZOFFSETTO:-0400
TZNAME:EDT
DTSTART:20310309T070000
END:DAYLIGHT
BEGIN:STANDARD
TZOFFSETFROM:-0400
TZOFFSETTO:-0500
TZNAME:EST
DTSTART:20311102T060000
END:STANDARD
END:VTIMEZONE
BEGIN:VEVENT
DTSTART;TZID=America/New_York:20300612T083000
DTEND;TZID=America/New_York:20300612T090000
DTSTAMP:20260421T135154
CREATED:20230519T155339Z
LAST-MODIFIED:20230519T155340Z
UID:10018777-1907483400-1907485200@gslookout.org
SUMMARY:Morning Prayer
DESCRIPTION:With Kathleen Crevasse on Facebook
URL:https://gslookout.org/event/morning-prayer-2-2/2030-06-12/
LOCATION:Facebook
CATEGORIES:Worship
END:VEVENT
BEGIN:VEVENT
DTSTART;TZID=America/New_York:20300613T083000
DTEND;TZID=America/New_York:20300613T090000
DTSTAMP:20260421T135154
CREATED:20230519T155339Z
LAST-MODIFIED:20230519T155340Z
UID:10018778-1907569800-1907571600@gslookout.org
SUMMARY:Morning Prayer
DESCRIPTION:With Kathleen Crevasse on Facebook
URL:https://gslookout.org/event/morning-prayer-2-2/2030-06-13/
LOCATION:Facebook
CATEGORIES:Worship
END:VEVENT
BEGIN:VEVENT
DTSTART;TZID=America/New_York:20300614T083000
DTEND;TZID=America/New_York:20300614T090000
DTSTAMP:20260421T135154
CREATED:20230519T155339Z
LAST-MODIFIED:20230519T155340Z
UID:10018779-1907656200-1907658000@gslookout.org
SUMMARY:Morning Prayer
DESCRIPTION:With Kathleen Crevasse on Facebook
URL:https://gslookout.org/event/morning-prayer-2-2/2030-06-14/
LOCATION:Facebook
CATEGORIES:Worship
END:VEVENT
BEGIN:VEVENT
DTSTART;TZID=America/New_York:20300616T080000
DTEND;TZID=America/New_York:20300616T090000
DTSTAMP:20260421T135154
CREATED:20221103T212229Z
LAST-MODIFIED:20221103T212229Z
UID:10018897-1907827200-1907830800@gslookout.org
SUMMARY:Holy Eucharist\, Rite I
DESCRIPTION:Rite I\, spoken service at 8:00 am
URL:https://gslookout.org/event/holy-eucharist-rite-i/2030-06-16/
LOCATION:Church
CATEGORIES:Worship
END:VEVENT
BEGIN:VEVENT
DTSTART;TZID=America/New_York:20300616T103000
DTEND;TZID=America/New_York:20300616T120000
DTSTAMP:20260421T135154
CREATED:20221103T211341Z
LAST-MODIFIED:20221103T211341Z
UID:10018900-1907836200-1907841600@gslookout.org
SUMMARY:Holy Eucharist\, Rite II
DESCRIPTION:Rite II with hymns and choir at 10:30 am
URL:https://gslookout.org/event/holy-eucharist-rite-ii-4/2030-06-16/
LOCATION:Church
CATEGORIES:Worship
END:VEVENT
BEGIN:VEVENT
DTSTART;TZID=America/New_York:20300616T170500
DTEND;TZID=America/New_York:20300616T180500
DTSTAMP:20260421T135154
CREATED:20221103T212050Z
LAST-MODIFIED:20230608T164040Z
UID:10018902-1907859900-1907863500@gslookout.org
SUMMARY:Holy Eucharist\, Rite II
DESCRIPTION:Holy Eucharist Rite II with guitar and hymns
URL:https://gslookout.org/event/holy-eucharist-rite-ii-6/2030-06-16/
LOCATION:Chapel
CATEGORIES:Worship
END:VEVENT
BEGIN:VEVENT
DTSTART;TZID=America/New_York:20300617T083000
DTEND;TZID=America/New_York:20300617T090000
DTSTAMP:20260421T135154
CREATED:20230519T155339Z
LAST-MODIFIED:20230519T155340Z
UID:10018903-1907915400-1907917200@gslookout.org
SUMMARY:Morning Prayer
DESCRIPTION:With Kathleen Crevasse on Facebook
URL:https://gslookout.org/event/morning-prayer-2-2/2030-06-17/
LOCATION:Facebook
CATEGORIES:Worship
END:VEVENT
BEGIN:VEVENT
DTSTART;TZID=America/New_York:20300618T083000
DTEND;TZID=America/New_York:20300618T090000
DTSTAMP:20260421T135154
CREATED:20230519T155339Z
LAST-MODIFIED:20230519T155340Z
UID:10018906-1908001800-1908003600@gslookout.org
SUMMARY:Morning Prayer
DESCRIPTION:With Kathleen Crevasse on Facebook
URL:https://gslookout.org/event/morning-prayer-2-2/2030-06-18/
LOCATION:Facebook
CATEGORIES:Worship
END:VEVENT
BEGIN:VEVENT
DTSTART;TZID=America/New_York:20300618T100000
DTEND;TZID=America/New_York:20300618T103000
DTSTAMP:20260421T135154
CREATED:20221103T210703Z
LAST-MODIFIED:20230627T182417Z
UID:10018908-1908007200-1908009000@gslookout.org
SUMMARY:Intercessory Prayer Group
DESCRIPTION:
URL:https://gslookout.org/event/intercessory-prayer-group-2/2030-06-18/
LOCATION:Chapel
CATEGORIES:Formation,Worship
END:VEVENT
BEGIN:VEVENT
DTSTART;TZID=America/New_York:20300618T103000
DTEND;TZID=America/New_York:20300618T110000
DTSTAMP:20260421T135154
CREATED:20221103T210552Z
LAST-MODIFIED:20230627T182525Z
UID:10018909-1908009000-1908010800@gslookout.org
SUMMARY:Healing Service
DESCRIPTION:
URL:https://gslookout.org/event/healing-service-2/2030-06-18/
LOCATION:Chapel
CATEGORIES:Worship
END:VEVENT
BEGIN:VEVENT
DTSTART;TZID=America/New_York:20300619T083000
DTEND;TZID=America/New_York:20300619T090000
DTSTAMP:20260421T135154
CREATED:20230519T155339Z
LAST-MODIFIED:20230519T155340Z
UID:10018912-1908088200-1908090000@gslookout.org
SUMMARY:Morning Prayer
DESCRIPTION:With Kathleen Crevasse on Facebook
URL:https://gslookout.org/event/morning-prayer-2-2/2030-06-19/
LOCATION:Facebook
CATEGORIES:Worship
END:VEVENT
BEGIN:VEVENT
DTSTART;TZID=America/New_York:20300620T083000
DTEND;TZID=America/New_York:20300620T090000
DTSTAMP:20260421T135154
CREATED:20230519T155339Z
LAST-MODIFIED:20230519T155340Z
UID:10018915-1908174600-1908176400@gslookout.org
SUMMARY:Morning Prayer
DESCRIPTION:With Kathleen Crevasse on Facebook
URL:https://gslookout.org/event/morning-prayer-2-2/2030-06-20/
LOCATION:Facebook
CATEGORIES:Worship
END:VEVENT
BEGIN:VEVENT
DTSTART;TZID=America/New_York:20300621T083000
DTEND;TZID=America/New_York:20300621T090000
DTSTAMP:20260421T135154
CREATED:20230519T155339Z
LAST-MODIFIED:20230519T155340Z
UID:10018917-1908261000-1908262800@gslookout.org
SUMMARY:Morning Prayer
DESCRIPTION:With Kathleen Crevasse on Facebook
URL:https://gslookout.org/event/morning-prayer-2-2/2030-06-21/
LOCATION:Facebook
CATEGORIES:Worship
END:VEVENT
BEGIN:VEVENT
DTSTART;TZID=America/New_York:20300623T080000
DTEND;TZID=America/New_York:20300623T090000
DTSTAMP:20260421T135154
CREATED:20221103T212229Z
LAST-MODIFIED:20221103T212229Z
UID:10018918-1908432000-1908435600@gslookout.org
SUMMARY:Holy Eucharist\, Rite I
DESCRIPTION:Rite I\, spoken service at 8:00 am
URL:https://gslookout.org/event/holy-eucharist-rite-i/2030-06-23/
LOCATION:Church
CATEGORIES:Worship
END:VEVENT
BEGIN:VEVENT
DTSTART;TZID=America/New_York:20300623T103000
DTEND;TZID=America/New_York:20300623T120000
DTSTAMP:20260421T135154
CREATED:20221103T211341Z
LAST-MODIFIED:20221103T211341Z
UID:10018921-1908441000-1908446400@gslookout.org
SUMMARY:Holy Eucharist\, Rite II
DESCRIPTION:Rite II with hymns and choir at 10:30 am
URL:https://gslookout.org/event/holy-eucharist-rite-ii-4/2030-06-23/
LOCATION:Church
CATEGORIES:Worship
END:VEVENT
BEGIN:VEVENT
DTSTART;TZID=America/New_York:20300623T170500
DTEND;TZID=America/New_York:20300623T180500
DTSTAMP:20260421T135154
CREATED:20221103T212050Z
LAST-MODIFIED:20230608T164040Z
UID:10018923-1908464700-1908468300@gslookout.org
SUMMARY:Holy Eucharist\, Rite II
DESCRIPTION:Holy Eucharist Rite II with guitar and hymns
URL:https://gslookout.org/event/holy-eucharist-rite-ii-6/2030-06-23/
LOCATION:Chapel
CATEGORIES:Worship
END:VEVENT
BEGIN:VEVENT
DTSTART;TZID=America/New_York:20300624T083000
DTEND;TZID=America/New_York:20300624T090000
DTSTAMP:20260421T135154
CREATED:20230519T155339Z
LAST-MODIFIED:20230519T155340Z
UID:10018924-1908520200-1908522000@gslookout.org
SUMMARY:Morning Prayer
DESCRIPTION:With Kathleen Crevasse on Facebook
URL:https://gslookout.org/event/morning-prayer-2-2/2030-06-24/
LOCATION:Facebook
CATEGORIES:Worship
END:VEVENT
BEGIN:VEVENT
DTSTART;TZID=America/New_York:20300625T083000
DTEND;TZID=America/New_York:20300625T090000
DTSTAMP:20260421T135154
CREATED:20230519T155339Z
LAST-MODIFIED:20230519T155340Z
UID:10018927-1908606600-1908608400@gslookout.org
SUMMARY:Morning Prayer
DESCRIPTION:With Kathleen Crevasse on Facebook
URL:https://gslookout.org/event/morning-prayer-2-2/2030-06-25/
LOCATION:Facebook
CATEGORIES:Worship
END:VEVENT
BEGIN:VEVENT
DTSTART;TZID=America/New_York:20300625T100000
DTEND;TZID=America/New_York:20300625T103000
DTSTAMP:20260421T135154
CREATED:20221103T210703Z
LAST-MODIFIED:20230627T182417Z
UID:10018928-1908612000-1908613800@gslookout.org
SUMMARY:Intercessory Prayer Group
DESCRIPTION:
URL:https://gslookout.org/event/intercessory-prayer-group-2/2030-06-25/
LOCATION:Chapel
CATEGORIES:Formation,Worship
END:VEVENT
BEGIN:VEVENT
DTSTART;TZID=America/New_York:20300625T103000
DTEND;TZID=America/New_York:20300625T110000
DTSTAMP:20260421T135154
CREATED:20221103T210552Z
LAST-MODIFIED:20230627T182525Z
UID:10018929-1908613800-1908615600@gslookout.org
SUMMARY:Healing Service
DESCRIPTION:
URL:https://gslookout.org/event/healing-service-2/2030-06-25/
LOCATION:Chapel
CATEGORIES:Worship
END:VEVENT
BEGIN:VEVENT
DTSTART;TZID=America/New_York:20300626T083000
DTEND;TZID=America/New_York:20300626T090000
DTSTAMP:20260421T135154
CREATED:20230519T155339Z
LAST-MODIFIED:20230519T155340Z
UID:10018934-1908693000-1908694800@gslookout.org
SUMMARY:Morning Prayer
DESCRIPTION:With Kathleen Crevasse on Facebook
URL:https://gslookout.org/event/morning-prayer-2-2/2030-06-26/
LOCATION:Facebook
CATEGORIES:Worship
END:VEVENT
BEGIN:VEVENT
DTSTART;TZID=America/New_York:20300627T083000
DTEND;TZID=America/New_York:20300627T090000
DTSTAMP:20260421T135154
CREATED:20230519T155339Z
LAST-MODIFIED:20230519T155340Z
UID:10018936-1908779400-1908781200@gslookout.org
SUMMARY:Morning Prayer
DESCRIPTION:With Kathleen Crevasse on Facebook
URL:https://gslookout.org/event/morning-prayer-2-2/2030-06-27/
LOCATION:Facebook
CATEGORIES:Worship
END:VEVENT
BEGIN:VEVENT
DTSTART;TZID=America/New_York:20300628T083000
DTEND;TZID=America/New_York:20300628T090000
DTSTAMP:20260421T135154
CREATED:20230519T155339Z
LAST-MODIFIED:20230519T155340Z
UID:10018938-1908865800-1908867600@gslookout.org
SUMMARY:Morning Prayer
DESCRIPTION:With Kathleen Crevasse on Facebook
URL:https://gslookout.org/event/morning-prayer-2-2/2030-06-28/
LOCATION:Facebook
CATEGORIES:Worship
END:VEVENT
BEGIN:VEVENT
DTSTART;TZID=America/New_York:20300630T080000
DTEND;TZID=America/New_York:20300630T090000
DTSTAMP:20260421T135154
CREATED:20221103T212229Z
LAST-MODIFIED:20221103T212229Z
UID:10018940-1909036800-1909040400@gslookout.org
SUMMARY:Holy Eucharist\, Rite I
DESCRIPTION:Rite I\, spoken service at 8:00 am
URL:https://gslookout.org/event/holy-eucharist-rite-i/2030-06-30/
LOCATION:Church
CATEGORIES:Worship
END:VEVENT
BEGIN:VEVENT
DTSTART;TZID=America/New_York:20300630T103000
DTEND;TZID=America/New_York:20300630T120000
DTSTAMP:20260421T135154
CREATED:20221103T211341Z
LAST-MODIFIED:20221103T211341Z
UID:10018943-1909045800-1909051200@gslookout.org
SUMMARY:Holy Eucharist\, Rite II
DESCRIPTION:Rite II with hymns and choir at 10:30 am
URL:https://gslookout.org/event/holy-eucharist-rite-ii-4/2030-06-30/
LOCATION:Church
CATEGORIES:Worship
END:VEVENT
BEGIN:VEVENT
DTSTART;TZID=America/New_York:20300630T170500
DTEND;TZID=America/New_York:20300630T180500
DTSTAMP:20260421T135154
CREATED:20221103T212050Z
LAST-MODIFIED:20230608T164040Z
UID:10018945-1909069500-1909073100@gslookout.org
SUMMARY:Holy Eucharist\, Rite II
DESCRIPTION:Holy Eucharist Rite II with guitar and hymns
URL:https://gslookout.org/event/holy-eucharist-rite-ii-6/2030-06-30/
LOCATION:Chapel
CATEGORIES:Worship
END:VEVENT
BEGIN:VEVENT
DTSTART;TZID=America/New_York:20300701T083000
DTEND;TZID=America/New_York:20300701T090000
DTSTAMP:20260421T135154
CREATED:20230519T155339Z
LAST-MODIFIED:20230519T155340Z
UID:10018948-1909125000-1909126800@gslookout.org
SUMMARY:Morning Prayer
DESCRIPTION:With Kathleen Crevasse on Facebook
URL:https://gslookout.org/event/morning-prayer-2-2/2030-07-01/
LOCATION:Facebook
CATEGORIES:Worship
END:VEVENT
BEGIN:VEVENT
DTSTART;TZID=America/New_York:20300702T083000
DTEND;TZID=America/New_York:20300702T090000
DTSTAMP:20260421T135154
CREATED:20230519T155339Z
LAST-MODIFIED:20230519T155340Z
UID:10018951-1909211400-1909213200@gslookout.org
SUMMARY:Morning Prayer
DESCRIPTION:With Kathleen Crevasse on Facebook
URL:https://gslookout.org/event/morning-prayer-2-2/2030-07-02/
LOCATION:Facebook
CATEGORIES:Worship
END:VEVENT
BEGIN:VEVENT
DTSTART;TZID=America/New_York:20300702T100000
DTEND;TZID=America/New_York:20300702T103000
DTSTAMP:20260421T135154
CREATED:20221103T210703Z
LAST-MODIFIED:20230627T182417Z
UID:10018952-1909216800-1909218600@gslookout.org
SUMMARY:Intercessory Prayer Group
DESCRIPTION:
URL:https://gslookout.org/event/intercessory-prayer-group-2/2030-07-02/
LOCATION:Chapel
CATEGORIES:Formation,Worship
END:VEVENT
BEGIN:VEVENT
DTSTART;TZID=America/New_York:20300702T103000
DTEND;TZID=America/New_York:20300702T110000
DTSTAMP:20260421T135154
CREATED:20221103T210552Z
LAST-MODIFIED:20230627T182525Z
UID:10018953-1909218600-1909220400@gslookout.org
SUMMARY:Healing Service
DESCRIPTION:
URL:https://gslookout.org/event/healing-service-2/2030-07-02/
LOCATION:Chapel
CATEGORIES:Worship
END:VEVENT
END:VCALENDAR