BEGIN:VCALENDAR
VERSION:2.0
PRODID:-//Church of the Good Shepherd - ECPv6.15.20//NONSGML v1.0//EN
CALSCALE:GREGORIAN
METHOD:PUBLISH
X-ORIGINAL-URL:https://gslookout.org
X-WR-CALDESC:Events for Church of the Good Shepherd
REFRESH-INTERVAL;VALUE=DURATION:PT1H
X-Robots-Tag:noindex
X-PUBLISHED-TTL:PT1H
BEGIN:VTIMEZONE
TZID:America/New_York
BEGIN:DAYLIGHT
TZOFFSETFROM:-0500
TZOFFSETTO:-0400
TZNAME:EDT
DTSTART:20290311T070000
END:DAYLIGHT
BEGIN:STANDARD
TZOFFSETFROM:-0400
TZOFFSETTO:-0500
TZNAME:EST
DTSTART:20291104T060000
END:STANDARD
BEGIN:DAYLIGHT
TZOFFSETFROM:-0500
TZOFFSETTO:-0400
TZNAME:EDT
DTSTART:20300310T070000
END:DAYLIGHT
BEGIN:STANDARD
TZOFFSETFROM:-0400
TZOFFSETTO:-0500
TZNAME:EST
DTSTART:20301103T060000
END:STANDARD
BEGIN:DAYLIGHT
TZOFFSETFROM:-0500
TZOFFSETTO:-0400
TZNAME:EDT
DTSTART:20310309T070000
END:DAYLIGHT
BEGIN:STANDARD
TZOFFSETFROM:-0400
TZOFFSETTO:-0500
TZNAME:EST
DTSTART:20311102T060000
END:STANDARD
END:VTIMEZONE
BEGIN:VEVENT
DTSTART;TZID=America/New_York:20300915T103000
DTEND;TZID=America/New_York:20300915T120000
DTSTAMP:20260423T092133
CREATED:20221103T211341Z
LAST-MODIFIED:20221103T211341Z
UID:10019205-1915698600-1915704000@gslookout.org
SUMMARY:Holy Eucharist\, Rite II
DESCRIPTION:Rite II with hymns and choir at 10:30 am
URL:https://gslookout.org/event/holy-eucharist-rite-ii-4/2030-09-15/
LOCATION:Church
CATEGORIES:Worship
END:VEVENT
BEGIN:VEVENT
DTSTART;TZID=America/New_York:20300915T170500
DTEND;TZID=America/New_York:20300915T180500
DTSTAMP:20260423T092133
CREATED:20221103T212050Z
LAST-MODIFIED:20230608T164040Z
UID:10019209-1915722300-1915725900@gslookout.org
SUMMARY:Holy Eucharist\, Rite II
DESCRIPTION:Holy Eucharist Rite II with guitar and hymns
URL:https://gslookout.org/event/holy-eucharist-rite-ii-6/2030-09-15/
LOCATION:Chapel
CATEGORIES:Worship
END:VEVENT
BEGIN:VEVENT
DTSTART;TZID=America/New_York:20300916T083000
DTEND;TZID=America/New_York:20300916T090000
DTSTAMP:20260423T092133
CREATED:20230519T155339Z
LAST-MODIFIED:20230519T155340Z
UID:10019263-1915777800-1915779600@gslookout.org
SUMMARY:Morning Prayer
DESCRIPTION:With Kathleen Crevasse on Facebook
URL:https://gslookout.org/event/morning-prayer-2-2/2030-09-16/
LOCATION:Facebook
CATEGORIES:Worship
END:VEVENT
BEGIN:VEVENT
DTSTART;TZID=America/New_York:20300917T083000
DTEND;TZID=America/New_York:20300917T090000
DTSTAMP:20260423T092133
CREATED:20230519T155339Z
LAST-MODIFIED:20230519T155340Z
UID:10019264-1915864200-1915866000@gslookout.org
SUMMARY:Morning Prayer
DESCRIPTION:With Kathleen Crevasse on Facebook
URL:https://gslookout.org/event/morning-prayer-2-2/2030-09-17/
LOCATION:Facebook
CATEGORIES:Worship
END:VEVENT
BEGIN:VEVENT
DTSTART;TZID=America/New_York:20300917T100000
DTEND;TZID=America/New_York:20300917T103000
DTSTAMP:20260423T092133
CREATED:20221103T210703Z
LAST-MODIFIED:20230627T182417Z
UID:10019270-1915869600-1915871400@gslookout.org
SUMMARY:Intercessory Prayer Group
DESCRIPTION:
URL:https://gslookout.org/event/intercessory-prayer-group-2/2030-09-17/
LOCATION:Chapel
CATEGORIES:Formation,Worship
END:VEVENT
BEGIN:VEVENT
DTSTART;TZID=America/New_York:20300917T103000
DTEND;TZID=America/New_York:20300917T110000
DTSTAMP:20260423T092133
CREATED:20221103T210552Z
LAST-MODIFIED:20230627T182525Z
UID:10019271-1915871400-1915873200@gslookout.org
SUMMARY:Healing Service
DESCRIPTION:
URL:https://gslookout.org/event/healing-service-2/2030-09-17/
LOCATION:Chapel
CATEGORIES:Worship
END:VEVENT
BEGIN:VEVENT
DTSTART;TZID=America/New_York:20300918T083000
DTEND;TZID=America/New_York:20300918T090000
DTSTAMP:20260423T092133
CREATED:20230519T155339Z
LAST-MODIFIED:20230519T155340Z
UID:10019265-1915950600-1915952400@gslookout.org
SUMMARY:Morning Prayer
DESCRIPTION:With Kathleen Crevasse on Facebook
URL:https://gslookout.org/event/morning-prayer-2-2/2030-09-18/
LOCATION:Facebook
CATEGORIES:Worship
END:VEVENT
BEGIN:VEVENT
DTSTART;TZID=America/New_York:20300919T083000
DTEND;TZID=America/New_York:20300919T090000
DTSTAMP:20260423T092133
CREATED:20230519T155339Z
LAST-MODIFIED:20230519T155340Z
UID:10019269-1916037000-1916038800@gslookout.org
SUMMARY:Morning Prayer
DESCRIPTION:With Kathleen Crevasse on Facebook
URL:https://gslookout.org/event/morning-prayer-2-2/2030-09-19/
LOCATION:Facebook
CATEGORIES:Worship
END:VEVENT
BEGIN:VEVENT
DTSTART;TZID=America/New_York:20300920T083000
DTEND;TZID=America/New_York:20300920T090000
DTSTAMP:20260423T092133
CREATED:20230519T155339Z
LAST-MODIFIED:20230519T155340Z
UID:10019273-1916123400-1916125200@gslookout.org
SUMMARY:Morning Prayer
DESCRIPTION:With Kathleen Crevasse on Facebook
URL:https://gslookout.org/event/morning-prayer-2-2/2030-09-20/
LOCATION:Facebook
CATEGORIES:Worship
END:VEVENT
BEGIN:VEVENT
DTSTART;TZID=America/New_York:20300922T080000
DTEND;TZID=America/New_York:20300922T090000
DTSTAMP:20260423T092133
CREATED:20221103T212229Z
LAST-MODIFIED:20221103T212229Z
UID:10019279-1916294400-1916298000@gslookout.org
SUMMARY:Holy Eucharist\, Rite I
DESCRIPTION:Rite I\, spoken service at 8:00 am
URL:https://gslookout.org/event/holy-eucharist-rite-i/2030-09-22/
LOCATION:Church
CATEGORIES:Worship
END:VEVENT
BEGIN:VEVENT
DTSTART;TZID=America/New_York:20300922T103000
DTEND;TZID=America/New_York:20300922T120000
DTSTAMP:20260423T092133
CREATED:20221103T211341Z
LAST-MODIFIED:20221103T211341Z
UID:10019282-1916303400-1916308800@gslookout.org
SUMMARY:Holy Eucharist\, Rite II
DESCRIPTION:Rite II with hymns and choir at 10:30 am
URL:https://gslookout.org/event/holy-eucharist-rite-ii-4/2030-09-22/
LOCATION:Church
CATEGORIES:Worship
END:VEVENT
BEGIN:VEVENT
DTSTART;TZID=America/New_York:20300922T170500
DTEND;TZID=America/New_York:20300922T180500
DTSTAMP:20260423T092133
CREATED:20221103T212050Z
LAST-MODIFIED:20230608T164040Z
UID:10019284-1916327100-1916330700@gslookout.org
SUMMARY:Holy Eucharist\, Rite II
DESCRIPTION:Holy Eucharist Rite II with guitar and hymns
URL:https://gslookout.org/event/holy-eucharist-rite-ii-6/2030-09-22/
LOCATION:Chapel
CATEGORIES:Worship
END:VEVENT
BEGIN:VEVENT
DTSTART;TZID=America/New_York:20300923T083000
DTEND;TZID=America/New_York:20300923T090000
DTSTAMP:20260423T092133
CREATED:20230519T155339Z
LAST-MODIFIED:20230519T155340Z
UID:10019285-1916382600-1916384400@gslookout.org
SUMMARY:Morning Prayer
DESCRIPTION:With Kathleen Crevasse on Facebook
URL:https://gslookout.org/event/morning-prayer-2-2/2030-09-23/
LOCATION:Facebook
CATEGORIES:Worship
END:VEVENT
BEGIN:VEVENT
DTSTART;TZID=America/New_York:20300924T083000
DTEND;TZID=America/New_York:20300924T090000
DTSTAMP:20260423T092133
CREATED:20230519T155339Z
LAST-MODIFIED:20230519T155340Z
UID:10019286-1916469000-1916470800@gslookout.org
SUMMARY:Morning Prayer
DESCRIPTION:With Kathleen Crevasse on Facebook
URL:https://gslookout.org/event/morning-prayer-2-2/2030-09-24/
LOCATION:Facebook
CATEGORIES:Worship
END:VEVENT
BEGIN:VEVENT
DTSTART;TZID=America/New_York:20300924T100000
DTEND;TZID=America/New_York:20300924T103000
DTSTAMP:20260423T092133
CREATED:20221103T210703Z
LAST-MODIFIED:20230627T182417Z
UID:10019292-1916474400-1916476200@gslookout.org
SUMMARY:Intercessory Prayer Group
DESCRIPTION:
URL:https://gslookout.org/event/intercessory-prayer-group-2/2030-09-24/
LOCATION:Chapel
CATEGORIES:Formation,Worship
END:VEVENT
BEGIN:VEVENT
DTSTART;TZID=America/New_York:20300924T103000
DTEND;TZID=America/New_York:20300924T110000
DTSTAMP:20260423T092133
CREATED:20221103T210552Z
LAST-MODIFIED:20230627T182525Z
UID:10019293-1916476200-1916478000@gslookout.org
SUMMARY:Healing Service
DESCRIPTION:
URL:https://gslookout.org/event/healing-service-2/2030-09-24/
LOCATION:Chapel
CATEGORIES:Worship
END:VEVENT
BEGIN:VEVENT
DTSTART;TZID=America/New_York:20300925T083000
DTEND;TZID=America/New_York:20300925T090000
DTSTAMP:20260423T092133
CREATED:20230519T155339Z
LAST-MODIFIED:20230519T155340Z
UID:10019287-1916555400-1916557200@gslookout.org
SUMMARY:Morning Prayer
DESCRIPTION:With Kathleen Crevasse on Facebook
URL:https://gslookout.org/event/morning-prayer-2-2/2030-09-25/
LOCATION:Facebook
CATEGORIES:Worship
END:VEVENT
BEGIN:VEVENT
DTSTART;TZID=America/New_York:20300926T083000
DTEND;TZID=America/New_York:20300926T090000
DTSTAMP:20260423T092133
CREATED:20230519T155339Z
LAST-MODIFIED:20230519T155340Z
UID:10019291-1916641800-1916643600@gslookout.org
SUMMARY:Morning Prayer
DESCRIPTION:With Kathleen Crevasse on Facebook
URL:https://gslookout.org/event/morning-prayer-2-2/2030-09-26/
LOCATION:Facebook
CATEGORIES:Worship
END:VEVENT
BEGIN:VEVENT
DTSTART;TZID=America/New_York:20300927T083000
DTEND;TZID=America/New_York:20300927T090000
DTSTAMP:20260423T092133
CREATED:20230519T155339Z
LAST-MODIFIED:20230519T155340Z
UID:10019295-1916728200-1916730000@gslookout.org
SUMMARY:Morning Prayer
DESCRIPTION:With Kathleen Crevasse on Facebook
URL:https://gslookout.org/event/morning-prayer-2-2/2030-09-27/
LOCATION:Facebook
CATEGORIES:Worship
END:VEVENT
BEGIN:VEVENT
DTSTART;TZID=America/New_York:20300929T080000
DTEND;TZID=America/New_York:20300929T090000
DTSTAMP:20260423T092133
CREATED:20221103T212229Z
LAST-MODIFIED:20221103T212229Z
UID:10019302-1916899200-1916902800@gslookout.org
SUMMARY:Holy Eucharist\, Rite I
DESCRIPTION:Rite I\, spoken service at 8:00 am
URL:https://gslookout.org/event/holy-eucharist-rite-i/2030-09-29/
LOCATION:Church
CATEGORIES:Worship
END:VEVENT
BEGIN:VEVENT
DTSTART;TZID=America/New_York:20300929T103000
DTEND;TZID=America/New_York:20300929T120000
DTSTAMP:20260423T092133
CREATED:20221103T211341Z
LAST-MODIFIED:20221103T211341Z
UID:10019305-1916908200-1916913600@gslookout.org
SUMMARY:Holy Eucharist\, Rite II
DESCRIPTION:Rite II with hymns and choir at 10:30 am
URL:https://gslookout.org/event/holy-eucharist-rite-ii-4/2030-09-29/
LOCATION:Church
CATEGORIES:Worship
END:VEVENT
BEGIN:VEVENT
DTSTART;TZID=America/New_York:20300929T170500
DTEND;TZID=America/New_York:20300929T180500
DTSTAMP:20260423T092133
CREATED:20221103T212050Z
LAST-MODIFIED:20230608T164040Z
UID:10019307-1916931900-1916935500@gslookout.org
SUMMARY:Holy Eucharist\, Rite II
DESCRIPTION:Holy Eucharist Rite II with guitar and hymns
URL:https://gslookout.org/event/holy-eucharist-rite-ii-6/2030-09-29/
LOCATION:Chapel
CATEGORIES:Worship
END:VEVENT
BEGIN:VEVENT
DTSTART;TZID=America/New_York:20300930T083000
DTEND;TZID=America/New_York:20300930T090000
DTSTAMP:20260423T092133
CREATED:20230519T155339Z
LAST-MODIFIED:20230519T155340Z
UID:10019308-1916987400-1916989200@gslookout.org
SUMMARY:Morning Prayer
DESCRIPTION:With Kathleen Crevasse on Facebook
URL:https://gslookout.org/event/morning-prayer-2-2/2030-09-30/
LOCATION:Facebook
CATEGORIES:Worship
END:VEVENT
BEGIN:VEVENT
DTSTART;TZID=America/New_York:20301001T083000
DTEND;TZID=America/New_York:20301001T090000
DTSTAMP:20260423T092133
CREATED:20230519T155339Z
LAST-MODIFIED:20230519T155340Z
UID:10019309-1917073800-1917075600@gslookout.org
SUMMARY:Morning Prayer
DESCRIPTION:With Kathleen Crevasse on Facebook
URL:https://gslookout.org/event/morning-prayer-2-2/2030-10-01/
LOCATION:Facebook
CATEGORIES:Worship
END:VEVENT
BEGIN:VEVENT
DTSTART;TZID=America/New_York:20301001T100000
DTEND;TZID=America/New_York:20301001T103000
DTSTAMP:20260423T092133
CREATED:20221103T210703Z
LAST-MODIFIED:20230627T182417Z
UID:10019314-1917079200-1917081000@gslookout.org
SUMMARY:Intercessory Prayer Group
DESCRIPTION:
URL:https://gslookout.org/event/intercessory-prayer-group-2/2030-10-01/
LOCATION:Chapel
CATEGORIES:Formation,Worship
END:VEVENT
BEGIN:VEVENT
DTSTART;TZID=America/New_York:20301001T103000
DTEND;TZID=America/New_York:20301001T110000
DTSTAMP:20260423T092133
CREATED:20221103T210552Z
LAST-MODIFIED:20230627T182525Z
UID:10019315-1917081000-1917082800@gslookout.org
SUMMARY:Healing Service
DESCRIPTION:
URL:https://gslookout.org/event/healing-service-2/2030-10-01/
LOCATION:Chapel
CATEGORIES:Worship
END:VEVENT
BEGIN:VEVENT
DTSTART;TZID=America/New_York:20301002T083000
DTEND;TZID=America/New_York:20301002T090000
DTSTAMP:20260423T092133
CREATED:20230519T155339Z
LAST-MODIFIED:20230519T155340Z
UID:10019313-1917160200-1917162000@gslookout.org
SUMMARY:Morning Prayer
DESCRIPTION:With Kathleen Crevasse on Facebook
URL:https://gslookout.org/event/morning-prayer-2-2/2030-10-02/
LOCATION:Facebook
CATEGORIES:Worship
END:VEVENT
BEGIN:VEVENT
DTSTART;TZID=America/New_York:20301003T083000
DTEND;TZID=America/New_York:20301003T090000
DTSTAMP:20260423T092133
CREATED:20230519T155339Z
LAST-MODIFIED:20230519T155340Z
UID:10019317-1917246600-1917248400@gslookout.org
SUMMARY:Morning Prayer
DESCRIPTION:With Kathleen Crevasse on Facebook
URL:https://gslookout.org/event/morning-prayer-2-2/2030-10-03/
LOCATION:Facebook
CATEGORIES:Worship
END:VEVENT
BEGIN:VEVENT
DTSTART;TZID=America/New_York:20301004T083000
DTEND;TZID=America/New_York:20301004T090000
DTSTAMP:20260423T092133
CREATED:20230519T155339Z
LAST-MODIFIED:20230519T155340Z
UID:10019321-1917333000-1917334800@gslookout.org
SUMMARY:Morning Prayer
DESCRIPTION:With Kathleen Crevasse on Facebook
URL:https://gslookout.org/event/morning-prayer-2-2/2030-10-04/
LOCATION:Facebook
CATEGORIES:Worship
END:VEVENT
BEGIN:VEVENT
DTSTART;TZID=America/New_York:20301006T080000
DTEND;TZID=America/New_York:20301006T090000
DTSTAMP:20260423T092133
CREATED:20221103T212229Z
LAST-MODIFIED:20221103T212229Z
UID:10019324-1917504000-1917507600@gslookout.org
SUMMARY:Holy Eucharist\, Rite I
DESCRIPTION:Rite I\, spoken service at 8:00 am
URL:https://gslookout.org/event/holy-eucharist-rite-i/2030-10-06/
LOCATION:Church
CATEGORIES:Worship
END:VEVENT
END:VCALENDAR