BEGIN:VCALENDAR
VERSION:2.0
PRODID:-//Church of the Good Shepherd - ECPv6.15.20//NONSGML v1.0//EN
CALSCALE:GREGORIAN
METHOD:PUBLISH
X-ORIGINAL-URL:https://gslookout.org
X-WR-CALDESC:Events for Church of the Good Shepherd
REFRESH-INTERVAL;VALUE=DURATION:PT1H
X-Robots-Tag:noindex
X-PUBLISHED-TTL:PT1H
BEGIN:VTIMEZONE
TZID:America/New_York
BEGIN:DAYLIGHT
TZOFFSETFROM:-0500
TZOFFSETTO:-0400
TZNAME:EDT
DTSTART:20250309T070000
END:DAYLIGHT
BEGIN:STANDARD
TZOFFSETFROM:-0400
TZOFFSETTO:-0500
TZNAME:EST
DTSTART:20251102T060000
END:STANDARD
BEGIN:DAYLIGHT
TZOFFSETFROM:-0500
TZOFFSETTO:-0400
TZNAME:EDT
DTSTART:20260308T070000
END:DAYLIGHT
BEGIN:STANDARD
TZOFFSETFROM:-0400
TZOFFSETTO:-0500
TZNAME:EST
DTSTART:20261101T060000
END:STANDARD
BEGIN:DAYLIGHT
TZOFFSETFROM:-0500
TZOFFSETTO:-0400
TZNAME:EDT
DTSTART:20270314T070000
END:DAYLIGHT
BEGIN:STANDARD
TZOFFSETFROM:-0400
TZOFFSETTO:-0500
TZNAME:EST
DTSTART:20271107T060000
END:STANDARD
END:VTIMEZONE
BEGIN:VEVENT
DTSTART;TZID=America/New_York:20261013T100000
DTEND;TZID=America/New_York:20261013T103000
DTSTAMP:20260420T075449
CREATED:20221103T210703Z
LAST-MODIFIED:20230627T182417Z
UID:10008627-1791885600-1791887400@gslookout.org
SUMMARY:Intercessory Prayer Group
DESCRIPTION:
URL:https://gslookout.org/event/intercessory-prayer-group-2/2026-10-13/
LOCATION:Chapel
CATEGORIES:Formation,Worship
END:VEVENT
BEGIN:VEVENT
DTSTART;TZID=America/New_York:20261013T103000
DTEND;TZID=America/New_York:20261013T110000
DTSTAMP:20260420T075449
CREATED:20221103T210552Z
LAST-MODIFIED:20230627T182525Z
UID:10017466-1791887400-1791889200@gslookout.org
SUMMARY:Healing Service
DESCRIPTION:
URL:https://gslookout.org/event/healing-service-2/2026-10-13/
LOCATION:Chapel
CATEGORIES:Worship
END:VEVENT
BEGIN:VEVENT
DTSTART;TZID=America/New_York:20261014T083000
DTEND;TZID=America/New_York:20261014T090000
DTSTAMP:20260420T075449
CREATED:20230519T155339Z
LAST-MODIFIED:20230519T155340Z
UID:10006842-1791966600-1791968400@gslookout.org
SUMMARY:Morning Prayer
DESCRIPTION:With Kathleen Crevasse on Facebook
URL:https://gslookout.org/event/morning-prayer-2-2/2026-10-14/
LOCATION:Facebook
CATEGORIES:Worship
END:VEVENT
BEGIN:VEVENT
DTSTART;TZID=America/New_York:20261015T083000
DTEND;TZID=America/New_York:20261015T090000
DTSTAMP:20260420T075449
CREATED:20230519T155339Z
LAST-MODIFIED:20230519T155340Z
UID:10006843-1792053000-1792054800@gslookout.org
SUMMARY:Morning Prayer
DESCRIPTION:With Kathleen Crevasse on Facebook
URL:https://gslookout.org/event/morning-prayer-2-2/2026-10-15/
LOCATION:Facebook
CATEGORIES:Worship
END:VEVENT
BEGIN:VEVENT
DTSTART;TZID=America/New_York:20261016T083000
DTEND;TZID=America/New_York:20261016T090000
DTSTAMP:20260420T075449
CREATED:20230519T155339Z
LAST-MODIFIED:20230519T155340Z
UID:10006844-1792139400-1792141200@gslookout.org
SUMMARY:Morning Prayer
DESCRIPTION:With Kathleen Crevasse on Facebook
URL:https://gslookout.org/event/morning-prayer-2-2/2026-10-16/
LOCATION:Facebook
CATEGORIES:Worship
END:VEVENT
BEGIN:VEVENT
DTSTART;TZID=America/New_York:20261018T080000
DTEND;TZID=America/New_York:20261018T090000
DTSTAMP:20260420T075449
CREATED:20221103T212229Z
LAST-MODIFIED:20221103T212229Z
UID:10009418-1792310400-1792314000@gslookout.org
SUMMARY:Holy Eucharist\, Rite I
DESCRIPTION:Rite I\, spoken service at 8:00 am
URL:https://gslookout.org/event/holy-eucharist-rite-i/2026-10-18/
LOCATION:Church
CATEGORIES:Worship
END:VEVENT
BEGIN:VEVENT
DTSTART;TZID=America/New_York:20261018T103000
DTEND;TZID=America/New_York:20261018T120000
DTSTAMP:20260420T075449
CREATED:20221103T211341Z
LAST-MODIFIED:20221103T211341Z
UID:10008894-1792319400-1792324800@gslookout.org
SUMMARY:Holy Eucharist\, Rite II
DESCRIPTION:Rite II with hymns and choir at 10:30 am
URL:https://gslookout.org/event/holy-eucharist-rite-ii-4/2026-10-18/
LOCATION:Church
CATEGORIES:Worship
END:VEVENT
BEGIN:VEVENT
DTSTART;TZID=America/New_York:20261018T170500
DTEND;TZID=America/New_York:20261018T180500
DTSTAMP:20260420T075449
CREATED:20221103T212050Z
LAST-MODIFIED:20230608T164040Z
UID:10014148-1792343100-1792346700@gslookout.org
SUMMARY:Holy Eucharist\, Rite II
DESCRIPTION:Holy Eucharist Rite II with guitar and hymns
URL:https://gslookout.org/event/holy-eucharist-rite-ii-6/2026-10-18/
LOCATION:Chapel
CATEGORIES:Worship
END:VEVENT
BEGIN:VEVENT
DTSTART;TZID=America/New_York:20261019T083000
DTEND;TZID=America/New_York:20261019T090000
DTSTAMP:20260420T075449
CREATED:20230519T155339Z
LAST-MODIFIED:20230519T155340Z
UID:10006845-1792398600-1792400400@gslookout.org
SUMMARY:Morning Prayer
DESCRIPTION:With Kathleen Crevasse on Facebook
URL:https://gslookout.org/event/morning-prayer-2-2/2026-10-19/
LOCATION:Facebook
CATEGORIES:Worship
END:VEVENT
BEGIN:VEVENT
DTSTART;TZID=America/New_York:20261020T083000
DTEND;TZID=America/New_York:20261020T090000
DTSTAMP:20260420T075449
CREATED:20230519T155339Z
LAST-MODIFIED:20230519T155340Z
UID:10006846-1792485000-1792486800@gslookout.org
SUMMARY:Morning Prayer
DESCRIPTION:With Kathleen Crevasse on Facebook
URL:https://gslookout.org/event/morning-prayer-2-2/2026-10-20/
LOCATION:Facebook
CATEGORIES:Worship
END:VEVENT
BEGIN:VEVENT
DTSTART;TZID=America/New_York:20261020T100000
DTEND;TZID=America/New_York:20261020T103000
DTSTAMP:20260420T075449
CREATED:20221103T210703Z
LAST-MODIFIED:20230627T182417Z
UID:10008628-1792490400-1792492200@gslookout.org
SUMMARY:Intercessory Prayer Group
DESCRIPTION:
URL:https://gslookout.org/event/intercessory-prayer-group-2/2026-10-20/
LOCATION:Chapel
CATEGORIES:Formation,Worship
END:VEVENT
BEGIN:VEVENT
DTSTART;TZID=America/New_York:20261020T103000
DTEND;TZID=America/New_York:20261020T110000
DTSTAMP:20260420T075449
CREATED:20221103T210552Z
LAST-MODIFIED:20230627T182525Z
UID:10017467-1792492200-1792494000@gslookout.org
SUMMARY:Healing Service
DESCRIPTION:
URL:https://gslookout.org/event/healing-service-2/2026-10-20/
LOCATION:Chapel
CATEGORIES:Worship
END:VEVENT
BEGIN:VEVENT
DTSTART;TZID=America/New_York:20261021T083000
DTEND;TZID=America/New_York:20261021T090000
DTSTAMP:20260420T075449
CREATED:20230519T155339Z
LAST-MODIFIED:20230519T155340Z
UID:10006847-1792571400-1792573200@gslookout.org
SUMMARY:Morning Prayer
DESCRIPTION:With Kathleen Crevasse on Facebook
URL:https://gslookout.org/event/morning-prayer-2-2/2026-10-21/
LOCATION:Facebook
CATEGORIES:Worship
END:VEVENT
BEGIN:VEVENT
DTSTART;TZID=America/New_York:20261022T083000
DTEND;TZID=America/New_York:20261022T090000
DTSTAMP:20260420T075449
CREATED:20230519T155339Z
LAST-MODIFIED:20230519T155340Z
UID:10006848-1792657800-1792659600@gslookout.org
SUMMARY:Morning Prayer
DESCRIPTION:With Kathleen Crevasse on Facebook
URL:https://gslookout.org/event/morning-prayer-2-2/2026-10-22/
LOCATION:Facebook
CATEGORIES:Worship
END:VEVENT
BEGIN:VEVENT
DTSTART;TZID=America/New_York:20261023T083000
DTEND;TZID=America/New_York:20261023T090000
DTSTAMP:20260420T075449
CREATED:20230519T155339Z
LAST-MODIFIED:20230519T155340Z
UID:10006849-1792744200-1792746000@gslookout.org
SUMMARY:Morning Prayer
DESCRIPTION:With Kathleen Crevasse on Facebook
URL:https://gslookout.org/event/morning-prayer-2-2/2026-10-23/
LOCATION:Facebook
CATEGORIES:Worship
END:VEVENT
BEGIN:VEVENT
DTSTART;TZID=America/New_York:20261025T080000
DTEND;TZID=America/New_York:20261025T090000
DTSTAMP:20260420T075449
CREATED:20221103T212229Z
LAST-MODIFIED:20221103T212229Z
UID:10009419-1792915200-1792918800@gslookout.org
SUMMARY:Holy Eucharist\, Rite I
DESCRIPTION:Rite I\, spoken service at 8:00 am
URL:https://gslookout.org/event/holy-eucharist-rite-i/2026-10-25/
LOCATION:Church
CATEGORIES:Worship
END:VEVENT
BEGIN:VEVENT
DTSTART;TZID=America/New_York:20261025T103000
DTEND;TZID=America/New_York:20261025T120000
DTSTAMP:20260420T075449
CREATED:20221103T211341Z
LAST-MODIFIED:20221103T211341Z
UID:10008895-1792924200-1792929600@gslookout.org
SUMMARY:Holy Eucharist\, Rite II
DESCRIPTION:Rite II with hymns and choir at 10:30 am
URL:https://gslookout.org/event/holy-eucharist-rite-ii-4/2026-10-25/
LOCATION:Church
CATEGORIES:Worship
END:VEVENT
BEGIN:VEVENT
DTSTART;TZID=America/New_York:20261025T170500
DTEND;TZID=America/New_York:20261025T180500
DTSTAMP:20260420T075450
CREATED:20221103T212050Z
LAST-MODIFIED:20230608T164040Z
UID:10014149-1792947900-1792951500@gslookout.org
SUMMARY:Holy Eucharist\, Rite II
DESCRIPTION:Holy Eucharist Rite II with guitar and hymns
URL:https://gslookout.org/event/holy-eucharist-rite-ii-6/2026-10-25/
LOCATION:Chapel
CATEGORIES:Worship
END:VEVENT
BEGIN:VEVENT
DTSTART;TZID=America/New_York:20261026T083000
DTEND;TZID=America/New_York:20261026T090000
DTSTAMP:20260420T075450
CREATED:20230519T155339Z
LAST-MODIFIED:20230519T155340Z
UID:10006850-1793003400-1793005200@gslookout.org
SUMMARY:Morning Prayer
DESCRIPTION:With Kathleen Crevasse on Facebook
URL:https://gslookout.org/event/morning-prayer-2-2/2026-10-26/
LOCATION:Facebook
CATEGORIES:Worship
END:VEVENT
BEGIN:VEVENT
DTSTART;TZID=America/New_York:20261027T083000
DTEND;TZID=America/New_York:20261027T090000
DTSTAMP:20260420T075450
CREATED:20230519T155339Z
LAST-MODIFIED:20230519T155340Z
UID:10006851-1793089800-1793091600@gslookout.org
SUMMARY:Morning Prayer
DESCRIPTION:With Kathleen Crevasse on Facebook
URL:https://gslookout.org/event/morning-prayer-2-2/2026-10-27/
LOCATION:Facebook
CATEGORIES:Worship
END:VEVENT
BEGIN:VEVENT
DTSTART;TZID=America/New_York:20261027T100000
DTEND;TZID=America/New_York:20261027T103000
DTSTAMP:20260420T075450
CREATED:20221103T210703Z
LAST-MODIFIED:20230627T182417Z
UID:10008629-1793095200-1793097000@gslookout.org
SUMMARY:Intercessory Prayer Group
DESCRIPTION:
URL:https://gslookout.org/event/intercessory-prayer-group-2/2026-10-27/
LOCATION:Chapel
CATEGORIES:Formation,Worship
END:VEVENT
BEGIN:VEVENT
DTSTART;TZID=America/New_York:20261027T103000
DTEND;TZID=America/New_York:20261027T110000
DTSTAMP:20260420T075450
CREATED:20221103T210552Z
LAST-MODIFIED:20230627T182525Z
UID:10017468-1793097000-1793098800@gslookout.org
SUMMARY:Healing Service
DESCRIPTION:
URL:https://gslookout.org/event/healing-service-2/2026-10-27/
LOCATION:Chapel
CATEGORIES:Worship
END:VEVENT
BEGIN:VEVENT
DTSTART;TZID=America/New_York:20261028T083000
DTEND;TZID=America/New_York:20261028T090000
DTSTAMP:20260420T075450
CREATED:20230519T155339Z
LAST-MODIFIED:20230519T155340Z
UID:10006852-1793176200-1793178000@gslookout.org
SUMMARY:Morning Prayer
DESCRIPTION:With Kathleen Crevasse on Facebook
URL:https://gslookout.org/event/morning-prayer-2-2/2026-10-28/
LOCATION:Facebook
CATEGORIES:Worship
END:VEVENT
BEGIN:VEVENT
DTSTART;TZID=America/New_York:20261029T083000
DTEND;TZID=America/New_York:20261029T090000
DTSTAMP:20260420T075450
CREATED:20230519T155339Z
LAST-MODIFIED:20230519T155340Z
UID:10006853-1793262600-1793264400@gslookout.org
SUMMARY:Morning Prayer
DESCRIPTION:With Kathleen Crevasse on Facebook
URL:https://gslookout.org/event/morning-prayer-2-2/2026-10-29/
LOCATION:Facebook
CATEGORIES:Worship
END:VEVENT
BEGIN:VEVENT
DTSTART;TZID=America/New_York:20261030T083000
DTEND;TZID=America/New_York:20261030T090000
DTSTAMP:20260420T075450
CREATED:20230519T155339Z
LAST-MODIFIED:20230519T155340Z
UID:10006854-1793349000-1793350800@gslookout.org
SUMMARY:Morning Prayer
DESCRIPTION:With Kathleen Crevasse on Facebook
URL:https://gslookout.org/event/morning-prayer-2-2/2026-10-30/
LOCATION:Facebook
CATEGORIES:Worship
END:VEVENT
BEGIN:VEVENT
DTSTART;TZID=America/New_York:20261101T080000
DTEND;TZID=America/New_York:20261101T090000
DTSTAMP:20260420T075450
CREATED:20221103T212229Z
LAST-MODIFIED:20221103T212229Z
UID:10009420-1793520000-1793523600@gslookout.org
SUMMARY:Holy Eucharist\, Rite I
DESCRIPTION:Rite I\, spoken service at 8:00 am
URL:https://gslookout.org/event/holy-eucharist-rite-i/2026-11-01/
LOCATION:Church
CATEGORIES:Worship
END:VEVENT
BEGIN:VEVENT
DTSTART;TZID=America/New_York:20261101T103000
DTEND;TZID=America/New_York:20261101T120000
DTSTAMP:20260420T075450
CREATED:20221103T211341Z
LAST-MODIFIED:20221103T211341Z
UID:10008896-1793529000-1793534400@gslookout.org
SUMMARY:Holy Eucharist\, Rite II
DESCRIPTION:Rite II with hymns and choir at 10:30 am
URL:https://gslookout.org/event/holy-eucharist-rite-ii-4/2026-11-01/
LOCATION:Church
CATEGORIES:Worship
END:VEVENT
BEGIN:VEVENT
DTSTART;TZID=America/New_York:20261101T170500
DTEND;TZID=America/New_York:20261101T180500
DTSTAMP:20260420T075450
CREATED:20221103T212050Z
LAST-MODIFIED:20230608T164040Z
UID:10014150-1793552700-1793556300@gslookout.org
SUMMARY:Holy Eucharist\, Rite II
DESCRIPTION:Holy Eucharist Rite II with guitar and hymns
URL:https://gslookout.org/event/holy-eucharist-rite-ii-6/2026-11-01/
LOCATION:Chapel
CATEGORIES:Worship
END:VEVENT
BEGIN:VEVENT
DTSTART;TZID=America/New_York:20261102T083000
DTEND;TZID=America/New_York:20261102T090000
DTSTAMP:20260420T075450
CREATED:20230519T155339Z
LAST-MODIFIED:20230519T155340Z
UID:10006855-1793608200-1793610000@gslookout.org
SUMMARY:Morning Prayer
DESCRIPTION:With Kathleen Crevasse on Facebook
URL:https://gslookout.org/event/morning-prayer-2-2/2026-11-02/
LOCATION:Facebook
CATEGORIES:Worship
END:VEVENT
BEGIN:VEVENT
DTSTART;TZID=America/New_York:20261103T083000
DTEND;TZID=America/New_York:20261103T090000
DTSTAMP:20260420T075450
CREATED:20230519T155339Z
LAST-MODIFIED:20230519T155340Z
UID:10006856-1793694600-1793696400@gslookout.org
SUMMARY:Morning Prayer
DESCRIPTION:With Kathleen Crevasse on Facebook
URL:https://gslookout.org/event/morning-prayer-2-2/2026-11-03/
LOCATION:Facebook
CATEGORIES:Worship
END:VEVENT
END:VCALENDAR