BEGIN:VCALENDAR
VERSION:2.0
PRODID:-//Church of the Good Shepherd - ECPv6.15.20//NONSGML v1.0//EN
CALSCALE:GREGORIAN
METHOD:PUBLISH
X-ORIGINAL-URL:https://gslookout.org
X-WR-CALDESC:Events for Church of the Good Shepherd
REFRESH-INTERVAL;VALUE=DURATION:PT1H
X-Robots-Tag:noindex
X-PUBLISHED-TTL:PT1H
BEGIN:VTIMEZONE
TZID:America/New_York
BEGIN:DAYLIGHT
TZOFFSETFROM:-0500
TZOFFSETTO:-0400
TZNAME:EDT
DTSTART:20250309T070000
END:DAYLIGHT
BEGIN:STANDARD
TZOFFSETFROM:-0400
TZOFFSETTO:-0500
TZNAME:EST
DTSTART:20251102T060000
END:STANDARD
BEGIN:DAYLIGHT
TZOFFSETFROM:-0500
TZOFFSETTO:-0400
TZNAME:EDT
DTSTART:20260308T070000
END:DAYLIGHT
BEGIN:STANDARD
TZOFFSETFROM:-0400
TZOFFSETTO:-0500
TZNAME:EST
DTSTART:20261101T060000
END:STANDARD
BEGIN:DAYLIGHT
TZOFFSETFROM:-0500
TZOFFSETTO:-0400
TZNAME:EDT
DTSTART:20270314T070000
END:DAYLIGHT
BEGIN:STANDARD
TZOFFSETFROM:-0400
TZOFFSETTO:-0500
TZNAME:EST
DTSTART:20271107T060000
END:STANDARD
END:VTIMEZONE
BEGIN:VEVENT
DTSTART;TZID=America/New_York:20260902T183000
DTEND;TZID=America/New_York:20260902T193000
DTSTAMP:20260424T063556
CREATED:20230127T163955Z
LAST-MODIFIED:20230127T165113Z
UID:10012764-1788373800-1788377400@gslookout.org
SUMMARY:Wednesday Night Youth
DESCRIPTION:
URL:https://gslookout.org/event/wednesday-night-youth/2026-09-02/
LOCATION:Youth Building
CATEGORIES:Formation,Youth
END:VEVENT
BEGIN:VEVENT
DTSTART;TZID=America/New_York:20260906T103000
DTEND;TZID=America/New_York:20260906T233000
DTSTAMP:20260424T063556
CREATED:20230908T210148Z
LAST-MODIFIED:20230908T210149Z
UID:10014581-1788690600-1788737400@gslookout.org
SUMMARY:Youth Breakfast & Sunday School
DESCRIPTION:
URL:https://gslookout.org/event/youth-breakfast-sunday-school-2/2026-09-06/
LOCATION:Youth Building
CATEGORIES:Formation,Youth
END:VEVENT
BEGIN:VEVENT
DTSTART;TZID=America/New_York:20260909T183000
DTEND;TZID=America/New_York:20260909T193000
DTSTAMP:20260424T063556
CREATED:20230127T163955Z
LAST-MODIFIED:20230127T165113Z
UID:10012765-1788978600-1788982200@gslookout.org
SUMMARY:Wednesday Night Youth
DESCRIPTION:
URL:https://gslookout.org/event/wednesday-night-youth/2026-09-09/
LOCATION:Youth Building
CATEGORIES:Formation,Youth
END:VEVENT
BEGIN:VEVENT
DTSTART;TZID=America/New_York:20260913T103000
DTEND;TZID=America/New_York:20260913T233000
DTSTAMP:20260424T063556
CREATED:20230908T210148Z
LAST-MODIFIED:20230908T210149Z
UID:10014582-1789295400-1789342200@gslookout.org
SUMMARY:Youth Breakfast & Sunday School
DESCRIPTION:
URL:https://gslookout.org/event/youth-breakfast-sunday-school-2/2026-09-13/
LOCATION:Youth Building
CATEGORIES:Formation,Youth
END:VEVENT
BEGIN:VEVENT
DTSTART;TZID=America/New_York:20260916T183000
DTEND;TZID=America/New_York:20260916T193000
DTSTAMP:20260424T063556
CREATED:20230127T163955Z
LAST-MODIFIED:20230127T165113Z
UID:10012766-1789583400-1789587000@gslookout.org
SUMMARY:Wednesday Night Youth
DESCRIPTION:
URL:https://gslookout.org/event/wednesday-night-youth/2026-09-16/
LOCATION:Youth Building
CATEGORIES:Formation,Youth
END:VEVENT
BEGIN:VEVENT
DTSTART;TZID=America/New_York:20260920T103000
DTEND;TZID=America/New_York:20260920T233000
DTSTAMP:20260424T063556
CREATED:20230908T210148Z
LAST-MODIFIED:20230908T210149Z
UID:10014583-1789900200-1789947000@gslookout.org
SUMMARY:Youth Breakfast & Sunday School
DESCRIPTION:
URL:https://gslookout.org/event/youth-breakfast-sunday-school-2/2026-09-20/
LOCATION:Youth Building
CATEGORIES:Formation,Youth
END:VEVENT
BEGIN:VEVENT
DTSTART;TZID=America/New_York:20260923T183000
DTEND;TZID=America/New_York:20260923T193000
DTSTAMP:20260424T063556
CREATED:20230127T163955Z
LAST-MODIFIED:20230127T165113Z
UID:10012767-1790188200-1790191800@gslookout.org
SUMMARY:Wednesday Night Youth
DESCRIPTION:
URL:https://gslookout.org/event/wednesday-night-youth/2026-09-23/
LOCATION:Youth Building
CATEGORIES:Formation,Youth
END:VEVENT
BEGIN:VEVENT
DTSTART;TZID=America/New_York:20260927T103000
DTEND;TZID=America/New_York:20260927T233000
DTSTAMP:20260424T063556
CREATED:20230908T210148Z
LAST-MODIFIED:20230908T210149Z
UID:10014584-1790505000-1790551800@gslookout.org
SUMMARY:Youth Breakfast & Sunday School
DESCRIPTION:
URL:https://gslookout.org/event/youth-breakfast-sunday-school-2/2026-09-27/
LOCATION:Youth Building
CATEGORIES:Formation,Youth
END:VEVENT
BEGIN:VEVENT
DTSTART;TZID=America/New_York:20260930T183000
DTEND;TZID=America/New_York:20260930T193000
DTSTAMP:20260424T063556
CREATED:20230127T163955Z
LAST-MODIFIED:20230127T165113Z
UID:10012768-1790793000-1790796600@gslookout.org
SUMMARY:Wednesday Night Youth
DESCRIPTION:
URL:https://gslookout.org/event/wednesday-night-youth/2026-09-30/
LOCATION:Youth Building
CATEGORIES:Formation,Youth
END:VEVENT
END:VCALENDAR