BEGIN:VCALENDAR
VERSION:2.0
PRODID:-//Church of the Good Shepherd - ECPv6.15.20//NONSGML v1.0//EN
CALSCALE:GREGORIAN
METHOD:PUBLISH
X-WR-CALNAME:Church of the Good Shepherd
X-ORIGINAL-URL:https://gslookout.org
X-WR-CALDESC:Events for Church of the Good Shepherd
REFRESH-INTERVAL;VALUE=DURATION:PT1H
X-Robots-Tag:noindex
X-PUBLISHED-TTL:PT1H
BEGIN:VTIMEZONE
TZID:America/New_York
BEGIN:DAYLIGHT
TZOFFSETFROM:-0500
TZOFFSETTO:-0400
TZNAME:EDT
DTSTART:20260308T070000
END:DAYLIGHT
BEGIN:STANDARD
TZOFFSETFROM:-0400
TZOFFSETTO:-0500
TZNAME:EST
DTSTART:20261101T060000
END:STANDARD
BEGIN:DAYLIGHT
TZOFFSETFROM:-0500
TZOFFSETTO:-0400
TZNAME:EDT
DTSTART:20270314T070000
END:DAYLIGHT
BEGIN:STANDARD
TZOFFSETFROM:-0400
TZOFFSETTO:-0500
TZNAME:EST
DTSTART:20271107T060000
END:STANDARD
BEGIN:DAYLIGHT
TZOFFSETFROM:-0500
TZOFFSETTO:-0400
TZNAME:EDT
DTSTART:20280312T070000
END:DAYLIGHT
BEGIN:STANDARD
TZOFFSETFROM:-0400
TZOFFSETTO:-0500
TZNAME:EST
DTSTART:20281105T060000
END:STANDARD
END:VTIMEZONE
BEGIN:VEVENT
DTSTART;TZID=America/New_York:20270516T103000
DTEND;TZID=America/New_York:20270516T233000
DTSTAMP:20260424T113831
CREATED:20230908T210148Z
LAST-MODIFIED:20230908T210149Z
UID:10014617-1810463400-1810510200@gslookout.org
SUMMARY:Youth Breakfast & Sunday School
DESCRIPTION:
URL:https://gslookout.org/event/youth-breakfast-sunday-school-2/2027-05-16/
LOCATION:Youth Building
CATEGORIES:Formation,Youth
END:VEVENT
BEGIN:VEVENT
DTSTART;TZID=America/New_York:20270519T183000
DTEND;TZID=America/New_York:20270519T193000
DTSTAMP:20260424T113831
CREATED:20230127T163955Z
LAST-MODIFIED:20230127T165113Z
UID:10012801-1810751400-1810755000@gslookout.org
SUMMARY:Wednesday Night Youth
DESCRIPTION:
URL:https://gslookout.org/event/wednesday-night-youth/2027-05-19/
LOCATION:Youth Building
CATEGORIES:Formation,Youth
END:VEVENT
BEGIN:VEVENT
DTSTART;TZID=America/New_York:20270523T103000
DTEND;TZID=America/New_York:20270523T233000
DTSTAMP:20260424T113831
CREATED:20230908T210148Z
LAST-MODIFIED:20230908T210149Z
UID:10014618-1811068200-1811115000@gslookout.org
SUMMARY:Youth Breakfast & Sunday School
DESCRIPTION:
URL:https://gslookout.org/event/youth-breakfast-sunday-school-2/2027-05-23/
LOCATION:Youth Building
CATEGORIES:Formation,Youth
END:VEVENT
BEGIN:VEVENT
DTSTART;TZID=America/New_York:20270526T183000
DTEND;TZID=America/New_York:20270526T193000
DTSTAMP:20260424T113831
CREATED:20230127T163955Z
LAST-MODIFIED:20230127T165113Z
UID:10012802-1811356200-1811359800@gslookout.org
SUMMARY:Wednesday Night Youth
DESCRIPTION:
URL:https://gslookout.org/event/wednesday-night-youth/2027-05-26/
LOCATION:Youth Building
CATEGORIES:Formation,Youth
END:VEVENT
BEGIN:VEVENT
DTSTART;TZID=America/New_York:20270530T103000
DTEND;TZID=America/New_York:20270530T233000
DTSTAMP:20260424T113831
CREATED:20230908T210148Z
LAST-MODIFIED:20230908T210149Z
UID:10014619-1811673000-1811719800@gslookout.org
SUMMARY:Youth Breakfast & Sunday School
DESCRIPTION:
URL:https://gslookout.org/event/youth-breakfast-sunday-school-2/2027-05-30/
LOCATION:Youth Building
CATEGORIES:Formation,Youth
END:VEVENT
BEGIN:VEVENT
DTSTART;TZID=America/New_York:20270602T183000
DTEND;TZID=America/New_York:20270602T193000
DTSTAMP:20260424T113831
CREATED:20230127T163955Z
LAST-MODIFIED:20230127T165113Z
UID:10012803-1811961000-1811964600@gslookout.org
SUMMARY:Wednesday Night Youth
DESCRIPTION:
URL:https://gslookout.org/event/wednesday-night-youth/2027-06-02/
LOCATION:Youth Building
CATEGORIES:Formation,Youth
END:VEVENT
BEGIN:VEVENT
DTSTART;TZID=America/New_York:20270606T103000
DTEND;TZID=America/New_York:20270606T233000
DTSTAMP:20260424T113831
CREATED:20230908T210148Z
LAST-MODIFIED:20230908T210149Z
UID:10014620-1812277800-1812324600@gslookout.org
SUMMARY:Youth Breakfast & Sunday School
DESCRIPTION:
URL:https://gslookout.org/event/youth-breakfast-sunday-school-2/2027-06-06/
LOCATION:Youth Building
CATEGORIES:Formation,Youth
END:VEVENT
BEGIN:VEVENT
DTSTART;TZID=America/New_York:20270609T183000
DTEND;TZID=America/New_York:20270609T193000
DTSTAMP:20260424T113831
CREATED:20230127T163955Z
LAST-MODIFIED:20230127T165113Z
UID:10012804-1812565800-1812569400@gslookout.org
SUMMARY:Wednesday Night Youth
DESCRIPTION:
URL:https://gslookout.org/event/wednesday-night-youth/2027-06-09/
LOCATION:Youth Building
CATEGORIES:Formation,Youth
END:VEVENT
BEGIN:VEVENT
DTSTART;TZID=America/New_York:20270613T103000
DTEND;TZID=America/New_York:20270613T233000
DTSTAMP:20260424T113831
CREATED:20230908T210148Z
LAST-MODIFIED:20230908T210149Z
UID:10014621-1812882600-1812929400@gslookout.org
SUMMARY:Youth Breakfast & Sunday School
DESCRIPTION:
URL:https://gslookout.org/event/youth-breakfast-sunday-school-2/2027-06-13/
LOCATION:Youth Building
CATEGORIES:Formation,Youth
END:VEVENT
BEGIN:VEVENT
DTSTART;TZID=America/New_York:20270616T183000
DTEND;TZID=America/New_York:20270616T193000
DTSTAMP:20260424T113831
CREATED:20230127T163955Z
LAST-MODIFIED:20230127T165113Z
UID:10012805-1813170600-1813174200@gslookout.org
SUMMARY:Wednesday Night Youth
DESCRIPTION:
URL:https://gslookout.org/event/wednesday-night-youth/2027-06-16/
LOCATION:Youth Building
CATEGORIES:Formation,Youth
END:VEVENT
BEGIN:VEVENT
DTSTART;TZID=America/New_York:20270620T103000
DTEND;TZID=America/New_York:20270620T233000
DTSTAMP:20260424T113831
CREATED:20230908T210148Z
LAST-MODIFIED:20230908T210149Z
UID:10014622-1813487400-1813534200@gslookout.org
SUMMARY:Youth Breakfast & Sunday School
DESCRIPTION:
URL:https://gslookout.org/event/youth-breakfast-sunday-school-2/2027-06-20/
LOCATION:Youth Building
CATEGORIES:Formation,Youth
END:VEVENT
BEGIN:VEVENT
DTSTART;TZID=America/New_York:20270623T183000
DTEND;TZID=America/New_York:20270623T193000
DTSTAMP:20260424T113831
CREATED:20230127T163955Z
LAST-MODIFIED:20230127T165113Z
UID:10012806-1813775400-1813779000@gslookout.org
SUMMARY:Wednesday Night Youth
DESCRIPTION:
URL:https://gslookout.org/event/wednesday-night-youth/2027-06-23/
LOCATION:Youth Building
CATEGORIES:Formation,Youth
END:VEVENT
BEGIN:VEVENT
DTSTART;TZID=America/New_York:20270627T103000
DTEND;TZID=America/New_York:20270627T233000
DTSTAMP:20260424T113831
CREATED:20230908T210148Z
LAST-MODIFIED:20230908T210149Z
UID:10014623-1814092200-1814139000@gslookout.org
SUMMARY:Youth Breakfast & Sunday School
DESCRIPTION:
URL:https://gslookout.org/event/youth-breakfast-sunday-school-2/2027-06-27/
LOCATION:Youth Building
CATEGORIES:Formation,Youth
END:VEVENT
BEGIN:VEVENT
DTSTART;TZID=America/New_York:20270630T183000
DTEND;TZID=America/New_York:20270630T193000
DTSTAMP:20260424T113831
CREATED:20230127T163955Z
LAST-MODIFIED:20230127T165113Z
UID:10012807-1814380200-1814383800@gslookout.org
SUMMARY:Wednesday Night Youth
DESCRIPTION:
URL:https://gslookout.org/event/wednesday-night-youth/2027-06-30/
LOCATION:Youth Building
CATEGORIES:Formation,Youth
END:VEVENT
BEGIN:VEVENT
DTSTART;TZID=America/New_York:20270704T103000
DTEND;TZID=America/New_York:20270704T233000
DTSTAMP:20260424T113831
CREATED:20230908T210148Z
LAST-MODIFIED:20230908T210149Z
UID:10014624-1814697000-1814743800@gslookout.org
SUMMARY:Youth Breakfast & Sunday School
DESCRIPTION:
URL:https://gslookout.org/event/youth-breakfast-sunday-school-2/2027-07-04/
LOCATION:Youth Building
CATEGORIES:Formation,Youth
END:VEVENT
BEGIN:VEVENT
DTSTART;TZID=America/New_York:20270707T183000
DTEND;TZID=America/New_York:20270707T193000
DTSTAMP:20260424T113831
CREATED:20230127T163955Z
LAST-MODIFIED:20230127T165113Z
UID:10012808-1814985000-1814988600@gslookout.org
SUMMARY:Wednesday Night Youth
DESCRIPTION:
URL:https://gslookout.org/event/wednesday-night-youth/2027-07-07/
LOCATION:Youth Building
CATEGORIES:Formation,Youth
END:VEVENT
BEGIN:VEVENT
DTSTART;TZID=America/New_York:20270711T103000
DTEND;TZID=America/New_York:20270711T233000
DTSTAMP:20260424T113831
CREATED:20230908T210148Z
LAST-MODIFIED:20230908T210149Z
UID:10014625-1815301800-1815348600@gslookout.org
SUMMARY:Youth Breakfast & Sunday School
DESCRIPTION:
URL:https://gslookout.org/event/youth-breakfast-sunday-school-2/2027-07-11/
LOCATION:Youth Building
CATEGORIES:Formation,Youth
END:VEVENT
BEGIN:VEVENT
DTSTART;TZID=America/New_York:20270714T183000
DTEND;TZID=America/New_York:20270714T193000
DTSTAMP:20260424T113831
CREATED:20230127T163955Z
LAST-MODIFIED:20230127T165113Z
UID:10012809-1815589800-1815593400@gslookout.org
SUMMARY:Wednesday Night Youth
DESCRIPTION:
URL:https://gslookout.org/event/wednesday-night-youth/2027-07-14/
LOCATION:Youth Building
CATEGORIES:Formation,Youth
END:VEVENT
BEGIN:VEVENT
DTSTART;TZID=America/New_York:20270718T103000
DTEND;TZID=America/New_York:20270718T233000
DTSTAMP:20260424T113831
CREATED:20230908T210148Z
LAST-MODIFIED:20230908T210149Z
UID:10014626-1815906600-1815953400@gslookout.org
SUMMARY:Youth Breakfast & Sunday School
DESCRIPTION:
URL:https://gslookout.org/event/youth-breakfast-sunday-school-2/2027-07-18/
LOCATION:Youth Building
CATEGORIES:Formation,Youth
END:VEVENT
BEGIN:VEVENT
DTSTART;TZID=America/New_York:20270721T183000
DTEND;TZID=America/New_York:20270721T193000
DTSTAMP:20260424T113831
CREATED:20230127T163955Z
LAST-MODIFIED:20230127T165113Z
UID:10012810-1816194600-1816198200@gslookout.org
SUMMARY:Wednesday Night Youth
DESCRIPTION:
URL:https://gslookout.org/event/wednesday-night-youth/2027-07-21/
LOCATION:Youth Building
CATEGORIES:Formation,Youth
END:VEVENT
BEGIN:VEVENT
DTSTART;TZID=America/New_York:20270725T103000
DTEND;TZID=America/New_York:20270725T233000
DTSTAMP:20260424T113831
CREATED:20230908T210148Z
LAST-MODIFIED:20230908T210149Z
UID:10014627-1816511400-1816558200@gslookout.org
SUMMARY:Youth Breakfast & Sunday School
DESCRIPTION:
URL:https://gslookout.org/event/youth-breakfast-sunday-school-2/2027-07-25/
LOCATION:Youth Building
CATEGORIES:Formation,Youth
END:VEVENT
BEGIN:VEVENT
DTSTART;TZID=America/New_York:20270728T183000
DTEND;TZID=America/New_York:20270728T193000
DTSTAMP:20260424T113831
CREATED:20230127T163955Z
LAST-MODIFIED:20230127T165113Z
UID:10012811-1816799400-1816803000@gslookout.org
SUMMARY:Wednesday Night Youth
DESCRIPTION:
URL:https://gslookout.org/event/wednesday-night-youth/2027-07-28/
LOCATION:Youth Building
CATEGORIES:Formation,Youth
END:VEVENT
BEGIN:VEVENT
DTSTART;TZID=America/New_York:20270801T103000
DTEND;TZID=America/New_York:20270801T233000
DTSTAMP:20260424T113831
CREATED:20230908T210148Z
LAST-MODIFIED:20230908T210149Z
UID:10014628-1817116200-1817163000@gslookout.org
SUMMARY:Youth Breakfast & Sunday School
DESCRIPTION:
URL:https://gslookout.org/event/youth-breakfast-sunday-school-2/2027-08-01/
LOCATION:Youth Building
CATEGORIES:Formation,Youth
END:VEVENT
BEGIN:VEVENT
DTSTART;TZID=America/New_York:20270804T183000
DTEND;TZID=America/New_York:20270804T193000
DTSTAMP:20260424T113831
CREATED:20230127T163955Z
LAST-MODIFIED:20230127T165113Z
UID:10012812-1817404200-1817407800@gslookout.org
SUMMARY:Wednesday Night Youth
DESCRIPTION:
URL:https://gslookout.org/event/wednesday-night-youth/2027-08-04/
LOCATION:Youth Building
CATEGORIES:Formation,Youth
END:VEVENT
BEGIN:VEVENT
DTSTART;TZID=America/New_York:20270808T103000
DTEND;TZID=America/New_York:20270808T233000
DTSTAMP:20260424T113831
CREATED:20230908T210148Z
LAST-MODIFIED:20230908T210149Z
UID:10014629-1817721000-1817767800@gslookout.org
SUMMARY:Youth Breakfast & Sunday School
DESCRIPTION:
URL:https://gslookout.org/event/youth-breakfast-sunday-school-2/2027-08-08/
LOCATION:Youth Building
CATEGORIES:Formation,Youth
END:VEVENT
BEGIN:VEVENT
DTSTART;TZID=America/New_York:20270811T183000
DTEND;TZID=America/New_York:20270811T193000
DTSTAMP:20260424T113831
CREATED:20230127T163955Z
LAST-MODIFIED:20230127T165113Z
UID:10012813-1818009000-1818012600@gslookout.org
SUMMARY:Wednesday Night Youth
DESCRIPTION:
URL:https://gslookout.org/event/wednesday-night-youth/2027-08-11/
LOCATION:Youth Building
CATEGORIES:Formation,Youth
END:VEVENT
BEGIN:VEVENT
DTSTART;TZID=America/New_York:20270815T103000
DTEND;TZID=America/New_York:20270815T233000
DTSTAMP:20260424T113831
CREATED:20230908T210148Z
LAST-MODIFIED:20230908T210149Z
UID:10014630-1818325800-1818372600@gslookout.org
SUMMARY:Youth Breakfast & Sunday School
DESCRIPTION:
URL:https://gslookout.org/event/youth-breakfast-sunday-school-2/2027-08-15/
LOCATION:Youth Building
CATEGORIES:Formation,Youth
END:VEVENT
BEGIN:VEVENT
DTSTART;TZID=America/New_York:20270818T183000
DTEND;TZID=America/New_York:20270818T193000
DTSTAMP:20260424T113831
CREATED:20230127T163955Z
LAST-MODIFIED:20230127T165113Z
UID:10012814-1818613800-1818617400@gslookout.org
SUMMARY:Wednesday Night Youth
DESCRIPTION:
URL:https://gslookout.org/event/wednesday-night-youth/2027-08-18/
LOCATION:Youth Building
CATEGORIES:Formation,Youth
END:VEVENT
BEGIN:VEVENT
DTSTART;TZID=America/New_York:20270822T103000
DTEND;TZID=America/New_York:20270822T233000
DTSTAMP:20260424T113831
CREATED:20230908T210148Z
LAST-MODIFIED:20230908T210149Z
UID:10014631-1818930600-1818977400@gslookout.org
SUMMARY:Youth Breakfast & Sunday School
DESCRIPTION:
URL:https://gslookout.org/event/youth-breakfast-sunday-school-2/2027-08-22/
LOCATION:Youth Building
CATEGORIES:Formation,Youth
END:VEVENT
BEGIN:VEVENT
DTSTART;TZID=America/New_York:20270825T183000
DTEND;TZID=America/New_York:20270825T193000
DTSTAMP:20260424T113831
CREATED:20230127T163955Z
LAST-MODIFIED:20230127T165113Z
UID:10012815-1819218600-1819222200@gslookout.org
SUMMARY:Wednesday Night Youth
DESCRIPTION:
URL:https://gslookout.org/event/wednesday-night-youth/2027-08-25/
LOCATION:Youth Building
CATEGORIES:Formation,Youth
END:VEVENT
END:VCALENDAR