BEGIN:VCALENDAR
VERSION:2.0
PRODID:-//Church of the Good Shepherd - ECPv6.15.20//NONSGML v1.0//EN
CALSCALE:GREGORIAN
METHOD:PUBLISH
X-WR-CALNAME:Church of the Good Shepherd
X-ORIGINAL-URL:https://gslookout.org
X-WR-CALDESC:Events for Church of the Good Shepherd
REFRESH-INTERVAL;VALUE=DURATION:PT1H
X-Robots-Tag:noindex
X-PUBLISHED-TTL:PT1H
BEGIN:VTIMEZONE
TZID:America/New_York
BEGIN:DAYLIGHT
TZOFFSETFROM:-0500
TZOFFSETTO:-0400
TZNAME:EDT
DTSTART:20270314T070000
END:DAYLIGHT
BEGIN:STANDARD
TZOFFSETFROM:-0400
TZOFFSETTO:-0500
TZNAME:EST
DTSTART:20271107T060000
END:STANDARD
BEGIN:DAYLIGHT
TZOFFSETFROM:-0500
TZOFFSETTO:-0400
TZNAME:EDT
DTSTART:20280312T070000
END:DAYLIGHT
BEGIN:STANDARD
TZOFFSETFROM:-0400
TZOFFSETTO:-0500
TZNAME:EST
DTSTART:20281105T060000
END:STANDARD
BEGIN:DAYLIGHT
TZOFFSETFROM:-0500
TZOFFSETTO:-0400
TZNAME:EDT
DTSTART:20290311T070000
END:DAYLIGHT
BEGIN:STANDARD
TZOFFSETFROM:-0400
TZOFFSETTO:-0500
TZNAME:EST
DTSTART:20291104T060000
END:STANDARD
END:VTIMEZONE
BEGIN:VEVENT
DTSTART;TZID=America/New_York:20280419T183000
DTEND;TZID=America/New_York:20280419T193000
DTSTAMP:20260425T092023
CREATED:20230127T163955Z
LAST-MODIFIED:20230127T165113Z
UID:10015017-1839781800-1839785400@gslookout.org
SUMMARY:Wednesday Night Youth
DESCRIPTION:
URL:https://gslookout.org/event/wednesday-night-youth/2028-04-19/
LOCATION:Youth Building
CATEGORIES:Formation,Youth
END:VEVENT
BEGIN:VEVENT
DTSTART;TZID=America/New_York:20280423T103000
DTEND;TZID=America/New_York:20280423T233000
DTSTAMP:20260425T092023
CREATED:20230908T210148Z
LAST-MODIFIED:20230908T210149Z
UID:10014666-1840098600-1840145400@gslookout.org
SUMMARY:Youth Breakfast & Sunday School
DESCRIPTION:
URL:https://gslookout.org/event/youth-breakfast-sunday-school-2/2028-04-23/
LOCATION:Youth Building
CATEGORIES:Formation,Youth
END:VEVENT
BEGIN:VEVENT
DTSTART;TZID=America/New_York:20280426T183000
DTEND;TZID=America/New_York:20280426T193000
DTSTAMP:20260425T092023
CREATED:20230127T163955Z
LAST-MODIFIED:20230127T165113Z
UID:10015018-1840386600-1840390200@gslookout.org
SUMMARY:Wednesday Night Youth
DESCRIPTION:
URL:https://gslookout.org/event/wednesday-night-youth/2028-04-26/
LOCATION:Youth Building
CATEGORIES:Formation,Youth
END:VEVENT
BEGIN:VEVENT
DTSTART;TZID=America/New_York:20280430T103000
DTEND;TZID=America/New_York:20280430T233000
DTSTAMP:20260425T092023
CREATED:20230908T210148Z
LAST-MODIFIED:20230908T210149Z
UID:10014667-1840703400-1840750200@gslookout.org
SUMMARY:Youth Breakfast & Sunday School
DESCRIPTION:
URL:https://gslookout.org/event/youth-breakfast-sunday-school-2/2028-04-30/
LOCATION:Youth Building
CATEGORIES:Formation,Youth
END:VEVENT
BEGIN:VEVENT
DTSTART;TZID=America/New_York:20280503T183000
DTEND;TZID=America/New_York:20280503T193000
DTSTAMP:20260425T092023
CREATED:20230127T163955Z
LAST-MODIFIED:20230127T165113Z
UID:10015019-1840991400-1840995000@gslookout.org
SUMMARY:Wednesday Night Youth
DESCRIPTION:
URL:https://gslookout.org/event/wednesday-night-youth/2028-05-03/
LOCATION:Youth Building
CATEGORIES:Formation,Youth
END:VEVENT
BEGIN:VEVENT
DTSTART;TZID=America/New_York:20280507T103000
DTEND;TZID=America/New_York:20280507T233000
DTSTAMP:20260425T092023
CREATED:20230908T210148Z
LAST-MODIFIED:20230908T210149Z
UID:10014668-1841308200-1841355000@gslookout.org
SUMMARY:Youth Breakfast & Sunday School
DESCRIPTION:
URL:https://gslookout.org/event/youth-breakfast-sunday-school-2/2028-05-07/
LOCATION:Youth Building
CATEGORIES:Formation,Youth
END:VEVENT
BEGIN:VEVENT
DTSTART;TZID=America/New_York:20280510T183000
DTEND;TZID=America/New_York:20280510T193000
DTSTAMP:20260425T092023
CREATED:20230127T163955Z
LAST-MODIFIED:20230127T165113Z
UID:10015020-1841596200-1841599800@gslookout.org
SUMMARY:Wednesday Night Youth
DESCRIPTION:
URL:https://gslookout.org/event/wednesday-night-youth/2028-05-10/
LOCATION:Youth Building
CATEGORIES:Formation,Youth
END:VEVENT
BEGIN:VEVENT
DTSTART;TZID=America/New_York:20280514T103000
DTEND;TZID=America/New_York:20280514T233000
DTSTAMP:20260425T092023
CREATED:20230908T210148Z
LAST-MODIFIED:20230908T210149Z
UID:10014669-1841913000-1841959800@gslookout.org
SUMMARY:Youth Breakfast & Sunday School
DESCRIPTION:
URL:https://gslookout.org/event/youth-breakfast-sunday-school-2/2028-05-14/
LOCATION:Youth Building
CATEGORIES:Formation,Youth
END:VEVENT
BEGIN:VEVENT
DTSTART;TZID=America/New_York:20280517T183000
DTEND;TZID=America/New_York:20280517T193000
DTSTAMP:20260425T092023
CREATED:20230127T163955Z
LAST-MODIFIED:20230127T165113Z
UID:10015021-1842201000-1842204600@gslookout.org
SUMMARY:Wednesday Night Youth
DESCRIPTION:
URL:https://gslookout.org/event/wednesday-night-youth/2028-05-17/
LOCATION:Youth Building
CATEGORIES:Formation,Youth
END:VEVENT
BEGIN:VEVENT
DTSTART;TZID=America/New_York:20280521T103000
DTEND;TZID=America/New_York:20280521T233000
DTSTAMP:20260425T092023
CREATED:20230908T210148Z
LAST-MODIFIED:20230908T210149Z
UID:10014670-1842517800-1842564600@gslookout.org
SUMMARY:Youth Breakfast & Sunday School
DESCRIPTION:
URL:https://gslookout.org/event/youth-breakfast-sunday-school-2/2028-05-21/
LOCATION:Youth Building
CATEGORIES:Formation,Youth
END:VEVENT
BEGIN:VEVENT
DTSTART;TZID=America/New_York:20280524T183000
DTEND;TZID=America/New_York:20280524T193000
DTSTAMP:20260425T092023
CREATED:20230127T163955Z
LAST-MODIFIED:20230127T165113Z
UID:10015022-1842805800-1842809400@gslookout.org
SUMMARY:Wednesday Night Youth
DESCRIPTION:
URL:https://gslookout.org/event/wednesday-night-youth/2028-05-24/
LOCATION:Youth Building
CATEGORIES:Formation,Youth
END:VEVENT
BEGIN:VEVENT
DTSTART;TZID=America/New_York:20280528T103000
DTEND;TZID=America/New_York:20280528T233000
DTSTAMP:20260425T092023
CREATED:20230908T210148Z
LAST-MODIFIED:20230908T210149Z
UID:10014671-1843122600-1843169400@gslookout.org
SUMMARY:Youth Breakfast & Sunday School
DESCRIPTION:
URL:https://gslookout.org/event/youth-breakfast-sunday-school-2/2028-05-28/
LOCATION:Youth Building
CATEGORIES:Formation,Youth
END:VEVENT
BEGIN:VEVENT
DTSTART;TZID=America/New_York:20280531T183000
DTEND;TZID=America/New_York:20280531T193000
DTSTAMP:20260425T092023
CREATED:20230127T163955Z
LAST-MODIFIED:20230127T165113Z
UID:10015023-1843410600-1843414200@gslookout.org
SUMMARY:Wednesday Night Youth
DESCRIPTION:
URL:https://gslookout.org/event/wednesday-night-youth/2028-05-31/
LOCATION:Youth Building
CATEGORIES:Formation,Youth
END:VEVENT
BEGIN:VEVENT
DTSTART;TZID=America/New_York:20280604T103000
DTEND;TZID=America/New_York:20280604T233000
DTSTAMP:20260425T092023
CREATED:20230908T210148Z
LAST-MODIFIED:20230908T210149Z
UID:10014672-1843727400-1843774200@gslookout.org
SUMMARY:Youth Breakfast & Sunday School
DESCRIPTION:
URL:https://gslookout.org/event/youth-breakfast-sunday-school-2/2028-06-04/
LOCATION:Youth Building
CATEGORIES:Formation,Youth
END:VEVENT
BEGIN:VEVENT
DTSTART;TZID=America/New_York:20280607T183000
DTEND;TZID=America/New_York:20280607T193000
DTSTAMP:20260425T092023
CREATED:20230127T163955Z
LAST-MODIFIED:20230127T165113Z
UID:10015024-1844015400-1844019000@gslookout.org
SUMMARY:Wednesday Night Youth
DESCRIPTION:
URL:https://gslookout.org/event/wednesday-night-youth/2028-06-07/
LOCATION:Youth Building
CATEGORIES:Formation,Youth
END:VEVENT
BEGIN:VEVENT
DTSTART;TZID=America/New_York:20280611T103000
DTEND;TZID=America/New_York:20280611T233000
DTSTAMP:20260425T092023
CREATED:20230908T210148Z
LAST-MODIFIED:20230908T210149Z
UID:10014673-1844332200-1844379000@gslookout.org
SUMMARY:Youth Breakfast & Sunday School
DESCRIPTION:
URL:https://gslookout.org/event/youth-breakfast-sunday-school-2/2028-06-11/
LOCATION:Youth Building
CATEGORIES:Formation,Youth
END:VEVENT
BEGIN:VEVENT
DTSTART;TZID=America/New_York:20280614T183000
DTEND;TZID=America/New_York:20280614T193000
DTSTAMP:20260425T092023
CREATED:20230127T163955Z
LAST-MODIFIED:20230127T165113Z
UID:10015025-1844620200-1844623800@gslookout.org
SUMMARY:Wednesday Night Youth
DESCRIPTION:
URL:https://gslookout.org/event/wednesday-night-youth/2028-06-14/
LOCATION:Youth Building
CATEGORIES:Formation,Youth
END:VEVENT
BEGIN:VEVENT
DTSTART;TZID=America/New_York:20280618T103000
DTEND;TZID=America/New_York:20280618T233000
DTSTAMP:20260425T092023
CREATED:20230908T210148Z
LAST-MODIFIED:20230908T210149Z
UID:10014674-1844937000-1844983800@gslookout.org
SUMMARY:Youth Breakfast & Sunday School
DESCRIPTION:
URL:https://gslookout.org/event/youth-breakfast-sunday-school-2/2028-06-18/
LOCATION:Youth Building
CATEGORIES:Formation,Youth
END:VEVENT
BEGIN:VEVENT
DTSTART;TZID=America/New_York:20280621T183000
DTEND;TZID=America/New_York:20280621T193000
DTSTAMP:20260425T092023
CREATED:20230127T163955Z
LAST-MODIFIED:20230127T165113Z
UID:10015026-1845225000-1845228600@gslookout.org
SUMMARY:Wednesday Night Youth
DESCRIPTION:
URL:https://gslookout.org/event/wednesday-night-youth/2028-06-21/
LOCATION:Youth Building
CATEGORIES:Formation,Youth
END:VEVENT
BEGIN:VEVENT
DTSTART;TZID=America/New_York:20280625T103000
DTEND;TZID=America/New_York:20280625T233000
DTSTAMP:20260425T092023
CREATED:20230908T210148Z
LAST-MODIFIED:20230908T210149Z
UID:10014675-1845541800-1845588600@gslookout.org
SUMMARY:Youth Breakfast & Sunday School
DESCRIPTION:
URL:https://gslookout.org/event/youth-breakfast-sunday-school-2/2028-06-25/
LOCATION:Youth Building
CATEGORIES:Formation,Youth
END:VEVENT
BEGIN:VEVENT
DTSTART;TZID=America/New_York:20280628T183000
DTEND;TZID=America/New_York:20280628T193000
DTSTAMP:20260425T092023
CREATED:20230127T163955Z
LAST-MODIFIED:20230127T165113Z
UID:10015027-1845829800-1845833400@gslookout.org
SUMMARY:Wednesday Night Youth
DESCRIPTION:
URL:https://gslookout.org/event/wednesday-night-youth/2028-06-28/
LOCATION:Youth Building
CATEGORIES:Formation,Youth
END:VEVENT
BEGIN:VEVENT
DTSTART;TZID=America/New_York:20280702T103000
DTEND;TZID=America/New_York:20280702T233000
DTSTAMP:20260425T092023
CREATED:20230908T210148Z
LAST-MODIFIED:20230908T210149Z
UID:10014676-1846146600-1846193400@gslookout.org
SUMMARY:Youth Breakfast & Sunday School
DESCRIPTION:
URL:https://gslookout.org/event/youth-breakfast-sunday-school-2/2028-07-02/
LOCATION:Youth Building
CATEGORIES:Formation,Youth
END:VEVENT
BEGIN:VEVENT
DTSTART;TZID=America/New_York:20280705T183000
DTEND;TZID=America/New_York:20280705T193000
DTSTAMP:20260425T092023
CREATED:20230127T163955Z
LAST-MODIFIED:20230127T165113Z
UID:10015028-1846434600-1846438200@gslookout.org
SUMMARY:Wednesday Night Youth
DESCRIPTION:
URL:https://gslookout.org/event/wednesday-night-youth/2028-07-05/
LOCATION:Youth Building
CATEGORIES:Formation,Youth
END:VEVENT
BEGIN:VEVENT
DTSTART;TZID=America/New_York:20280709T103000
DTEND;TZID=America/New_York:20280709T233000
DTSTAMP:20260425T092023
CREATED:20230908T210148Z
LAST-MODIFIED:20230908T210149Z
UID:10014677-1846751400-1846798200@gslookout.org
SUMMARY:Youth Breakfast & Sunday School
DESCRIPTION:
URL:https://gslookout.org/event/youth-breakfast-sunday-school-2/2028-07-09/
LOCATION:Youth Building
CATEGORIES:Formation,Youth
END:VEVENT
BEGIN:VEVENT
DTSTART;TZID=America/New_York:20280712T183000
DTEND;TZID=America/New_York:20280712T193000
DTSTAMP:20260425T092023
CREATED:20230127T163955Z
LAST-MODIFIED:20230127T165113Z
UID:10015029-1847039400-1847043000@gslookout.org
SUMMARY:Wednesday Night Youth
DESCRIPTION:
URL:https://gslookout.org/event/wednesday-night-youth/2028-07-12/
LOCATION:Youth Building
CATEGORIES:Formation,Youth
END:VEVENT
BEGIN:VEVENT
DTSTART;TZID=America/New_York:20280716T103000
DTEND;TZID=America/New_York:20280716T233000
DTSTAMP:20260425T092023
CREATED:20230908T210148Z
LAST-MODIFIED:20230908T210149Z
UID:10014678-1847356200-1847403000@gslookout.org
SUMMARY:Youth Breakfast & Sunday School
DESCRIPTION:
URL:https://gslookout.org/event/youth-breakfast-sunday-school-2/2028-07-16/
LOCATION:Youth Building
CATEGORIES:Formation,Youth
END:VEVENT
BEGIN:VEVENT
DTSTART;TZID=America/New_York:20280719T183000
DTEND;TZID=America/New_York:20280719T193000
DTSTAMP:20260425T092023
CREATED:20230127T163955Z
LAST-MODIFIED:20230127T165113Z
UID:10015030-1847644200-1847647800@gslookout.org
SUMMARY:Wednesday Night Youth
DESCRIPTION:
URL:https://gslookout.org/event/wednesday-night-youth/2028-07-19/
LOCATION:Youth Building
CATEGORIES:Formation,Youth
END:VEVENT
BEGIN:VEVENT
DTSTART;TZID=America/New_York:20280723T103000
DTEND;TZID=America/New_York:20280723T233000
DTSTAMP:20260425T092023
CREATED:20230908T210148Z
LAST-MODIFIED:20230908T210149Z
UID:10014679-1847961000-1848007800@gslookout.org
SUMMARY:Youth Breakfast & Sunday School
DESCRIPTION:
URL:https://gslookout.org/event/youth-breakfast-sunday-school-2/2028-07-23/
LOCATION:Youth Building
CATEGORIES:Formation,Youth
END:VEVENT
BEGIN:VEVENT
DTSTART;TZID=America/New_York:20280726T183000
DTEND;TZID=America/New_York:20280726T193000
DTSTAMP:20260425T092023
CREATED:20230127T163955Z
LAST-MODIFIED:20230127T165113Z
UID:10015031-1848249000-1848252600@gslookout.org
SUMMARY:Wednesday Night Youth
DESCRIPTION:
URL:https://gslookout.org/event/wednesday-night-youth/2028-07-26/
LOCATION:Youth Building
CATEGORIES:Formation,Youth
END:VEVENT
BEGIN:VEVENT
DTSTART;TZID=America/New_York:20280730T103000
DTEND;TZID=America/New_York:20280730T233000
DTSTAMP:20260425T092023
CREATED:20230908T210148Z
LAST-MODIFIED:20230908T210149Z
UID:10014680-1848565800-1848612600@gslookout.org
SUMMARY:Youth Breakfast & Sunday School
DESCRIPTION:
URL:https://gslookout.org/event/youth-breakfast-sunday-school-2/2028-07-30/
LOCATION:Youth Building
CATEGORIES:Formation,Youth
END:VEVENT
END:VCALENDAR