BEGIN:VCALENDAR
VERSION:2.0
PRODID:-//Church of the Good Shepherd - ECPv6.15.20//NONSGML v1.0//EN
CALSCALE:GREGORIAN
METHOD:PUBLISH
X-WR-CALNAME:Church of the Good Shepherd
X-ORIGINAL-URL:https://gslookout.org
X-WR-CALDESC:Events for Church of the Good Shepherd
REFRESH-INTERVAL;VALUE=DURATION:PT1H
X-Robots-Tag:noindex
X-PUBLISHED-TTL:PT1H
BEGIN:VTIMEZONE
TZID:America/New_York
BEGIN:DAYLIGHT
TZOFFSETFROM:-0500
TZOFFSETTO:-0400
TZNAME:EDT
DTSTART:20270314T070000
END:DAYLIGHT
BEGIN:STANDARD
TZOFFSETFROM:-0400
TZOFFSETTO:-0500
TZNAME:EST
DTSTART:20271107T060000
END:STANDARD
BEGIN:DAYLIGHT
TZOFFSETFROM:-0500
TZOFFSETTO:-0400
TZNAME:EDT
DTSTART:20280312T070000
END:DAYLIGHT
BEGIN:STANDARD
TZOFFSETFROM:-0400
TZOFFSETTO:-0500
TZNAME:EST
DTSTART:20281105T060000
END:STANDARD
BEGIN:DAYLIGHT
TZOFFSETFROM:-0500
TZOFFSETTO:-0400
TZNAME:EDT
DTSTART:20290311T070000
END:DAYLIGHT
BEGIN:STANDARD
TZOFFSETFROM:-0400
TZOFFSETTO:-0500
TZNAME:EST
DTSTART:20291104T060000
END:STANDARD
END:VTIMEZONE
BEGIN:VEVENT
DTSTART;TZID=America/New_York:20280702T103000
DTEND;TZID=America/New_York:20280702T233000
DTSTAMP:20260425T065723
CREATED:20230908T210148Z
LAST-MODIFIED:20230908T210149Z
UID:10014676-1846146600-1846193400@gslookout.org
SUMMARY:Youth Breakfast & Sunday School
DESCRIPTION:
URL:https://gslookout.org/event/youth-breakfast-sunday-school-2/2028-07-02/
LOCATION:Youth Building
CATEGORIES:Formation,Youth
END:VEVENT
BEGIN:VEVENT
DTSTART;TZID=America/New_York:20280705T183000
DTEND;TZID=America/New_York:20280705T193000
DTSTAMP:20260425T065723
CREATED:20230127T163955Z
LAST-MODIFIED:20230127T165113Z
UID:10015028-1846434600-1846438200@gslookout.org
SUMMARY:Wednesday Night Youth
DESCRIPTION:
URL:https://gslookout.org/event/wednesday-night-youth/2028-07-05/
LOCATION:Youth Building
CATEGORIES:Formation,Youth
END:VEVENT
BEGIN:VEVENT
DTSTART;TZID=America/New_York:20280709T103000
DTEND;TZID=America/New_York:20280709T233000
DTSTAMP:20260425T065723
CREATED:20230908T210148Z
LAST-MODIFIED:20230908T210149Z
UID:10014677-1846751400-1846798200@gslookout.org
SUMMARY:Youth Breakfast & Sunday School
DESCRIPTION:
URL:https://gslookout.org/event/youth-breakfast-sunday-school-2/2028-07-09/
LOCATION:Youth Building
CATEGORIES:Formation,Youth
END:VEVENT
BEGIN:VEVENT
DTSTART;TZID=America/New_York:20280712T183000
DTEND;TZID=America/New_York:20280712T193000
DTSTAMP:20260425T065723
CREATED:20230127T163955Z
LAST-MODIFIED:20230127T165113Z
UID:10015029-1847039400-1847043000@gslookout.org
SUMMARY:Wednesday Night Youth
DESCRIPTION:
URL:https://gslookout.org/event/wednesday-night-youth/2028-07-12/
LOCATION:Youth Building
CATEGORIES:Formation,Youth
END:VEVENT
BEGIN:VEVENT
DTSTART;TZID=America/New_York:20280716T103000
DTEND;TZID=America/New_York:20280716T233000
DTSTAMP:20260425T065723
CREATED:20230908T210148Z
LAST-MODIFIED:20230908T210149Z
UID:10014678-1847356200-1847403000@gslookout.org
SUMMARY:Youth Breakfast & Sunday School
DESCRIPTION:
URL:https://gslookout.org/event/youth-breakfast-sunday-school-2/2028-07-16/
LOCATION:Youth Building
CATEGORIES:Formation,Youth
END:VEVENT
BEGIN:VEVENT
DTSTART;TZID=America/New_York:20280719T183000
DTEND;TZID=America/New_York:20280719T193000
DTSTAMP:20260425T065723
CREATED:20230127T163955Z
LAST-MODIFIED:20230127T165113Z
UID:10015030-1847644200-1847647800@gslookout.org
SUMMARY:Wednesday Night Youth
DESCRIPTION:
URL:https://gslookout.org/event/wednesday-night-youth/2028-07-19/
LOCATION:Youth Building
CATEGORIES:Formation,Youth
END:VEVENT
BEGIN:VEVENT
DTSTART;TZID=America/New_York:20280723T103000
DTEND;TZID=America/New_York:20280723T233000
DTSTAMP:20260425T065723
CREATED:20230908T210148Z
LAST-MODIFIED:20230908T210149Z
UID:10014679-1847961000-1848007800@gslookout.org
SUMMARY:Youth Breakfast & Sunday School
DESCRIPTION:
URL:https://gslookout.org/event/youth-breakfast-sunday-school-2/2028-07-23/
LOCATION:Youth Building
CATEGORIES:Formation,Youth
END:VEVENT
BEGIN:VEVENT
DTSTART;TZID=America/New_York:20280726T183000
DTEND;TZID=America/New_York:20280726T193000
DTSTAMP:20260425T065723
CREATED:20230127T163955Z
LAST-MODIFIED:20230127T165113Z
UID:10015031-1848249000-1848252600@gslookout.org
SUMMARY:Wednesday Night Youth
DESCRIPTION:
URL:https://gslookout.org/event/wednesday-night-youth/2028-07-26/
LOCATION:Youth Building
CATEGORIES:Formation,Youth
END:VEVENT
BEGIN:VEVENT
DTSTART;TZID=America/New_York:20280730T103000
DTEND;TZID=America/New_York:20280730T233000
DTSTAMP:20260425T065723
CREATED:20230908T210148Z
LAST-MODIFIED:20230908T210149Z
UID:10014680-1848565800-1848612600@gslookout.org
SUMMARY:Youth Breakfast & Sunday School
DESCRIPTION:
URL:https://gslookout.org/event/youth-breakfast-sunday-school-2/2028-07-30/
LOCATION:Youth Building
CATEGORIES:Formation,Youth
END:VEVENT
BEGIN:VEVENT
DTSTART;TZID=America/New_York:20280802T183000
DTEND;TZID=America/New_York:20280802T193000
DTSTAMP:20260425T065723
CREATED:20230127T163955Z
LAST-MODIFIED:20230127T165113Z
UID:10015032-1848853800-1848857400@gslookout.org
SUMMARY:Wednesday Night Youth
DESCRIPTION:
URL:https://gslookout.org/event/wednesday-night-youth/2028-08-02/
LOCATION:Youth Building
CATEGORIES:Formation,Youth
END:VEVENT
BEGIN:VEVENT
DTSTART;TZID=America/New_York:20280806T103000
DTEND;TZID=America/New_York:20280806T233000
DTSTAMP:20260425T065723
CREATED:20230908T210148Z
LAST-MODIFIED:20230908T210149Z
UID:10014681-1849170600-1849217400@gslookout.org
SUMMARY:Youth Breakfast & Sunday School
DESCRIPTION:
URL:https://gslookout.org/event/youth-breakfast-sunday-school-2/2028-08-06/
LOCATION:Youth Building
CATEGORIES:Formation,Youth
END:VEVENT
BEGIN:VEVENT
DTSTART;TZID=America/New_York:20280809T183000
DTEND;TZID=America/New_York:20280809T193000
DTSTAMP:20260425T065723
CREATED:20230127T163955Z
LAST-MODIFIED:20230127T165113Z
UID:10015033-1849458600-1849462200@gslookout.org
SUMMARY:Wednesday Night Youth
DESCRIPTION:
URL:https://gslookout.org/event/wednesday-night-youth/2028-08-09/
LOCATION:Youth Building
CATEGORIES:Formation,Youth
END:VEVENT
BEGIN:VEVENT
DTSTART;TZID=America/New_York:20280813T103000
DTEND;TZID=America/New_York:20280813T233000
DTSTAMP:20260425T065723
CREATED:20230908T210148Z
LAST-MODIFIED:20230908T210149Z
UID:10014682-1849775400-1849822200@gslookout.org
SUMMARY:Youth Breakfast & Sunday School
DESCRIPTION:
URL:https://gslookout.org/event/youth-breakfast-sunday-school-2/2028-08-13/
LOCATION:Youth Building
CATEGORIES:Formation,Youth
END:VEVENT
BEGIN:VEVENT
DTSTART;TZID=America/New_York:20280816T183000
DTEND;TZID=America/New_York:20280816T193000
DTSTAMP:20260425T065723
CREATED:20230127T163955Z
LAST-MODIFIED:20230127T165113Z
UID:10015034-1850063400-1850067000@gslookout.org
SUMMARY:Wednesday Night Youth
DESCRIPTION:
URL:https://gslookout.org/event/wednesday-night-youth/2028-08-16/
LOCATION:Youth Building
CATEGORIES:Formation,Youth
END:VEVENT
BEGIN:VEVENT
DTSTART;TZID=America/New_York:20280820T103000
DTEND;TZID=America/New_York:20280820T233000
DTSTAMP:20260425T065723
CREATED:20230908T210148Z
LAST-MODIFIED:20230908T210149Z
UID:10014683-1850380200-1850427000@gslookout.org
SUMMARY:Youth Breakfast & Sunday School
DESCRIPTION:
URL:https://gslookout.org/event/youth-breakfast-sunday-school-2/2028-08-20/
LOCATION:Youth Building
CATEGORIES:Formation,Youth
END:VEVENT
BEGIN:VEVENT
DTSTART;TZID=America/New_York:20280823T183000
DTEND;TZID=America/New_York:20280823T193000
DTSTAMP:20260425T065723
CREATED:20230127T163955Z
LAST-MODIFIED:20230127T165113Z
UID:10015035-1850668200-1850671800@gslookout.org
SUMMARY:Wednesday Night Youth
DESCRIPTION:
URL:https://gslookout.org/event/wednesday-night-youth/2028-08-23/
LOCATION:Youth Building
CATEGORIES:Formation,Youth
END:VEVENT
BEGIN:VEVENT
DTSTART;TZID=America/New_York:20280827T103000
DTEND;TZID=America/New_York:20280827T233000
DTSTAMP:20260425T065723
CREATED:20230908T210148Z
LAST-MODIFIED:20230908T210149Z
UID:10014684-1850985000-1851031800@gslookout.org
SUMMARY:Youth Breakfast & Sunday School
DESCRIPTION:
URL:https://gslookout.org/event/youth-breakfast-sunday-school-2/2028-08-27/
LOCATION:Youth Building
CATEGORIES:Formation,Youth
END:VEVENT
BEGIN:VEVENT
DTSTART;TZID=America/New_York:20280830T183000
DTEND;TZID=America/New_York:20280830T193000
DTSTAMP:20260425T065723
CREATED:20230127T163955Z
LAST-MODIFIED:20230127T165113Z
UID:10015036-1851273000-1851276600@gslookout.org
SUMMARY:Wednesday Night Youth
DESCRIPTION:
URL:https://gslookout.org/event/wednesday-night-youth/2028-08-30/
LOCATION:Youth Building
CATEGORIES:Formation,Youth
END:VEVENT
BEGIN:VEVENT
DTSTART;TZID=America/New_York:20280903T103000
DTEND;TZID=America/New_York:20280903T233000
DTSTAMP:20260425T065723
CREATED:20230908T210148Z
LAST-MODIFIED:20230908T210149Z
UID:10014685-1851589800-1851636600@gslookout.org
SUMMARY:Youth Breakfast & Sunday School
DESCRIPTION:
URL:https://gslookout.org/event/youth-breakfast-sunday-school-2/2028-09-03/
LOCATION:Youth Building
CATEGORIES:Formation,Youth
END:VEVENT
BEGIN:VEVENT
DTSTART;TZID=America/New_York:20280906T183000
DTEND;TZID=America/New_York:20280906T193000
DTSTAMP:20260425T065723
CREATED:20230127T163955Z
LAST-MODIFIED:20230127T165113Z
UID:10015037-1851877800-1851881400@gslookout.org
SUMMARY:Wednesday Night Youth
DESCRIPTION:
URL:https://gslookout.org/event/wednesday-night-youth/2028-09-06/
LOCATION:Youth Building
CATEGORIES:Formation,Youth
END:VEVENT
BEGIN:VEVENT
DTSTART;TZID=America/New_York:20280910T103000
DTEND;TZID=America/New_York:20280910T233000
DTSTAMP:20260425T065723
CREATED:20230908T210148Z
LAST-MODIFIED:20230908T210149Z
UID:10014994-1852194600-1852241400@gslookout.org
SUMMARY:Youth Breakfast & Sunday School
DESCRIPTION:
URL:https://gslookout.org/event/youth-breakfast-sunday-school-2/2028-09-10/
LOCATION:Youth Building
CATEGORIES:Formation,Youth
END:VEVENT
BEGIN:VEVENT
DTSTART;TZID=America/New_York:20280913T183000
DTEND;TZID=America/New_York:20280913T193000
DTSTAMP:20260425T065723
CREATED:20230127T163955Z
LAST-MODIFIED:20230127T165113Z
UID:10015038-1852482600-1852486200@gslookout.org
SUMMARY:Wednesday Night Youth
DESCRIPTION:
URL:https://gslookout.org/event/wednesday-night-youth/2028-09-13/
LOCATION:Youth Building
CATEGORIES:Formation,Youth
END:VEVENT
BEGIN:VEVENT
DTSTART;TZID=America/New_York:20280917T103000
DTEND;TZID=America/New_York:20280917T233000
DTSTAMP:20260425T065723
CREATED:20230908T210148Z
LAST-MODIFIED:20230908T210149Z
UID:10014995-1852799400-1852846200@gslookout.org
SUMMARY:Youth Breakfast & Sunday School
DESCRIPTION:
URL:https://gslookout.org/event/youth-breakfast-sunday-school-2/2028-09-17/
LOCATION:Youth Building
CATEGORIES:Formation,Youth
END:VEVENT
BEGIN:VEVENT
DTSTART;TZID=America/New_York:20280920T183000
DTEND;TZID=America/New_York:20280920T193000
DTSTAMP:20260425T065723
CREATED:20230127T163955Z
LAST-MODIFIED:20230127T165113Z
UID:10015039-1853087400-1853091000@gslookout.org
SUMMARY:Wednesday Night Youth
DESCRIPTION:
URL:https://gslookout.org/event/wednesday-night-youth/2028-09-20/
LOCATION:Youth Building
CATEGORIES:Formation,Youth
END:VEVENT
BEGIN:VEVENT
DTSTART;TZID=America/New_York:20280924T103000
DTEND;TZID=America/New_York:20280924T233000
DTSTAMP:20260425T065723
CREATED:20230908T210148Z
LAST-MODIFIED:20230908T210149Z
UID:10014996-1853404200-1853451000@gslookout.org
SUMMARY:Youth Breakfast & Sunday School
DESCRIPTION:
URL:https://gslookout.org/event/youth-breakfast-sunday-school-2/2028-09-24/
LOCATION:Youth Building
CATEGORIES:Formation,Youth
END:VEVENT
BEGIN:VEVENT
DTSTART;TZID=America/New_York:20280927T183000
DTEND;TZID=America/New_York:20280927T193000
DTSTAMP:20260425T065723
CREATED:20230127T163955Z
LAST-MODIFIED:20230127T165113Z
UID:10015040-1853692200-1853695800@gslookout.org
SUMMARY:Wednesday Night Youth
DESCRIPTION:
URL:https://gslookout.org/event/wednesday-night-youth/2028-09-27/
LOCATION:Youth Building
CATEGORIES:Formation,Youth
END:VEVENT
BEGIN:VEVENT
DTSTART;TZID=America/New_York:20281001T103000
DTEND;TZID=America/New_York:20281001T233000
DTSTAMP:20260425T065723
CREATED:20230908T210148Z
LAST-MODIFIED:20230908T210149Z
UID:10014997-1854009000-1854055800@gslookout.org
SUMMARY:Youth Breakfast & Sunday School
DESCRIPTION:
URL:https://gslookout.org/event/youth-breakfast-sunday-school-2/2028-10-01/
LOCATION:Youth Building
CATEGORIES:Formation,Youth
END:VEVENT
BEGIN:VEVENT
DTSTART;TZID=America/New_York:20281004T183000
DTEND;TZID=America/New_York:20281004T193000
DTSTAMP:20260425T065723
CREATED:20230127T163955Z
LAST-MODIFIED:20230127T165113Z
UID:10015041-1854297000-1854300600@gslookout.org
SUMMARY:Wednesday Night Youth
DESCRIPTION:
URL:https://gslookout.org/event/wednesday-night-youth/2028-10-04/
LOCATION:Youth Building
CATEGORIES:Formation,Youth
END:VEVENT
BEGIN:VEVENT
DTSTART;TZID=America/New_York:20281008T103000
DTEND;TZID=America/New_York:20281008T233000
DTSTAMP:20260425T065723
CREATED:20230908T210148Z
LAST-MODIFIED:20230908T210149Z
UID:10014998-1854613800-1854660600@gslookout.org
SUMMARY:Youth Breakfast & Sunday School
DESCRIPTION:
URL:https://gslookout.org/event/youth-breakfast-sunday-school-2/2028-10-08/
LOCATION:Youth Building
CATEGORIES:Formation,Youth
END:VEVENT
BEGIN:VEVENT
DTSTART;TZID=America/New_York:20281011T183000
DTEND;TZID=America/New_York:20281011T193000
DTSTAMP:20260425T065723
CREATED:20230127T163955Z
LAST-MODIFIED:20230127T165113Z
UID:10015042-1854901800-1854905400@gslookout.org
SUMMARY:Wednesday Night Youth
DESCRIPTION:
URL:https://gslookout.org/event/wednesday-night-youth/2028-10-11/
LOCATION:Youth Building
CATEGORIES:Formation,Youth
END:VEVENT
END:VCALENDAR