BEGIN:VCALENDAR
VERSION:2.0
PRODID:-//Church of the Good Shepherd - ECPv6.15.20//NONSGML v1.0//EN
CALSCALE:GREGORIAN
METHOD:PUBLISH
X-ORIGINAL-URL:https://gslookout.org
X-WR-CALDESC:Events for Church of the Good Shepherd
REFRESH-INTERVAL;VALUE=DURATION:PT1H
X-Robots-Tag:noindex
X-PUBLISHED-TTL:PT1H
BEGIN:VTIMEZONE
TZID:America/New_York
BEGIN:DAYLIGHT
TZOFFSETFROM:-0500
TZOFFSETTO:-0400
TZNAME:EDT
DTSTART:20270314T070000
END:DAYLIGHT
BEGIN:STANDARD
TZOFFSETFROM:-0400
TZOFFSETTO:-0500
TZNAME:EST
DTSTART:20271107T060000
END:STANDARD
BEGIN:DAYLIGHT
TZOFFSETFROM:-0500
TZOFFSETTO:-0400
TZNAME:EDT
DTSTART:20280312T070000
END:DAYLIGHT
BEGIN:STANDARD
TZOFFSETFROM:-0400
TZOFFSETTO:-0500
TZNAME:EST
DTSTART:20281105T060000
END:STANDARD
BEGIN:DAYLIGHT
TZOFFSETFROM:-0500
TZOFFSETTO:-0400
TZNAME:EDT
DTSTART:20290311T070000
END:DAYLIGHT
BEGIN:STANDARD
TZOFFSETFROM:-0400
TZOFFSETTO:-0500
TZNAME:EST
DTSTART:20291104T060000
END:STANDARD
BEGIN:DAYLIGHT
TZOFFSETFROM:-0500
TZOFFSETTO:-0400
TZNAME:EDT
DTSTART:20300310T070000
END:DAYLIGHT
BEGIN:STANDARD
TZOFFSETFROM:-0400
TZOFFSETTO:-0500
TZNAME:EST
DTSTART:20301103T060000
END:STANDARD
END:VTIMEZONE
BEGIN:VEVENT
DTSTART;TZID=America/New_York:20281203T103000
DTEND;TZID=America/New_York:20281203T233000
DTSTAMP:20260425T101955
CREATED:20230908T210148Z
LAST-MODIFIED:20230908T210149Z
UID:10017684-1859452200-1859499000@gslookout.org
SUMMARY:Youth Breakfast & Sunday School
DESCRIPTION:
URL:https://gslookout.org/event/youth-breakfast-sunday-school-2/2028-12-03/
LOCATION:Youth Building
CATEGORIES:Formation,Youth
END:VEVENT
BEGIN:VEVENT
DTSTART;TZID=America/New_York:20281206T183000
DTEND;TZID=America/New_York:20281206T193000
DTSTAMP:20260425T101955
CREATED:20230127T163955Z
LAST-MODIFIED:20230127T165113Z
UID:10015133-1859740200-1859743800@gslookout.org
SUMMARY:Wednesday Night Youth
DESCRIPTION:
URL:https://gslookout.org/event/wednesday-night-youth/2028-12-06/
LOCATION:Youth Building
CATEGORIES:Formation,Youth
END:VEVENT
BEGIN:VEVENT
DTSTART;TZID=America/New_York:20281210T103000
DTEND;TZID=America/New_York:20281210T233000
DTSTAMP:20260425T101955
CREATED:20230908T210148Z
LAST-MODIFIED:20230908T210149Z
UID:10017685-1860057000-1860103800@gslookout.org
SUMMARY:Youth Breakfast & Sunday School
DESCRIPTION:
URL:https://gslookout.org/event/youth-breakfast-sunday-school-2/2028-12-10/
LOCATION:Youth Building
CATEGORIES:Formation,Youth
END:VEVENT
BEGIN:VEVENT
DTSTART;TZID=America/New_York:20281213T183000
DTEND;TZID=America/New_York:20281213T193000
DTSTAMP:20260425T101955
CREATED:20230127T163955Z
LAST-MODIFIED:20230127T165113Z
UID:10015134-1860345000-1860348600@gslookout.org
SUMMARY:Wednesday Night Youth
DESCRIPTION:
URL:https://gslookout.org/event/wednesday-night-youth/2028-12-13/
LOCATION:Youth Building
CATEGORIES:Formation,Youth
END:VEVENT
BEGIN:VEVENT
DTSTART;TZID=America/New_York:20281217T103000
DTEND;TZID=America/New_York:20281217T233000
DTSTAMP:20260425T101955
CREATED:20230908T210148Z
LAST-MODIFIED:20230908T210149Z
UID:10017686-1860661800-1860708600@gslookout.org
SUMMARY:Youth Breakfast & Sunday School
DESCRIPTION:
URL:https://gslookout.org/event/youth-breakfast-sunday-school-2/2028-12-17/
LOCATION:Youth Building
CATEGORIES:Formation,Youth
END:VEVENT
BEGIN:VEVENT
DTSTART;TZID=America/New_York:20281220T183000
DTEND;TZID=America/New_York:20281220T193000
DTSTAMP:20260425T101955
CREATED:20230127T163955Z
LAST-MODIFIED:20230127T165113Z
UID:10015135-1860949800-1860953400@gslookout.org
SUMMARY:Wednesday Night Youth
DESCRIPTION:
URL:https://gslookout.org/event/wednesday-night-youth/2028-12-20/
LOCATION:Youth Building
CATEGORIES:Formation,Youth
END:VEVENT
BEGIN:VEVENT
DTSTART;TZID=America/New_York:20281224T103000
DTEND;TZID=America/New_York:20281224T233000
DTSTAMP:20260425T101955
CREATED:20230908T210148Z
LAST-MODIFIED:20230908T210149Z
UID:10017687-1861266600-1861313400@gslookout.org
SUMMARY:Youth Breakfast & Sunday School
DESCRIPTION:
URL:https://gslookout.org/event/youth-breakfast-sunday-school-2/2028-12-24/
LOCATION:Youth Building
CATEGORIES:Formation,Youth
END:VEVENT
BEGIN:VEVENT
DTSTART;TZID=America/New_York:20281227T183000
DTEND;TZID=America/New_York:20281227T193000
DTSTAMP:20260425T101955
CREATED:20230127T163955Z
LAST-MODIFIED:20230127T165113Z
UID:10015136-1861554600-1861558200@gslookout.org
SUMMARY:Wednesday Night Youth
DESCRIPTION:
URL:https://gslookout.org/event/wednesday-night-youth/2028-12-27/
LOCATION:Youth Building
CATEGORIES:Formation,Youth
END:VEVENT
BEGIN:VEVENT
DTSTART;TZID=America/New_York:20281231T103000
DTEND;TZID=America/New_York:20281231T233000
DTSTAMP:20260425T101955
CREATED:20230908T210148Z
LAST-MODIFIED:20230908T210149Z
UID:10017688-1861871400-1861918200@gslookout.org
SUMMARY:Youth Breakfast & Sunday School
DESCRIPTION:
URL:https://gslookout.org/event/youth-breakfast-sunday-school-2/2028-12-31/
LOCATION:Youth Building
CATEGORIES:Formation,Youth
END:VEVENT
BEGIN:VEVENT
DTSTART;TZID=America/New_York:20290103T183000
DTEND;TZID=America/New_York:20290103T193000
DTSTAMP:20260425T101955
CREATED:20230127T163955Z
LAST-MODIFIED:20230127T165113Z
UID:10015137-1862159400-1862163000@gslookout.org
SUMMARY:Wednesday Night Youth
DESCRIPTION:
URL:https://gslookout.org/event/wednesday-night-youth/2029-01-03/
LOCATION:Youth Building
CATEGORIES:Formation,Youth
END:VEVENT
BEGIN:VEVENT
DTSTART;TZID=America/New_York:20290107T103000
DTEND;TZID=America/New_York:20290107T233000
DTSTAMP:20260425T101955
CREATED:20230908T210148Z
LAST-MODIFIED:20230908T210149Z
UID:10017689-1862476200-1862523000@gslookout.org
SUMMARY:Youth Breakfast & Sunday School
DESCRIPTION:
URL:https://gslookout.org/event/youth-breakfast-sunday-school-2/2029-01-07/
LOCATION:Youth Building
CATEGORIES:Formation,Youth
END:VEVENT
BEGIN:VEVENT
DTSTART;TZID=America/New_York:20290110T183000
DTEND;TZID=America/New_York:20290110T193000
DTSTAMP:20260425T101955
CREATED:20230127T163955Z
LAST-MODIFIED:20230127T165113Z
UID:10015138-1862764200-1862767800@gslookout.org
SUMMARY:Wednesday Night Youth
DESCRIPTION:
URL:https://gslookout.org/event/wednesday-night-youth/2029-01-10/
LOCATION:Youth Building
CATEGORIES:Formation,Youth
END:VEVENT
BEGIN:VEVENT
DTSTART;TZID=America/New_York:20290114T103000
DTEND;TZID=America/New_York:20290114T233000
DTSTAMP:20260425T101955
CREATED:20230908T210148Z
LAST-MODIFIED:20230908T210149Z
UID:10017690-1863081000-1863127800@gslookout.org
SUMMARY:Youth Breakfast & Sunday School
DESCRIPTION:
URL:https://gslookout.org/event/youth-breakfast-sunday-school-2/2029-01-14/
LOCATION:Youth Building
CATEGORIES:Formation,Youth
END:VEVENT
BEGIN:VEVENT
DTSTART;TZID=America/New_York:20290117T183000
DTEND;TZID=America/New_York:20290117T193000
DTSTAMP:20260425T101955
CREATED:20230127T163955Z
LAST-MODIFIED:20230127T165113Z
UID:10015139-1863369000-1863372600@gslookout.org
SUMMARY:Wednesday Night Youth
DESCRIPTION:
URL:https://gslookout.org/event/wednesday-night-youth/2029-01-17/
LOCATION:Youth Building
CATEGORIES:Formation,Youth
END:VEVENT
BEGIN:VEVENT
DTSTART;TZID=America/New_York:20290121T103000
DTEND;TZID=America/New_York:20290121T233000
DTSTAMP:20260425T101955
CREATED:20230908T210148Z
LAST-MODIFIED:20230908T210149Z
UID:10017691-1863685800-1863732600@gslookout.org
SUMMARY:Youth Breakfast & Sunday School
DESCRIPTION:
URL:https://gslookout.org/event/youth-breakfast-sunday-school-2/2029-01-21/
LOCATION:Youth Building
CATEGORIES:Formation,Youth
END:VEVENT
BEGIN:VEVENT
DTSTART;TZID=America/New_York:20290124T183000
DTEND;TZID=America/New_York:20290124T193000
DTSTAMP:20260425T101955
CREATED:20230127T163955Z
LAST-MODIFIED:20230127T165113Z
UID:10015140-1863973800-1863977400@gslookout.org
SUMMARY:Wednesday Night Youth
DESCRIPTION:
URL:https://gslookout.org/event/wednesday-night-youth/2029-01-24/
LOCATION:Youth Building
CATEGORIES:Formation,Youth
END:VEVENT
BEGIN:VEVENT
DTSTART;TZID=America/New_York:20290128T103000
DTEND;TZID=America/New_York:20290128T233000
DTSTAMP:20260425T101955
CREATED:20230908T210148Z
LAST-MODIFIED:20230908T210149Z
UID:10017692-1864290600-1864337400@gslookout.org
SUMMARY:Youth Breakfast & Sunday School
DESCRIPTION:
URL:https://gslookout.org/event/youth-breakfast-sunday-school-2/2029-01-28/
LOCATION:Youth Building
CATEGORIES:Formation,Youth
END:VEVENT
BEGIN:VEVENT
DTSTART;TZID=America/New_York:20290131T183000
DTEND;TZID=America/New_York:20290131T193000
DTSTAMP:20260425T101955
CREATED:20230127T163955Z
LAST-MODIFIED:20230127T165113Z
UID:10015141-1864578600-1864582200@gslookout.org
SUMMARY:Wednesday Night Youth
DESCRIPTION:
URL:https://gslookout.org/event/wednesday-night-youth/2029-01-31/
LOCATION:Youth Building
CATEGORIES:Formation,Youth
END:VEVENT
BEGIN:VEVENT
DTSTART;TZID=America/New_York:20290204T103000
DTEND;TZID=America/New_York:20290204T233000
DTSTAMP:20260425T101955
CREATED:20230908T210148Z
LAST-MODIFIED:20230908T210149Z
UID:10017693-1864895400-1864942200@gslookout.org
SUMMARY:Youth Breakfast & Sunday School
DESCRIPTION:
URL:https://gslookout.org/event/youth-breakfast-sunday-school-2/2029-02-04/
LOCATION:Youth Building
CATEGORIES:Formation,Youth
END:VEVENT
BEGIN:VEVENT
DTSTART;TZID=America/New_York:20290207T183000
DTEND;TZID=America/New_York:20290207T193000
DTSTAMP:20260425T101955
CREATED:20230127T163955Z
LAST-MODIFIED:20230127T165113Z
UID:10015142-1865183400-1865187000@gslookout.org
SUMMARY:Wednesday Night Youth
DESCRIPTION:
URL:https://gslookout.org/event/wednesday-night-youth/2029-02-07/
LOCATION:Youth Building
CATEGORIES:Formation,Youth
END:VEVENT
BEGIN:VEVENT
DTSTART;TZID=America/New_York:20290211T103000
DTEND;TZID=America/New_York:20290211T233000
DTSTAMP:20260425T101955
CREATED:20230908T210148Z
LAST-MODIFIED:20230908T210149Z
UID:10017694-1865500200-1865547000@gslookout.org
SUMMARY:Youth Breakfast & Sunday School
DESCRIPTION:
URL:https://gslookout.org/event/youth-breakfast-sunday-school-2/2029-02-11/
LOCATION:Youth Building
CATEGORIES:Formation,Youth
END:VEVENT
BEGIN:VEVENT
DTSTART;TZID=America/New_York:20290214T183000
DTEND;TZID=America/New_York:20290214T193000
DTSTAMP:20260425T101955
CREATED:20230127T163955Z
LAST-MODIFIED:20230127T165113Z
UID:10016778-1865788200-1865791800@gslookout.org
SUMMARY:Wednesday Night Youth
DESCRIPTION:
URL:https://gslookout.org/event/wednesday-night-youth/2029-02-14/
LOCATION:Youth Building
CATEGORIES:Formation,Youth
END:VEVENT
BEGIN:VEVENT
DTSTART;TZID=America/New_York:20290218T103000
DTEND;TZID=America/New_York:20290218T233000
DTSTAMP:20260425T101955
CREATED:20230908T210148Z
LAST-MODIFIED:20230908T210149Z
UID:10017695-1866105000-1866151800@gslookout.org
SUMMARY:Youth Breakfast & Sunday School
DESCRIPTION:
URL:https://gslookout.org/event/youth-breakfast-sunday-school-2/2029-02-18/
LOCATION:Youth Building
CATEGORIES:Formation,Youth
END:VEVENT
BEGIN:VEVENT
DTSTART;TZID=America/New_York:20290221T183000
DTEND;TZID=America/New_York:20290221T193000
DTSTAMP:20260425T101955
CREATED:20230127T163955Z
LAST-MODIFIED:20230127T165113Z
UID:10016779-1866393000-1866396600@gslookout.org
SUMMARY:Wednesday Night Youth
DESCRIPTION:
URL:https://gslookout.org/event/wednesday-night-youth/2029-02-21/
LOCATION:Youth Building
CATEGORIES:Formation,Youth
END:VEVENT
BEGIN:VEVENT
DTSTART;TZID=America/New_York:20290225T103000
DTEND;TZID=America/New_York:20290225T233000
DTSTAMP:20260425T101955
CREATED:20230908T210148Z
LAST-MODIFIED:20230908T210149Z
UID:10017696-1866709800-1866756600@gslookout.org
SUMMARY:Youth Breakfast & Sunday School
DESCRIPTION:
URL:https://gslookout.org/event/youth-breakfast-sunday-school-2/2029-02-25/
LOCATION:Youth Building
CATEGORIES:Formation,Youth
END:VEVENT
BEGIN:VEVENT
DTSTART;TZID=America/New_York:20290228T183000
DTEND;TZID=America/New_York:20290228T193000
DTSTAMP:20260425T101955
CREATED:20230127T163955Z
LAST-MODIFIED:20230127T165113Z
UID:10016780-1866997800-1867001400@gslookout.org
SUMMARY:Wednesday Night Youth
DESCRIPTION:
URL:https://gslookout.org/event/wednesday-night-youth/2029-02-28/
LOCATION:Youth Building
CATEGORIES:Formation,Youth
END:VEVENT
BEGIN:VEVENT
DTSTART;TZID=America/New_York:20290304T103000
DTEND;TZID=America/New_York:20290304T233000
DTSTAMP:20260425T101955
CREATED:20230908T210148Z
LAST-MODIFIED:20230908T210149Z
UID:10017697-1867314600-1867361400@gslookout.org
SUMMARY:Youth Breakfast & Sunday School
DESCRIPTION:
URL:https://gslookout.org/event/youth-breakfast-sunday-school-2/2029-03-04/
LOCATION:Youth Building
CATEGORIES:Formation,Youth
END:VEVENT
BEGIN:VEVENT
DTSTART;TZID=America/New_York:20290307T183000
DTEND;TZID=America/New_York:20290307T193000
DTSTAMP:20260425T101955
CREATED:20230127T163955Z
LAST-MODIFIED:20230127T165113Z
UID:10016781-1867602600-1867606200@gslookout.org
SUMMARY:Wednesday Night Youth
DESCRIPTION:
URL:https://gslookout.org/event/wednesday-night-youth/2029-03-07/
LOCATION:Youth Building
CATEGORIES:Formation,Youth
END:VEVENT
BEGIN:VEVENT
DTSTART;TZID=America/New_York:20290311T103000
DTEND;TZID=America/New_York:20290311T233000
DTSTAMP:20260425T101955
CREATED:20230908T210148Z
LAST-MODIFIED:20230908T210149Z
UID:10017698-1867919400-1867966200@gslookout.org
SUMMARY:Youth Breakfast & Sunday School
DESCRIPTION:
URL:https://gslookout.org/event/youth-breakfast-sunday-school-2/2029-03-11/
LOCATION:Youth Building
CATEGORIES:Formation,Youth
END:VEVENT
BEGIN:VEVENT
DTSTART;TZID=America/New_York:20290314T183000
DTEND;TZID=America/New_York:20290314T193000
DTSTAMP:20260425T101955
CREATED:20230127T163955Z
LAST-MODIFIED:20230127T165113Z
UID:10016782-1868207400-1868211000@gslookout.org
SUMMARY:Wednesday Night Youth
DESCRIPTION:
URL:https://gslookout.org/event/wednesday-night-youth/2029-03-14/
LOCATION:Youth Building
CATEGORIES:Formation,Youth
END:VEVENT
END:VCALENDAR