BEGIN:VCALENDAR
VERSION:2.0
PRODID:-//Church of the Good Shepherd - ECPv6.15.20//NONSGML v1.0//EN
CALSCALE:GREGORIAN
METHOD:PUBLISH
X-WR-CALNAME:Church of the Good Shepherd
X-ORIGINAL-URL:https://gslookout.org
X-WR-CALDESC:Events for Church of the Good Shepherd
REFRESH-INTERVAL;VALUE=DURATION:PT1H
X-Robots-Tag:noindex
X-PUBLISHED-TTL:PT1H
BEGIN:VTIMEZONE
TZID:America/New_York
BEGIN:DAYLIGHT
TZOFFSETFROM:-0500
TZOFFSETTO:-0400
TZNAME:EDT
DTSTART:20280312T070000
END:DAYLIGHT
BEGIN:STANDARD
TZOFFSETFROM:-0400
TZOFFSETTO:-0500
TZNAME:EST
DTSTART:20281105T060000
END:STANDARD
BEGIN:DAYLIGHT
TZOFFSETFROM:-0500
TZOFFSETTO:-0400
TZNAME:EDT
DTSTART:20290311T070000
END:DAYLIGHT
BEGIN:STANDARD
TZOFFSETFROM:-0400
TZOFFSETTO:-0500
TZNAME:EST
DTSTART:20291104T060000
END:STANDARD
BEGIN:DAYLIGHT
TZOFFSETFROM:-0500
TZOFFSETTO:-0400
TZNAME:EDT
DTSTART:20300310T070000
END:DAYLIGHT
BEGIN:STANDARD
TZOFFSETFROM:-0400
TZOFFSETTO:-0500
TZNAME:EST
DTSTART:20301103T060000
END:STANDARD
END:VTIMEZONE
BEGIN:VEVENT
DTSTART;TZID=America/New_York:20290411T183000
DTEND;TZID=America/New_York:20290411T193000
DTSTAMP:20260425T105600
CREATED:20230127T163955Z
LAST-MODIFIED:20230127T165113Z
UID:10016786-1870626600-1870630200@gslookout.org
SUMMARY:Wednesday Night Youth
DESCRIPTION:
URL:https://gslookout.org/event/wednesday-night-youth/2029-04-11/
LOCATION:Youth Building
CATEGORIES:Formation,Youth
END:VEVENT
BEGIN:VEVENT
DTSTART;TZID=America/New_York:20290415T103000
DTEND;TZID=America/New_York:20290415T233000
DTSTAMP:20260425T105600
CREATED:20230908T210148Z
LAST-MODIFIED:20230908T210149Z
UID:10017703-1870943400-1870990200@gslookout.org
SUMMARY:Youth Breakfast & Sunday School
DESCRIPTION:
URL:https://gslookout.org/event/youth-breakfast-sunday-school-2/2029-04-15/
LOCATION:Youth Building
CATEGORIES:Formation,Youth
END:VEVENT
BEGIN:VEVENT
DTSTART;TZID=America/New_York:20290418T183000
DTEND;TZID=America/New_York:20290418T193000
DTSTAMP:20260425T105600
CREATED:20230127T163955Z
LAST-MODIFIED:20230127T165113Z
UID:10016787-1871231400-1871235000@gslookout.org
SUMMARY:Wednesday Night Youth
DESCRIPTION:
URL:https://gslookout.org/event/wednesday-night-youth/2029-04-18/
LOCATION:Youth Building
CATEGORIES:Formation,Youth
END:VEVENT
BEGIN:VEVENT
DTSTART;TZID=America/New_York:20290422T103000
DTEND;TZID=America/New_York:20290422T233000
DTSTAMP:20260425T105600
CREATED:20230908T210148Z
LAST-MODIFIED:20230908T210149Z
UID:10017704-1871548200-1871595000@gslookout.org
SUMMARY:Youth Breakfast & Sunday School
DESCRIPTION:
URL:https://gslookout.org/event/youth-breakfast-sunday-school-2/2029-04-22/
LOCATION:Youth Building
CATEGORIES:Formation,Youth
END:VEVENT
BEGIN:VEVENT
DTSTART;TZID=America/New_York:20290425T183000
DTEND;TZID=America/New_York:20290425T193000
DTSTAMP:20260425T105600
CREATED:20230127T163955Z
LAST-MODIFIED:20230127T165113Z
UID:10016788-1871836200-1871839800@gslookout.org
SUMMARY:Wednesday Night Youth
DESCRIPTION:
URL:https://gslookout.org/event/wednesday-night-youth/2029-04-25/
LOCATION:Youth Building
CATEGORIES:Formation,Youth
END:VEVENT
BEGIN:VEVENT
DTSTART;TZID=America/New_York:20290429T103000
DTEND;TZID=America/New_York:20290429T233000
DTSTAMP:20260425T105600
CREATED:20230908T210148Z
LAST-MODIFIED:20230908T210149Z
UID:10017705-1872153000-1872199800@gslookout.org
SUMMARY:Youth Breakfast & Sunday School
DESCRIPTION:
URL:https://gslookout.org/event/youth-breakfast-sunday-school-2/2029-04-29/
LOCATION:Youth Building
CATEGORIES:Formation,Youth
END:VEVENT
BEGIN:VEVENT
DTSTART;TZID=America/New_York:20290502T183000
DTEND;TZID=America/New_York:20290502T193000
DTSTAMP:20260425T105600
CREATED:20230127T163955Z
LAST-MODIFIED:20230127T165113Z
UID:10016789-1872441000-1872444600@gslookout.org
SUMMARY:Wednesday Night Youth
DESCRIPTION:
URL:https://gslookout.org/event/wednesday-night-youth/2029-05-02/
LOCATION:Youth Building
CATEGORIES:Formation,Youth
END:VEVENT
BEGIN:VEVENT
DTSTART;TZID=America/New_York:20290506T103000
DTEND;TZID=America/New_York:20290506T233000
DTSTAMP:20260425T105600
CREATED:20230908T210148Z
LAST-MODIFIED:20230908T210149Z
UID:10017706-1872757800-1872804600@gslookout.org
SUMMARY:Youth Breakfast & Sunday School
DESCRIPTION:
URL:https://gslookout.org/event/youth-breakfast-sunday-school-2/2029-05-06/
LOCATION:Youth Building
CATEGORIES:Formation,Youth
END:VEVENT
BEGIN:VEVENT
DTSTART;TZID=America/New_York:20290509T183000
DTEND;TZID=America/New_York:20290509T193000
DTSTAMP:20260425T105600
CREATED:20230127T163955Z
LAST-MODIFIED:20230127T165113Z
UID:10016790-1873045800-1873049400@gslookout.org
SUMMARY:Wednesday Night Youth
DESCRIPTION:
URL:https://gslookout.org/event/wednesday-night-youth/2029-05-09/
LOCATION:Youth Building
CATEGORIES:Formation,Youth
END:VEVENT
BEGIN:VEVENT
DTSTART;TZID=America/New_York:20290513T103000
DTEND;TZID=America/New_York:20290513T233000
DTSTAMP:20260425T105600
CREATED:20230908T210148Z
LAST-MODIFIED:20230908T210149Z
UID:10017707-1873362600-1873409400@gslookout.org
SUMMARY:Youth Breakfast & Sunday School
DESCRIPTION:
URL:https://gslookout.org/event/youth-breakfast-sunday-school-2/2029-05-13/
LOCATION:Youth Building
CATEGORIES:Formation,Youth
END:VEVENT
BEGIN:VEVENT
DTSTART;TZID=America/New_York:20290516T183000
DTEND;TZID=America/New_York:20290516T193000
DTSTAMP:20260425T105600
CREATED:20230127T163955Z
LAST-MODIFIED:20230127T165113Z
UID:10016791-1873650600-1873654200@gslookout.org
SUMMARY:Wednesday Night Youth
DESCRIPTION:
URL:https://gslookout.org/event/wednesday-night-youth/2029-05-16/
LOCATION:Youth Building
CATEGORIES:Formation,Youth
END:VEVENT
BEGIN:VEVENT
DTSTART;TZID=America/New_York:20290520T103000
DTEND;TZID=America/New_York:20290520T233000
DTSTAMP:20260425T105600
CREATED:20230908T210148Z
LAST-MODIFIED:20230908T210149Z
UID:10017708-1873967400-1874014200@gslookout.org
SUMMARY:Youth Breakfast & Sunday School
DESCRIPTION:
URL:https://gslookout.org/event/youth-breakfast-sunday-school-2/2029-05-20/
LOCATION:Youth Building
CATEGORIES:Formation,Youth
END:VEVENT
BEGIN:VEVENT
DTSTART;TZID=America/New_York:20290523T183000
DTEND;TZID=America/New_York:20290523T193000
DTSTAMP:20260425T105600
CREATED:20230127T163955Z
LAST-MODIFIED:20230127T165113Z
UID:10016792-1874255400-1874259000@gslookout.org
SUMMARY:Wednesday Night Youth
DESCRIPTION:
URL:https://gslookout.org/event/wednesday-night-youth/2029-05-23/
LOCATION:Youth Building
CATEGORIES:Formation,Youth
END:VEVENT
BEGIN:VEVENT
DTSTART;TZID=America/New_York:20290527T103000
DTEND;TZID=America/New_York:20290527T233000
DTSTAMP:20260425T105600
CREATED:20230908T210148Z
LAST-MODIFIED:20230908T210149Z
UID:10017709-1874572200-1874619000@gslookout.org
SUMMARY:Youth Breakfast & Sunday School
DESCRIPTION:
URL:https://gslookout.org/event/youth-breakfast-sunday-school-2/2029-05-27/
LOCATION:Youth Building
CATEGORIES:Formation,Youth
END:VEVENT
BEGIN:VEVENT
DTSTART;TZID=America/New_York:20290530T183000
DTEND;TZID=America/New_York:20290530T193000
DTSTAMP:20260425T105600
CREATED:20230127T163955Z
LAST-MODIFIED:20230127T165113Z
UID:10016793-1874860200-1874863800@gslookout.org
SUMMARY:Wednesday Night Youth
DESCRIPTION:
URL:https://gslookout.org/event/wednesday-night-youth/2029-05-30/
LOCATION:Youth Building
CATEGORIES:Formation,Youth
END:VEVENT
BEGIN:VEVENT
DTSTART;TZID=America/New_York:20290603T103000
DTEND;TZID=America/New_York:20290603T233000
DTSTAMP:20260425T105600
CREATED:20230908T210148Z
LAST-MODIFIED:20230908T210149Z
UID:10017710-1875177000-1875223800@gslookout.org
SUMMARY:Youth Breakfast & Sunday School
DESCRIPTION:
URL:https://gslookout.org/event/youth-breakfast-sunday-school-2/2029-06-03/
LOCATION:Youth Building
CATEGORIES:Formation,Youth
END:VEVENT
BEGIN:VEVENT
DTSTART;TZID=America/New_York:20290606T183000
DTEND;TZID=America/New_York:20290606T193000
DTSTAMP:20260425T105600
CREATED:20230127T163955Z
LAST-MODIFIED:20230127T165113Z
UID:10016794-1875465000-1875468600@gslookout.org
SUMMARY:Wednesday Night Youth
DESCRIPTION:
URL:https://gslookout.org/event/wednesday-night-youth/2029-06-06/
LOCATION:Youth Building
CATEGORIES:Formation,Youth
END:VEVENT
BEGIN:VEVENT
DTSTART;TZID=America/New_York:20290610T103000
DTEND;TZID=America/New_York:20290610T233000
DTSTAMP:20260425T105600
CREATED:20230908T210148Z
LAST-MODIFIED:20230908T210149Z
UID:10017711-1875781800-1875828600@gslookout.org
SUMMARY:Youth Breakfast & Sunday School
DESCRIPTION:
URL:https://gslookout.org/event/youth-breakfast-sunday-school-2/2029-06-10/
LOCATION:Youth Building
CATEGORIES:Formation,Youth
END:VEVENT
BEGIN:VEVENT
DTSTART;TZID=America/New_York:20290613T183000
DTEND;TZID=America/New_York:20290613T193000
DTSTAMP:20260425T105600
CREATED:20230127T163955Z
LAST-MODIFIED:20230127T165113Z
UID:10016795-1876069800-1876073400@gslookout.org
SUMMARY:Wednesday Night Youth
DESCRIPTION:
URL:https://gslookout.org/event/wednesday-night-youth/2029-06-13/
LOCATION:Youth Building
CATEGORIES:Formation,Youth
END:VEVENT
BEGIN:VEVENT
DTSTART;TZID=America/New_York:20290617T103000
DTEND;TZID=America/New_York:20290617T233000
DTSTAMP:20260425T105600
CREATED:20230908T210148Z
LAST-MODIFIED:20230908T210149Z
UID:10017712-1876386600-1876433400@gslookout.org
SUMMARY:Youth Breakfast & Sunday School
DESCRIPTION:
URL:https://gslookout.org/event/youth-breakfast-sunday-school-2/2029-06-17/
LOCATION:Youth Building
CATEGORIES:Formation,Youth
END:VEVENT
BEGIN:VEVENT
DTSTART;TZID=America/New_York:20290620T183000
DTEND;TZID=America/New_York:20290620T193000
DTSTAMP:20260425T105600
CREATED:20230127T163955Z
LAST-MODIFIED:20230127T165113Z
UID:10016796-1876674600-1876678200@gslookout.org
SUMMARY:Wednesday Night Youth
DESCRIPTION:
URL:https://gslookout.org/event/wednesday-night-youth/2029-06-20/
LOCATION:Youth Building
CATEGORIES:Formation,Youth
END:VEVENT
BEGIN:VEVENT
DTSTART;TZID=America/New_York:20290624T103000
DTEND;TZID=America/New_York:20290624T233000
DTSTAMP:20260425T105600
CREATED:20230908T210148Z
LAST-MODIFIED:20230908T210149Z
UID:10017713-1876991400-1877038200@gslookout.org
SUMMARY:Youth Breakfast & Sunday School
DESCRIPTION:
URL:https://gslookout.org/event/youth-breakfast-sunday-school-2/2029-06-24/
LOCATION:Youth Building
CATEGORIES:Formation,Youth
END:VEVENT
BEGIN:VEVENT
DTSTART;TZID=America/New_York:20290627T183000
DTEND;TZID=America/New_York:20290627T193000
DTSTAMP:20260425T105600
CREATED:20230127T163955Z
LAST-MODIFIED:20230127T165113Z
UID:10016797-1877279400-1877283000@gslookout.org
SUMMARY:Wednesday Night Youth
DESCRIPTION:
URL:https://gslookout.org/event/wednesday-night-youth/2029-06-27/
LOCATION:Youth Building
CATEGORIES:Formation,Youth
END:VEVENT
BEGIN:VEVENT
DTSTART;TZID=America/New_York:20290701T103000
DTEND;TZID=America/New_York:20290701T233000
DTSTAMP:20260425T105600
CREATED:20230908T210148Z
LAST-MODIFIED:20230908T210149Z
UID:10017714-1877596200-1877643000@gslookout.org
SUMMARY:Youth Breakfast & Sunday School
DESCRIPTION:
URL:https://gslookout.org/event/youth-breakfast-sunday-school-2/2029-07-01/
LOCATION:Youth Building
CATEGORIES:Formation,Youth
END:VEVENT
BEGIN:VEVENT
DTSTART;TZID=America/New_York:20290704T183000
DTEND;TZID=America/New_York:20290704T193000
DTSTAMP:20260425T105600
CREATED:20230127T163955Z
LAST-MODIFIED:20230127T165113Z
UID:10016798-1877884200-1877887800@gslookout.org
SUMMARY:Wednesday Night Youth
DESCRIPTION:
URL:https://gslookout.org/event/wednesday-night-youth/2029-07-04/
LOCATION:Youth Building
CATEGORIES:Formation,Youth
END:VEVENT
BEGIN:VEVENT
DTSTART;TZID=America/New_York:20290708T103000
DTEND;TZID=America/New_York:20290708T233000
DTSTAMP:20260425T105600
CREATED:20230908T210148Z
LAST-MODIFIED:20230908T210149Z
UID:10017715-1878201000-1878247800@gslookout.org
SUMMARY:Youth Breakfast & Sunday School
DESCRIPTION:
URL:https://gslookout.org/event/youth-breakfast-sunday-school-2/2029-07-08/
LOCATION:Youth Building
CATEGORIES:Formation,Youth
END:VEVENT
BEGIN:VEVENT
DTSTART;TZID=America/New_York:20290711T183000
DTEND;TZID=America/New_York:20290711T193000
DTSTAMP:20260425T105600
CREATED:20230127T163955Z
LAST-MODIFIED:20230127T165113Z
UID:10016799-1878489000-1878492600@gslookout.org
SUMMARY:Wednesday Night Youth
DESCRIPTION:
URL:https://gslookout.org/event/wednesday-night-youth/2029-07-11/
LOCATION:Youth Building
CATEGORIES:Formation,Youth
END:VEVENT
BEGIN:VEVENT
DTSTART;TZID=America/New_York:20290715T103000
DTEND;TZID=America/New_York:20290715T233000
DTSTAMP:20260425T105600
CREATED:20230908T210148Z
LAST-MODIFIED:20230908T210149Z
UID:10017716-1878805800-1878852600@gslookout.org
SUMMARY:Youth Breakfast & Sunday School
DESCRIPTION:
URL:https://gslookout.org/event/youth-breakfast-sunday-school-2/2029-07-15/
LOCATION:Youth Building
CATEGORIES:Formation,Youth
END:VEVENT
BEGIN:VEVENT
DTSTART;TZID=America/New_York:20290718T183000
DTEND;TZID=America/New_York:20290718T193000
DTSTAMP:20260425T105600
CREATED:20230127T163955Z
LAST-MODIFIED:20230127T165113Z
UID:10016800-1879093800-1879097400@gslookout.org
SUMMARY:Wednesday Night Youth
DESCRIPTION:
URL:https://gslookout.org/event/wednesday-night-youth/2029-07-18/
LOCATION:Youth Building
CATEGORIES:Formation,Youth
END:VEVENT
BEGIN:VEVENT
DTSTART;TZID=America/New_York:20290722T103000
DTEND;TZID=America/New_York:20290722T233000
DTSTAMP:20260425T105600
CREATED:20230908T210148Z
LAST-MODIFIED:20230908T210149Z
UID:10017717-1879410600-1879457400@gslookout.org
SUMMARY:Youth Breakfast & Sunday School
DESCRIPTION:
URL:https://gslookout.org/event/youth-breakfast-sunday-school-2/2029-07-22/
LOCATION:Youth Building
CATEGORIES:Formation,Youth
END:VEVENT
END:VCALENDAR