BEGIN:VCALENDAR
VERSION:2.0
PRODID:-//Church of the Good Shepherd - ECPv6.15.20//NONSGML v1.0//EN
CALSCALE:GREGORIAN
METHOD:PUBLISH
X-WR-CALNAME:Church of the Good Shepherd
X-ORIGINAL-URL:https://gslookout.org
X-WR-CALDESC:Events for Church of the Good Shepherd
REFRESH-INTERVAL;VALUE=DURATION:PT1H
X-Robots-Tag:noindex
X-PUBLISHED-TTL:PT1H
BEGIN:VTIMEZONE
TZID:America/New_York
BEGIN:DAYLIGHT
TZOFFSETFROM:-0500
TZOFFSETTO:-0400
TZNAME:EDT
DTSTART:20280312T070000
END:DAYLIGHT
BEGIN:STANDARD
TZOFFSETFROM:-0400
TZOFFSETTO:-0500
TZNAME:EST
DTSTART:20281105T060000
END:STANDARD
BEGIN:DAYLIGHT
TZOFFSETFROM:-0500
TZOFFSETTO:-0400
TZNAME:EDT
DTSTART:20290311T070000
END:DAYLIGHT
BEGIN:STANDARD
TZOFFSETFROM:-0400
TZOFFSETTO:-0500
TZNAME:EST
DTSTART:20291104T060000
END:STANDARD
BEGIN:DAYLIGHT
TZOFFSETFROM:-0500
TZOFFSETTO:-0400
TZNAME:EDT
DTSTART:20300310T070000
END:DAYLIGHT
BEGIN:STANDARD
TZOFFSETFROM:-0400
TZOFFSETTO:-0500
TZNAME:EST
DTSTART:20301103T060000
END:STANDARD
END:VTIMEZONE
BEGIN:VEVENT
DTSTART;TZID=America/New_York:20290801T183000
DTEND;TZID=America/New_York:20290801T193000
DTSTAMP:20260425T222334
CREATED:20230127T163955Z
LAST-MODIFIED:20230127T165113Z
UID:10016802-1880303400-1880307000@gslookout.org
SUMMARY:Wednesday Night Youth
DESCRIPTION:
URL:https://gslookout.org/event/wednesday-night-youth/2029-08-01/
LOCATION:Youth Building
CATEGORIES:Formation,Youth
END:VEVENT
BEGIN:VEVENT
DTSTART;TZID=America/New_York:20290805T103000
DTEND;TZID=America/New_York:20290805T233000
DTSTAMP:20260425T222334
CREATED:20230908T210148Z
LAST-MODIFIED:20230908T210149Z
UID:10017719-1880620200-1880667000@gslookout.org
SUMMARY:Youth Breakfast & Sunday School
DESCRIPTION:
URL:https://gslookout.org/event/youth-breakfast-sunday-school-2/2029-08-05/
LOCATION:Youth Building
CATEGORIES:Formation,Youth
END:VEVENT
BEGIN:VEVENT
DTSTART;TZID=America/New_York:20290808T183000
DTEND;TZID=America/New_York:20290808T193000
DTSTAMP:20260425T222334
CREATED:20230127T163955Z
LAST-MODIFIED:20230127T165113Z
UID:10016803-1880908200-1880911800@gslookout.org
SUMMARY:Wednesday Night Youth
DESCRIPTION:
URL:https://gslookout.org/event/wednesday-night-youth/2029-08-08/
LOCATION:Youth Building
CATEGORIES:Formation,Youth
END:VEVENT
BEGIN:VEVENT
DTSTART;TZID=America/New_York:20290812T103000
DTEND;TZID=America/New_York:20290812T233000
DTSTAMP:20260425T222334
CREATED:20230908T210148Z
LAST-MODIFIED:20230908T210149Z
UID:10017720-1881225000-1881271800@gslookout.org
SUMMARY:Youth Breakfast & Sunday School
DESCRIPTION:
URL:https://gslookout.org/event/youth-breakfast-sunday-school-2/2029-08-12/
LOCATION:Youth Building
CATEGORIES:Formation,Youth
END:VEVENT
BEGIN:VEVENT
DTSTART;TZID=America/New_York:20290815T183000
DTEND;TZID=America/New_York:20290815T193000
DTSTAMP:20260425T222334
CREATED:20230127T163955Z
LAST-MODIFIED:20230127T165113Z
UID:10016804-1881513000-1881516600@gslookout.org
SUMMARY:Wednesday Night Youth
DESCRIPTION:
URL:https://gslookout.org/event/wednesday-night-youth/2029-08-15/
LOCATION:Youth Building
CATEGORIES:Formation,Youth
END:VEVENT
BEGIN:VEVENT
DTSTART;TZID=America/New_York:20290819T103000
DTEND;TZID=America/New_York:20290819T233000
DTSTAMP:20260425T222334
CREATED:20230908T210148Z
LAST-MODIFIED:20230908T210149Z
UID:10017721-1881829800-1881876600@gslookout.org
SUMMARY:Youth Breakfast & Sunday School
DESCRIPTION:
URL:https://gslookout.org/event/youth-breakfast-sunday-school-2/2029-08-19/
LOCATION:Youth Building
CATEGORIES:Formation,Youth
END:VEVENT
BEGIN:VEVENT
DTSTART;TZID=America/New_York:20290822T183000
DTEND;TZID=America/New_York:20290822T193000
DTSTAMP:20260425T222334
CREATED:20230127T163955Z
LAST-MODIFIED:20230127T165113Z
UID:10016805-1882117800-1882121400@gslookout.org
SUMMARY:Wednesday Night Youth
DESCRIPTION:
URL:https://gslookout.org/event/wednesday-night-youth/2029-08-22/
LOCATION:Youth Building
CATEGORIES:Formation,Youth
END:VEVENT
BEGIN:VEVENT
DTSTART;TZID=America/New_York:20290826T103000
DTEND;TZID=America/New_York:20290826T233000
DTSTAMP:20260425T222334
CREATED:20230908T210148Z
LAST-MODIFIED:20230908T210149Z
UID:10017722-1882434600-1882481400@gslookout.org
SUMMARY:Youth Breakfast & Sunday School
DESCRIPTION:
URL:https://gslookout.org/event/youth-breakfast-sunday-school-2/2029-08-26/
LOCATION:Youth Building
CATEGORIES:Formation,Youth
END:VEVENT
BEGIN:VEVENT
DTSTART;TZID=America/New_York:20290829T183000
DTEND;TZID=America/New_York:20290829T193000
DTSTAMP:20260425T222334
CREATED:20230127T163955Z
LAST-MODIFIED:20230127T165113Z
UID:10016806-1882722600-1882726200@gslookout.org
SUMMARY:Wednesday Night Youth
DESCRIPTION:
URL:https://gslookout.org/event/wednesday-night-youth/2029-08-29/
LOCATION:Youth Building
CATEGORIES:Formation,Youth
END:VEVENT
BEGIN:VEVENT
DTSTART;TZID=America/New_York:20290902T103000
DTEND;TZID=America/New_York:20290902T233000
DTSTAMP:20260425T222334
CREATED:20230908T210148Z
LAST-MODIFIED:20230908T210149Z
UID:10017723-1883039400-1883086200@gslookout.org
SUMMARY:Youth Breakfast & Sunday School
DESCRIPTION:
URL:https://gslookout.org/event/youth-breakfast-sunday-school-2/2029-09-02/
LOCATION:Youth Building
CATEGORIES:Formation,Youth
END:VEVENT
BEGIN:VEVENT
DTSTART;TZID=America/New_York:20290905T183000
DTEND;TZID=America/New_York:20290905T193000
DTSTAMP:20260425T222334
CREATED:20230127T163955Z
LAST-MODIFIED:20230127T165113Z
UID:10016807-1883327400-1883331000@gslookout.org
SUMMARY:Wednesday Night Youth
DESCRIPTION:
URL:https://gslookout.org/event/wednesday-night-youth/2029-09-05/
LOCATION:Youth Building
CATEGORIES:Formation,Youth
END:VEVENT
BEGIN:VEVENT
DTSTART;TZID=America/New_York:20290909T103000
DTEND;TZID=America/New_York:20290909T233000
DTSTAMP:20260425T222334
CREATED:20230908T210148Z
LAST-MODIFIED:20230908T210149Z
UID:10017724-1883644200-1883691000@gslookout.org
SUMMARY:Youth Breakfast & Sunday School
DESCRIPTION:
URL:https://gslookout.org/event/youth-breakfast-sunday-school-2/2029-09-09/
LOCATION:Youth Building
CATEGORIES:Formation,Youth
END:VEVENT
BEGIN:VEVENT
DTSTART;TZID=America/New_York:20290912T183000
DTEND;TZID=America/New_York:20290912T193000
DTSTAMP:20260425T222334
CREATED:20230127T163955Z
LAST-MODIFIED:20230127T165113Z
UID:10016808-1883932200-1883935800@gslookout.org
SUMMARY:Wednesday Night Youth
DESCRIPTION:
URL:https://gslookout.org/event/wednesday-night-youth/2029-09-12/
LOCATION:Youth Building
CATEGORIES:Formation,Youth
END:VEVENT
BEGIN:VEVENT
DTSTART;TZID=America/New_York:20290916T103000
DTEND;TZID=America/New_York:20290916T233000
DTSTAMP:20260425T222334
CREATED:20230908T210148Z
LAST-MODIFIED:20230908T210149Z
UID:10017725-1884249000-1884295800@gslookout.org
SUMMARY:Youth Breakfast & Sunday School
DESCRIPTION:
URL:https://gslookout.org/event/youth-breakfast-sunday-school-2/2029-09-16/
LOCATION:Youth Building
CATEGORIES:Formation,Youth
END:VEVENT
BEGIN:VEVENT
DTSTART;TZID=America/New_York:20290919T183000
DTEND;TZID=America/New_York:20290919T193000
DTSTAMP:20260425T222334
CREATED:20230127T163955Z
LAST-MODIFIED:20230127T165113Z
UID:10016809-1884537000-1884540600@gslookout.org
SUMMARY:Wednesday Night Youth
DESCRIPTION:
URL:https://gslookout.org/event/wednesday-night-youth/2029-09-19/
LOCATION:Youth Building
CATEGORIES:Formation,Youth
END:VEVENT
BEGIN:VEVENT
DTSTART;TZID=America/New_York:20290923T103000
DTEND;TZID=America/New_York:20290923T233000
DTSTAMP:20260425T222334
CREATED:20230908T210148Z
LAST-MODIFIED:20230908T210149Z
UID:10017726-1884853800-1884900600@gslookout.org
SUMMARY:Youth Breakfast & Sunday School
DESCRIPTION:
URL:https://gslookout.org/event/youth-breakfast-sunday-school-2/2029-09-23/
LOCATION:Youth Building
CATEGORIES:Formation,Youth
END:VEVENT
BEGIN:VEVENT
DTSTART;TZID=America/New_York:20290926T183000
DTEND;TZID=America/New_York:20290926T193000
DTSTAMP:20260425T222334
CREATED:20230127T163955Z
LAST-MODIFIED:20230127T165113Z
UID:10016810-1885141800-1885145400@gslookout.org
SUMMARY:Wednesday Night Youth
DESCRIPTION:
URL:https://gslookout.org/event/wednesday-night-youth/2029-09-26/
LOCATION:Youth Building
CATEGORIES:Formation,Youth
END:VEVENT
BEGIN:VEVENT
DTSTART;TZID=America/New_York:20290930T103000
DTEND;TZID=America/New_York:20290930T233000
DTSTAMP:20260425T222334
CREATED:20230908T210148Z
LAST-MODIFIED:20230908T210149Z
UID:10017727-1885458600-1885505400@gslookout.org
SUMMARY:Youth Breakfast & Sunday School
DESCRIPTION:
URL:https://gslookout.org/event/youth-breakfast-sunday-school-2/2029-09-30/
LOCATION:Youth Building
CATEGORIES:Formation,Youth
END:VEVENT
BEGIN:VEVENT
DTSTART;TZID=America/New_York:20291003T183000
DTEND;TZID=America/New_York:20291003T193000
DTSTAMP:20260425T222334
CREATED:20230127T163955Z
LAST-MODIFIED:20230127T165113Z
UID:10016811-1885746600-1885750200@gslookout.org
SUMMARY:Wednesday Night Youth
DESCRIPTION:
URL:https://gslookout.org/event/wednesday-night-youth/2029-10-03/
LOCATION:Youth Building
CATEGORIES:Formation,Youth
END:VEVENT
BEGIN:VEVENT
DTSTART;TZID=America/New_York:20291007T103000
DTEND;TZID=America/New_York:20291007T233000
DTSTAMP:20260425T222334
CREATED:20230908T210148Z
LAST-MODIFIED:20230908T210149Z
UID:10017728-1886063400-1886110200@gslookout.org
SUMMARY:Youth Breakfast & Sunday School
DESCRIPTION:
URL:https://gslookout.org/event/youth-breakfast-sunday-school-2/2029-10-07/
LOCATION:Youth Building
CATEGORIES:Formation,Youth
END:VEVENT
BEGIN:VEVENT
DTSTART;TZID=America/New_York:20291010T183000
DTEND;TZID=America/New_York:20291010T193000
DTSTAMP:20260425T222334
CREATED:20230127T163955Z
LAST-MODIFIED:20230127T165113Z
UID:10016812-1886351400-1886355000@gslookout.org
SUMMARY:Wednesday Night Youth
DESCRIPTION:
URL:https://gslookout.org/event/wednesday-night-youth/2029-10-10/
LOCATION:Youth Building
CATEGORIES:Formation,Youth
END:VEVENT
BEGIN:VEVENT
DTSTART;TZID=America/New_York:20291014T103000
DTEND;TZID=America/New_York:20291014T233000
DTSTAMP:20260425T222334
CREATED:20230908T210148Z
LAST-MODIFIED:20230908T210149Z
UID:10017729-1886668200-1886715000@gslookout.org
SUMMARY:Youth Breakfast & Sunday School
DESCRIPTION:
URL:https://gslookout.org/event/youth-breakfast-sunday-school-2/2029-10-14/
LOCATION:Youth Building
CATEGORIES:Formation,Youth
END:VEVENT
BEGIN:VEVENT
DTSTART;TZID=America/New_York:20291017T183000
DTEND;TZID=America/New_York:20291017T193000
DTSTAMP:20260425T222334
CREATED:20230127T163955Z
LAST-MODIFIED:20230127T165113Z
UID:10016813-1886956200-1886959800@gslookout.org
SUMMARY:Wednesday Night Youth
DESCRIPTION:
URL:https://gslookout.org/event/wednesday-night-youth/2029-10-17/
LOCATION:Youth Building
CATEGORIES:Formation,Youth
END:VEVENT
BEGIN:VEVENT
DTSTART;TZID=America/New_York:20291021T103000
DTEND;TZID=America/New_York:20291021T233000
DTSTAMP:20260425T222334
CREATED:20230908T210148Z
LAST-MODIFIED:20230908T210149Z
UID:10017730-1887273000-1887319800@gslookout.org
SUMMARY:Youth Breakfast & Sunday School
DESCRIPTION:
URL:https://gslookout.org/event/youth-breakfast-sunday-school-2/2029-10-21/
LOCATION:Youth Building
CATEGORIES:Formation,Youth
END:VEVENT
BEGIN:VEVENT
DTSTART;TZID=America/New_York:20291024T183000
DTEND;TZID=America/New_York:20291024T193000
DTSTAMP:20260425T222334
CREATED:20230127T163955Z
LAST-MODIFIED:20230127T165113Z
UID:10016814-1887561000-1887564600@gslookout.org
SUMMARY:Wednesday Night Youth
DESCRIPTION:
URL:https://gslookout.org/event/wednesday-night-youth/2029-10-24/
LOCATION:Youth Building
CATEGORIES:Formation,Youth
END:VEVENT
BEGIN:VEVENT
DTSTART;TZID=America/New_York:20291028T103000
DTEND;TZID=America/New_York:20291028T233000
DTSTAMP:20260425T222334
CREATED:20230908T210148Z
LAST-MODIFIED:20230908T210149Z
UID:10017731-1887877800-1887924600@gslookout.org
SUMMARY:Youth Breakfast & Sunday School
DESCRIPTION:
URL:https://gslookout.org/event/youth-breakfast-sunday-school-2/2029-10-28/
LOCATION:Youth Building
CATEGORIES:Formation,Youth
END:VEVENT
BEGIN:VEVENT
DTSTART;TZID=America/New_York:20291031T183000
DTEND;TZID=America/New_York:20291031T193000
DTSTAMP:20260425T222334
CREATED:20230127T163955Z
LAST-MODIFIED:20230127T165113Z
UID:10016815-1888165800-1888169400@gslookout.org
SUMMARY:Wednesday Night Youth
DESCRIPTION:
URL:https://gslookout.org/event/wednesday-night-youth/2029-10-31/
LOCATION:Youth Building
CATEGORIES:Formation,Youth
END:VEVENT
BEGIN:VEVENT
DTSTART;TZID=America/New_York:20291104T103000
DTEND;TZID=America/New_York:20291104T233000
DTSTAMP:20260425T222334
CREATED:20230908T210148Z
LAST-MODIFIED:20230908T210149Z
UID:10017732-1888482600-1888529400@gslookout.org
SUMMARY:Youth Breakfast & Sunday School
DESCRIPTION:
URL:https://gslookout.org/event/youth-breakfast-sunday-school-2/2029-11-04/
LOCATION:Youth Building
CATEGORIES:Formation,Youth
END:VEVENT
BEGIN:VEVENT
DTSTART;TZID=America/New_York:20291107T183000
DTEND;TZID=America/New_York:20291107T193000
DTSTAMP:20260425T222334
CREATED:20230127T163955Z
LAST-MODIFIED:20230127T165113Z
UID:10016816-1888770600-1888774200@gslookout.org
SUMMARY:Wednesday Night Youth
DESCRIPTION:
URL:https://gslookout.org/event/wednesday-night-youth/2029-11-07/
LOCATION:Youth Building
CATEGORIES:Formation,Youth
END:VEVENT
BEGIN:VEVENT
DTSTART;TZID=America/New_York:20291111T103000
DTEND;TZID=America/New_York:20291111T233000
DTSTAMP:20260425T222334
CREATED:20230908T210148Z
LAST-MODIFIED:20230908T210149Z
UID:10017733-1889087400-1889134200@gslookout.org
SUMMARY:Youth Breakfast & Sunday School
DESCRIPTION:
URL:https://gslookout.org/event/youth-breakfast-sunday-school-2/2029-11-11/
LOCATION:Youth Building
CATEGORIES:Formation,Youth
END:VEVENT
END:VCALENDAR