BEGIN:VCALENDAR
VERSION:2.0
PRODID:-//Church of the Good Shepherd - ECPv6.15.20//NONSGML v1.0//EN
CALSCALE:GREGORIAN
METHOD:PUBLISH
X-ORIGINAL-URL:https://gslookout.org
X-WR-CALDESC:Events for Church of the Good Shepherd
REFRESH-INTERVAL;VALUE=DURATION:PT1H
X-Robots-Tag:noindex
X-PUBLISHED-TTL:PT1H
BEGIN:VTIMEZONE
TZID:America/New_York
BEGIN:DAYLIGHT
TZOFFSETFROM:-0500
TZOFFSETTO:-0400
TZNAME:EDT
DTSTART:20250309T070000
END:DAYLIGHT
BEGIN:STANDARD
TZOFFSETFROM:-0400
TZOFFSETTO:-0500
TZNAME:EST
DTSTART:20251102T060000
END:STANDARD
BEGIN:DAYLIGHT
TZOFFSETFROM:-0500
TZOFFSETTO:-0400
TZNAME:EDT
DTSTART:20260308T070000
END:DAYLIGHT
BEGIN:STANDARD
TZOFFSETFROM:-0400
TZOFFSETTO:-0500
TZNAME:EST
DTSTART:20261101T060000
END:STANDARD
BEGIN:DAYLIGHT
TZOFFSETFROM:-0500
TZOFFSETTO:-0400
TZNAME:EDT
DTSTART:20270314T070000
END:DAYLIGHT
BEGIN:STANDARD
TZOFFSETFROM:-0400
TZOFFSETTO:-0500
TZNAME:EST
DTSTART:20271107T060000
END:STANDARD
BEGIN:DAYLIGHT
TZOFFSETFROM:-0500
TZOFFSETTO:-0400
TZNAME:EDT
DTSTART:20280312T070000
END:DAYLIGHT
BEGIN:STANDARD
TZOFFSETFROM:-0400
TZOFFSETTO:-0500
TZNAME:EST
DTSTART:20281105T060000
END:STANDARD
END:VTIMEZONE
BEGIN:VEVENT
DTSTART;TZID=America/New_York:20261202T183000
DTEND;TZID=America/New_York:20261202T193000
DTSTAMP:20260424T084225
CREATED:20230127T163955Z
LAST-MODIFIED:20230127T165113Z
UID:10012777-1796236200-1796239800@gslookout.org
SUMMARY:Wednesday Night Youth
DESCRIPTION:
URL:https://gslookout.org/event/wednesday-night-youth/2026-12-02/
LOCATION:Youth Building
CATEGORIES:Formation,Youth
END:VEVENT
BEGIN:VEVENT
DTSTART;TZID=America/New_York:20261206T103000
DTEND;TZID=America/New_York:20261206T233000
DTSTAMP:20260424T084225
CREATED:20230908T210148Z
LAST-MODIFIED:20230908T210149Z
UID:10014594-1796553000-1796599800@gslookout.org
SUMMARY:Youth Breakfast & Sunday School
DESCRIPTION:
URL:https://gslookout.org/event/youth-breakfast-sunday-school-2/2026-12-06/
LOCATION:Youth Building
CATEGORIES:Formation,Youth
END:VEVENT
BEGIN:VEVENT
DTSTART;TZID=America/New_York:20261209T183000
DTEND;TZID=America/New_York:20261209T193000
DTSTAMP:20260424T084225
CREATED:20230127T163955Z
LAST-MODIFIED:20230127T165113Z
UID:10012778-1796841000-1796844600@gslookout.org
SUMMARY:Wednesday Night Youth
DESCRIPTION:
URL:https://gslookout.org/event/wednesday-night-youth/2026-12-09/
LOCATION:Youth Building
CATEGORIES:Formation,Youth
END:VEVENT
BEGIN:VEVENT
DTSTART;TZID=America/New_York:20261213T103000
DTEND;TZID=America/New_York:20261213T233000
DTSTAMP:20260424T084225
CREATED:20230908T210148Z
LAST-MODIFIED:20230908T210149Z
UID:10014595-1797157800-1797204600@gslookout.org
SUMMARY:Youth Breakfast & Sunday School
DESCRIPTION:
URL:https://gslookout.org/event/youth-breakfast-sunday-school-2/2026-12-13/
LOCATION:Youth Building
CATEGORIES:Formation,Youth
END:VEVENT
BEGIN:VEVENT
DTSTART;TZID=America/New_York:20261216T183000
DTEND;TZID=America/New_York:20261216T193000
DTSTAMP:20260424T084225
CREATED:20230127T163955Z
LAST-MODIFIED:20230127T165113Z
UID:10012779-1797445800-1797449400@gslookout.org
SUMMARY:Wednesday Night Youth
DESCRIPTION:
URL:https://gslookout.org/event/wednesday-night-youth/2026-12-16/
LOCATION:Youth Building
CATEGORIES:Formation,Youth
END:VEVENT
BEGIN:VEVENT
DTSTART;TZID=America/New_York:20261220T103000
DTEND;TZID=America/New_York:20261220T233000
DTSTAMP:20260424T084225
CREATED:20230908T210148Z
LAST-MODIFIED:20230908T210149Z
UID:10014596-1797762600-1797809400@gslookout.org
SUMMARY:Youth Breakfast & Sunday School
DESCRIPTION:
URL:https://gslookout.org/event/youth-breakfast-sunday-school-2/2026-12-20/
LOCATION:Youth Building
CATEGORIES:Formation,Youth
END:VEVENT
BEGIN:VEVENT
DTSTART;TZID=America/New_York:20261223T183000
DTEND;TZID=America/New_York:20261223T193000
DTSTAMP:20260424T084225
CREATED:20230127T163955Z
LAST-MODIFIED:20230127T165113Z
UID:10012780-1798050600-1798054200@gslookout.org
SUMMARY:Wednesday Night Youth
DESCRIPTION:
URL:https://gslookout.org/event/wednesday-night-youth/2026-12-23/
LOCATION:Youth Building
CATEGORIES:Formation,Youth
END:VEVENT
BEGIN:VEVENT
DTSTART;TZID=America/New_York:20261227T103000
DTEND;TZID=America/New_York:20261227T233000
DTSTAMP:20260424T084225
CREATED:20230908T210148Z
LAST-MODIFIED:20230908T210149Z
UID:10014597-1798367400-1798414200@gslookout.org
SUMMARY:Youth Breakfast & Sunday School
DESCRIPTION:
URL:https://gslookout.org/event/youth-breakfast-sunday-school-2/2026-12-27/
LOCATION:Youth Building
CATEGORIES:Formation,Youth
END:VEVENT
BEGIN:VEVENT
DTSTART;TZID=America/New_York:20261230T183000
DTEND;TZID=America/New_York:20261230T193000
DTSTAMP:20260424T084225
CREATED:20230127T163955Z
LAST-MODIFIED:20230127T165113Z
UID:10012781-1798655400-1798659000@gslookout.org
SUMMARY:Wednesday Night Youth
DESCRIPTION:
URL:https://gslookout.org/event/wednesday-night-youth/2026-12-30/
LOCATION:Youth Building
CATEGORIES:Formation,Youth
END:VEVENT
BEGIN:VEVENT
DTSTART;TZID=America/New_York:20270103T103000
DTEND;TZID=America/New_York:20270103T233000
DTSTAMP:20260424T084225
CREATED:20230908T210148Z
LAST-MODIFIED:20230908T210149Z
UID:10014598-1798972200-1799019000@gslookout.org
SUMMARY:Youth Breakfast & Sunday School
DESCRIPTION:
URL:https://gslookout.org/event/youth-breakfast-sunday-school-2/2027-01-03/
LOCATION:Youth Building
CATEGORIES:Formation,Youth
END:VEVENT
BEGIN:VEVENT
DTSTART;TZID=America/New_York:20270106T183000
DTEND;TZID=America/New_York:20270106T193000
DTSTAMP:20260424T084225
CREATED:20230127T163955Z
LAST-MODIFIED:20230127T165113Z
UID:10012782-1799260200-1799263800@gslookout.org
SUMMARY:Wednesday Night Youth
DESCRIPTION:
URL:https://gslookout.org/event/wednesday-night-youth/2027-01-06/
LOCATION:Youth Building
CATEGORIES:Formation,Youth
END:VEVENT
BEGIN:VEVENT
DTSTART;TZID=America/New_York:20270110T103000
DTEND;TZID=America/New_York:20270110T233000
DTSTAMP:20260424T084225
CREATED:20230908T210148Z
LAST-MODIFIED:20230908T210149Z
UID:10014599-1799577000-1799623800@gslookout.org
SUMMARY:Youth Breakfast & Sunday School
DESCRIPTION:
URL:https://gslookout.org/event/youth-breakfast-sunday-school-2/2027-01-10/
LOCATION:Youth Building
CATEGORIES:Formation,Youth
END:VEVENT
BEGIN:VEVENT
DTSTART;TZID=America/New_York:20270113T183000
DTEND;TZID=America/New_York:20270113T193000
DTSTAMP:20260424T084225
CREATED:20230127T163955Z
LAST-MODIFIED:20230127T165113Z
UID:10012783-1799865000-1799868600@gslookout.org
SUMMARY:Wednesday Night Youth
DESCRIPTION:
URL:https://gslookout.org/event/wednesday-night-youth/2027-01-13/
LOCATION:Youth Building
CATEGORIES:Formation,Youth
END:VEVENT
BEGIN:VEVENT
DTSTART;TZID=America/New_York:20270117T103000
DTEND;TZID=America/New_York:20270117T233000
DTSTAMP:20260424T084225
CREATED:20230908T210148Z
LAST-MODIFIED:20230908T210149Z
UID:10014600-1800181800-1800228600@gslookout.org
SUMMARY:Youth Breakfast & Sunday School
DESCRIPTION:
URL:https://gslookout.org/event/youth-breakfast-sunday-school-2/2027-01-17/
LOCATION:Youth Building
CATEGORIES:Formation,Youth
END:VEVENT
BEGIN:VEVENT
DTSTART;TZID=America/New_York:20270120T183000
DTEND;TZID=America/New_York:20270120T193000
DTSTAMP:20260424T084225
CREATED:20230127T163955Z
LAST-MODIFIED:20230127T165113Z
UID:10012784-1800469800-1800473400@gslookout.org
SUMMARY:Wednesday Night Youth
DESCRIPTION:
URL:https://gslookout.org/event/wednesday-night-youth/2027-01-20/
LOCATION:Youth Building
CATEGORIES:Formation,Youth
END:VEVENT
BEGIN:VEVENT
DTSTART;TZID=America/New_York:20270124T103000
DTEND;TZID=America/New_York:20270124T233000
DTSTAMP:20260424T084225
CREATED:20230908T210148Z
LAST-MODIFIED:20230908T210149Z
UID:10014601-1800786600-1800833400@gslookout.org
SUMMARY:Youth Breakfast & Sunday School
DESCRIPTION:
URL:https://gslookout.org/event/youth-breakfast-sunday-school-2/2027-01-24/
LOCATION:Youth Building
CATEGORIES:Formation,Youth
END:VEVENT
BEGIN:VEVENT
DTSTART;TZID=America/New_York:20270127T183000
DTEND;TZID=America/New_York:20270127T193000
DTSTAMP:20260424T084225
CREATED:20230127T163955Z
LAST-MODIFIED:20230127T165113Z
UID:10012785-1801074600-1801078200@gslookout.org
SUMMARY:Wednesday Night Youth
DESCRIPTION:
URL:https://gslookout.org/event/wednesday-night-youth/2027-01-27/
LOCATION:Youth Building
CATEGORIES:Formation,Youth
END:VEVENT
BEGIN:VEVENT
DTSTART;TZID=America/New_York:20270131T103000
DTEND;TZID=America/New_York:20270131T233000
DTSTAMP:20260424T084225
CREATED:20230908T210148Z
LAST-MODIFIED:20230908T210149Z
UID:10014602-1801391400-1801438200@gslookout.org
SUMMARY:Youth Breakfast & Sunday School
DESCRIPTION:
URL:https://gslookout.org/event/youth-breakfast-sunday-school-2/2027-01-31/
LOCATION:Youth Building
CATEGORIES:Formation,Youth
END:VEVENT
BEGIN:VEVENT
DTSTART;TZID=America/New_York:20270203T183000
DTEND;TZID=America/New_York:20270203T193000
DTSTAMP:20260424T084225
CREATED:20230127T163955Z
LAST-MODIFIED:20230127T165113Z
UID:10012786-1801679400-1801683000@gslookout.org
SUMMARY:Wednesday Night Youth
DESCRIPTION:
URL:https://gslookout.org/event/wednesday-night-youth/2027-02-03/
LOCATION:Youth Building
CATEGORIES:Formation,Youth
END:VEVENT
BEGIN:VEVENT
DTSTART;TZID=America/New_York:20270207T103000
DTEND;TZID=America/New_York:20270207T233000
DTSTAMP:20260424T084225
CREATED:20230908T210148Z
LAST-MODIFIED:20230908T210149Z
UID:10014603-1801996200-1802043000@gslookout.org
SUMMARY:Youth Breakfast & Sunday School
DESCRIPTION:
URL:https://gslookout.org/event/youth-breakfast-sunday-school-2/2027-02-07/
LOCATION:Youth Building
CATEGORIES:Formation,Youth
END:VEVENT
BEGIN:VEVENT
DTSTART;TZID=America/New_York:20270210T183000
DTEND;TZID=America/New_York:20270210T193000
DTSTAMP:20260424T084225
CREATED:20230127T163955Z
LAST-MODIFIED:20230127T165113Z
UID:10012787-1802284200-1802287800@gslookout.org
SUMMARY:Wednesday Night Youth
DESCRIPTION:
URL:https://gslookout.org/event/wednesday-night-youth/2027-02-10/
LOCATION:Youth Building
CATEGORIES:Formation,Youth
END:VEVENT
BEGIN:VEVENT
DTSTART;TZID=America/New_York:20270214T103000
DTEND;TZID=America/New_York:20270214T233000
DTSTAMP:20260424T084225
CREATED:20230908T210148Z
LAST-MODIFIED:20230908T210149Z
UID:10014604-1802601000-1802647800@gslookout.org
SUMMARY:Youth Breakfast & Sunday School
DESCRIPTION:
URL:https://gslookout.org/event/youth-breakfast-sunday-school-2/2027-02-14/
LOCATION:Youth Building
CATEGORIES:Formation,Youth
END:VEVENT
BEGIN:VEVENT
DTSTART;TZID=America/New_York:20270217T183000
DTEND;TZID=America/New_York:20270217T193000
DTSTAMP:20260424T084225
CREATED:20230127T163955Z
LAST-MODIFIED:20230127T165113Z
UID:10012788-1802889000-1802892600@gslookout.org
SUMMARY:Wednesday Night Youth
DESCRIPTION:
URL:https://gslookout.org/event/wednesday-night-youth/2027-02-17/
LOCATION:Youth Building
CATEGORIES:Formation,Youth
END:VEVENT
BEGIN:VEVENT
DTSTART;TZID=America/New_York:20270221T103000
DTEND;TZID=America/New_York:20270221T233000
DTSTAMP:20260424T084225
CREATED:20230908T210148Z
LAST-MODIFIED:20230908T210149Z
UID:10014605-1803205800-1803252600@gslookout.org
SUMMARY:Youth Breakfast & Sunday School
DESCRIPTION:
URL:https://gslookout.org/event/youth-breakfast-sunday-school-2/2027-02-21/
LOCATION:Youth Building
CATEGORIES:Formation,Youth
END:VEVENT
BEGIN:VEVENT
DTSTART;TZID=America/New_York:20270224T183000
DTEND;TZID=America/New_York:20270224T193000
DTSTAMP:20260424T084225
CREATED:20230127T163955Z
LAST-MODIFIED:20230127T165113Z
UID:10012789-1803493800-1803497400@gslookout.org
SUMMARY:Wednesday Night Youth
DESCRIPTION:
URL:https://gslookout.org/event/wednesday-night-youth/2027-02-24/
LOCATION:Youth Building
CATEGORIES:Formation,Youth
END:VEVENT
BEGIN:VEVENT
DTSTART;TZID=America/New_York:20270228T103000
DTEND;TZID=America/New_York:20270228T233000
DTSTAMP:20260424T084225
CREATED:20230908T210148Z
LAST-MODIFIED:20230908T210149Z
UID:10014606-1803810600-1803857400@gslookout.org
SUMMARY:Youth Breakfast & Sunday School
DESCRIPTION:
URL:https://gslookout.org/event/youth-breakfast-sunday-school-2/2027-02-28/
LOCATION:Youth Building
CATEGORIES:Formation,Youth
END:VEVENT
BEGIN:VEVENT
DTSTART;TZID=America/New_York:20270303T183000
DTEND;TZID=America/New_York:20270303T193000
DTSTAMP:20260424T084225
CREATED:20230127T163955Z
LAST-MODIFIED:20230127T165113Z
UID:10012790-1804098600-1804102200@gslookout.org
SUMMARY:Wednesday Night Youth
DESCRIPTION:
URL:https://gslookout.org/event/wednesday-night-youth/2027-03-03/
LOCATION:Youth Building
CATEGORIES:Formation,Youth
END:VEVENT
BEGIN:VEVENT
DTSTART;TZID=America/New_York:20270307T103000
DTEND;TZID=America/New_York:20270307T233000
DTSTAMP:20260424T084225
CREATED:20230908T210148Z
LAST-MODIFIED:20230908T210149Z
UID:10014607-1804415400-1804462200@gslookout.org
SUMMARY:Youth Breakfast & Sunday School
DESCRIPTION:
URL:https://gslookout.org/event/youth-breakfast-sunday-school-2/2027-03-07/
LOCATION:Youth Building
CATEGORIES:Formation,Youth
END:VEVENT
BEGIN:VEVENT
DTSTART;TZID=America/New_York:20270310T183000
DTEND;TZID=America/New_York:20270310T193000
DTSTAMP:20260424T084225
CREATED:20230127T163955Z
LAST-MODIFIED:20230127T165113Z
UID:10012791-1804703400-1804707000@gslookout.org
SUMMARY:Wednesday Night Youth
DESCRIPTION:
URL:https://gslookout.org/event/wednesday-night-youth/2027-03-10/
LOCATION:Youth Building
CATEGORIES:Formation,Youth
END:VEVENT
BEGIN:VEVENT
DTSTART;TZID=America/New_York:20270314T103000
DTEND;TZID=America/New_York:20270314T233000
DTSTAMP:20260424T084225
CREATED:20230908T210148Z
LAST-MODIFIED:20230908T210149Z
UID:10014608-1805020200-1805067000@gslookout.org
SUMMARY:Youth Breakfast & Sunday School
DESCRIPTION:
URL:https://gslookout.org/event/youth-breakfast-sunday-school-2/2027-03-14/
LOCATION:Youth Building
CATEGORIES:Formation,Youth
END:VEVENT
END:VCALENDAR