BEGIN:VCALENDAR
VERSION:2.0
PRODID:-//Church of the Good Shepherd - ECPv6.15.20//NONSGML v1.0//EN
CALSCALE:GREGORIAN
METHOD:PUBLISH
X-ORIGINAL-URL:https://gslookout.org
X-WR-CALDESC:Events for Church of the Good Shepherd
REFRESH-INTERVAL;VALUE=DURATION:PT1H
X-Robots-Tag:noindex
X-PUBLISHED-TTL:PT1H
BEGIN:VTIMEZONE
TZID:America/New_York
BEGIN:DAYLIGHT
TZOFFSETFROM:-0500
TZOFFSETTO:-0400
TZNAME:EDT
DTSTART:20300310T070000
END:DAYLIGHT
BEGIN:STANDARD
TZOFFSETFROM:-0400
TZOFFSETTO:-0500
TZNAME:EST
DTSTART:20301103T060000
END:STANDARD
BEGIN:DAYLIGHT
TZOFFSETFROM:-0500
TZOFFSETTO:-0400
TZNAME:EDT
DTSTART:20310309T070000
END:DAYLIGHT
BEGIN:STANDARD
TZOFFSETFROM:-0400
TZOFFSETTO:-0500
TZNAME:EST
DTSTART:20311102T060000
END:STANDARD
BEGIN:DAYLIGHT
TZOFFSETFROM:-0500
TZOFFSETTO:-0400
TZNAME:EDT
DTSTART:20320314T070000
END:DAYLIGHT
BEGIN:STANDARD
TZOFFSETFROM:-0400
TZOFFSETTO:-0500
TZNAME:EST
DTSTART:20321107T060000
END:STANDARD
END:VTIMEZONE
BEGIN:VEVENT
DTSTART;TZID=America/New_York:20310417T103000
DTEND;TZID=America/New_York:20310417T233000
DTSTAMP:20260425T074624
CREATED:20241122T224001Z
LAST-MODIFIED:20241122T224019Z
UID:10019953-1934188200-1934235000@gslookout.org
SUMMARY:Thursday Bible Study
DESCRIPTION:
URL:https://gslookout.org/event/thursday-bible-study-2/2031-04-17/
LOCATION:Talbird Hall
CATEGORIES:Formation
END:VEVENT
BEGIN:VEVENT
DTSTART;TZID=America/New_York:20310418T083000
DTEND;TZID=America/New_York:20310418T090000
DTSTAMP:20260425T074624
CREATED:20230519T155339Z
LAST-MODIFIED:20230519T155340Z
UID:10019949-1934267400-1934269200@gslookout.org
SUMMARY:Morning Prayer
DESCRIPTION:With Kathleen Crevasse on Facebook
URL:https://gslookout.org/event/morning-prayer-2-2/2031-04-18/
LOCATION:Facebook
CATEGORIES:Worship
END:VEVENT
BEGIN:VEVENT
DTSTART;TZID=America/New_York:20310420T080000
DTEND;TZID=America/New_York:20310420T090000
DTSTAMP:20260425T074624
CREATED:20221103T212229Z
LAST-MODIFIED:20221103T212229Z
UID:10019954-1934438400-1934442000@gslookout.org
SUMMARY:Holy Eucharist\, Rite I
DESCRIPTION:Rite I\, spoken service at 8:00 am
URL:https://gslookout.org/event/holy-eucharist-rite-i/2031-04-20/
LOCATION:Church
CATEGORIES:Worship
END:VEVENT
BEGIN:VEVENT
DTSTART;TZID=America/New_York:20310420T091500
DTEND;TZID=America/New_York:20310420T101500
DTSTAMP:20260425T074624
CREATED:20230127T162550Z
LAST-MODIFIED:20230127T162550Z
UID:10019955-1934442900-1934446500@gslookout.org
SUMMARY:Lectionary Bible Study
DESCRIPTION:
URL:https://gslookout.org/event/lectionary-bible-study/2031-04-20/
LOCATION:Library
CATEGORIES:Formation
END:VEVENT
BEGIN:VEVENT
DTSTART;TZID=America/New_York:20310420T091500
DTEND;TZID=America/New_York:20310420T101500
DTSTAMP:20260425T074624
CREATED:20230127T163036Z
LAST-MODIFIED:20230127T163036Z
UID:10019956-1934442900-1934446500@gslookout.org
SUMMARY:Coffee & Conversations
DESCRIPTION:
URL:https://gslookout.org/event/coffee-conversations/2031-04-20/
LOCATION:Lupton Reading Room
CATEGORIES:Formation
END:VEVENT
BEGIN:VEVENT
DTSTART;TZID=America/New_York:20310420T103000
DTEND;TZID=America/New_York:20310420T120000
DTSTAMP:20260425T074624
CREATED:20221103T211341Z
LAST-MODIFIED:20221103T211341Z
UID:10019957-1934447400-1934452800@gslookout.org
SUMMARY:Holy Eucharist\, Rite II
DESCRIPTION:Rite II with hymns and choir at 10:30 am
URL:https://gslookout.org/event/holy-eucharist-rite-ii-4/2031-04-20/
LOCATION:Church
CATEGORIES:Worship
END:VEVENT
BEGIN:VEVENT
DTSTART;TZID=America/New_York:20310420T103000
DTEND;TZID=America/New_York:20310420T233000
DTSTAMP:20260425T074624
CREATED:20230908T210148Z
LAST-MODIFIED:20230908T210149Z
UID:10019958-1934447400-1934494200@gslookout.org
SUMMARY:Youth Breakfast & Sunday School
DESCRIPTION:
URL:https://gslookout.org/event/youth-breakfast-sunday-school-2/2031-04-20/
LOCATION:Youth Building
CATEGORIES:Formation,Youth
END:VEVENT
BEGIN:VEVENT
DTSTART;TZID=America/New_York:20310420T170500
DTEND;TZID=America/New_York:20310420T180500
DTSTAMP:20260425T074624
CREATED:20221103T212050Z
LAST-MODIFIED:20230608T164040Z
UID:10019959-1934471100-1934474700@gslookout.org
SUMMARY:Holy Eucharist\, Rite II
DESCRIPTION:Holy Eucharist Rite II with guitar and hymns
URL:https://gslookout.org/event/holy-eucharist-rite-ii-6/2031-04-20/
LOCATION:Chapel
CATEGORIES:Worship
END:VEVENT
BEGIN:VEVENT
DTSTART;TZID=America/New_York:20310421T083000
DTEND;TZID=America/New_York:20310421T090000
DTSTAMP:20260425T074624
CREATED:20230519T155339Z
LAST-MODIFIED:20230519T155340Z
UID:10019960-1934526600-1934528400@gslookout.org
SUMMARY:Morning Prayer
DESCRIPTION:With Kathleen Crevasse on Facebook
URL:https://gslookout.org/event/morning-prayer-2-2/2031-04-21/
LOCATION:Facebook
CATEGORIES:Worship
END:VEVENT
BEGIN:VEVENT
DTSTART;TZID=America/New_York:20310421T100000
DTEND;TZID=America/New_York:20310421T230000
DTSTAMP:20260425T074624
CREATED:20221018T213055Z
LAST-MODIFIED:20221018T213055Z
UID:10019963-1934532000-1934578800@gslookout.org
SUMMARY:Tai Chi
DESCRIPTION:
URL:https://gslookout.org/event/tai-chi/2031-04-21/
LOCATION:Library
CATEGORIES:Miscellaneous
END:VEVENT
BEGIN:VEVENT
DTSTART;TZID=America/New_York:20310422T083000
DTEND;TZID=America/New_York:20310422T090000
DTSTAMP:20260425T074624
CREATED:20230519T155339Z
LAST-MODIFIED:20230519T155340Z
UID:10019961-1934613000-1934614800@gslookout.org
SUMMARY:Morning Prayer
DESCRIPTION:With Kathleen Crevasse on Facebook
URL:https://gslookout.org/event/morning-prayer-2-2/2031-04-22/
LOCATION:Facebook
CATEGORIES:Worship
END:VEVENT
BEGIN:VEVENT
DTSTART;TZID=America/New_York:20310422T100000
DTEND;TZID=America/New_York:20310422T103000
DTSTAMP:20260425T074624
CREATED:20221103T210703Z
LAST-MODIFIED:20230627T182417Z
UID:10019965-1934618400-1934620200@gslookout.org
SUMMARY:Intercessory Prayer Group
DESCRIPTION:
URL:https://gslookout.org/event/intercessory-prayer-group-2/2031-04-22/
LOCATION:Chapel
CATEGORIES:Formation,Worship
END:VEVENT
BEGIN:VEVENT
DTSTART;TZID=America/New_York:20310422T103000
DTEND;TZID=America/New_York:20310422T110000
DTSTAMP:20260425T074624
CREATED:20221103T210552Z
LAST-MODIFIED:20230627T182525Z
UID:10019966-1934620200-1934622000@gslookout.org
SUMMARY:Healing Service
DESCRIPTION:
URL:https://gslookout.org/event/healing-service-2/2031-04-22/
LOCATION:Chapel
CATEGORIES:Worship
END:VEVENT
BEGIN:VEVENT
DTSTART;TZID=America/New_York:20310422T113000
DTEND;TZID=America/New_York:20310422T120000
DTSTAMP:20260425T074624
CREATED:20221103T210420Z
LAST-MODIFIED:20230627T182618Z
UID:10019967-1934623800-1934625600@gslookout.org
SUMMARY:Centering Prayer
DESCRIPTION:
URL:https://gslookout.org/event/centering-prayer-2/2031-04-22/
LOCATION:Lou Garcia Room
CATEGORIES:Formation
END:VEVENT
BEGIN:VEVENT
DTSTART;TZID=America/New_York:20310423T083000
DTEND;TZID=America/New_York:20310423T090000
DTSTAMP:20260425T074624
CREATED:20230519T155339Z
LAST-MODIFIED:20230519T155340Z
UID:10019962-1934699400-1934701200@gslookout.org
SUMMARY:Morning Prayer
DESCRIPTION:With Kathleen Crevasse on Facebook
URL:https://gslookout.org/event/morning-prayer-2-2/2031-04-23/
LOCATION:Facebook
CATEGORIES:Worship
END:VEVENT
BEGIN:VEVENT
DTSTART;TZID=America/New_York:20310424T083000
DTEND;TZID=America/New_York:20310424T090000
DTSTAMP:20260425T074624
CREATED:20230519T155339Z
LAST-MODIFIED:20230519T155340Z
UID:10019964-1934785800-1934787600@gslookout.org
SUMMARY:Morning Prayer
DESCRIPTION:With Kathleen Crevasse on Facebook
URL:https://gslookout.org/event/morning-prayer-2-2/2031-04-24/
LOCATION:Facebook
CATEGORIES:Worship
END:VEVENT
END:VCALENDAR