BEGIN:VCALENDAR
VERSION:2.0
PRODID:-//Church of the Good Shepherd - ECPv6.15.20//NONSGML v1.0//EN
CALSCALE:GREGORIAN
METHOD:PUBLISH
X-ORIGINAL-URL:https://gslookout.org
X-WR-CALDESC:Events for Church of the Good Shepherd
REFRESH-INTERVAL;VALUE=DURATION:PT1H
X-Robots-Tag:noindex
X-PUBLISHED-TTL:PT1H
BEGIN:VTIMEZONE
TZID:America/New_York
BEGIN:DAYLIGHT
TZOFFSETFROM:-0500
TZOFFSETTO:-0400
TZNAME:EDT
DTSTART:20270314T070000
END:DAYLIGHT
BEGIN:STANDARD
TZOFFSETFROM:-0400
TZOFFSETTO:-0500
TZNAME:EST
DTSTART:20271107T060000
END:STANDARD
BEGIN:DAYLIGHT
TZOFFSETFROM:-0500
TZOFFSETTO:-0400
TZNAME:EDT
DTSTART:20280312T070000
END:DAYLIGHT
BEGIN:STANDARD
TZOFFSETFROM:-0400
TZOFFSETTO:-0500
TZNAME:EST
DTSTART:20281105T060000
END:STANDARD
BEGIN:DAYLIGHT
TZOFFSETFROM:-0500
TZOFFSETTO:-0400
TZNAME:EDT
DTSTART:20290311T070000
END:DAYLIGHT
BEGIN:STANDARD
TZOFFSETFROM:-0400
TZOFFSETTO:-0500
TZNAME:EST
DTSTART:20291104T060000
END:STANDARD
END:VTIMEZONE
BEGIN:VEVENT
DTSTART;TZID=America/New_York:20280723T103000
DTEND;TZID=America/New_York:20280723T120000
DTSTAMP:20260419T111453
CREATED:20221103T211341Z
LAST-MODIFIED:20221103T211341Z
UID:10014825-1847961000-1847966400@gslookout.org
SUMMARY:Holy Eucharist\, Rite II
DESCRIPTION:Rite II with hymns and choir at 10:30 am
URL:https://gslookout.org/event/holy-eucharist-rite-ii-4/2028-07-23/
LOCATION:Church
CATEGORIES:Worship
END:VEVENT
BEGIN:VEVENT
DTSTART;TZID=America/New_York:20280724T093000
DTEND;TZID=America/New_York:20280724T100000
DTSTAMP:20260419T111453
CREATED:20221018T212105Z
LAST-MODIFIED:20221018T212105Z
UID:10015445-1848043800-1848045600@gslookout.org
SUMMARY:Preschool Chapel
DESCRIPTION:
URL:https://gslookout.org/event/preschool-chapel/2028-07-24/
LOCATION:Church
CATEGORIES:Good Shepherd School
END:VEVENT
BEGIN:VEVENT
DTSTART;TZID=America/New_York:20280730T080000
DTEND;TZID=America/New_York:20280730T090000
DTSTAMP:20260419T111453
CREATED:20221103T212229Z
LAST-MODIFIED:20221103T212229Z
UID:10015074-1848556800-1848560400@gslookout.org
SUMMARY:Holy Eucharist\, Rite I
DESCRIPTION:Rite I\, spoken service at 8:00 am
URL:https://gslookout.org/event/holy-eucharist-rite-i/2028-07-30/
LOCATION:Church
CATEGORIES:Worship
END:VEVENT
BEGIN:VEVENT
DTSTART;TZID=America/New_York:20280730T103000
DTEND;TZID=America/New_York:20280730T120000
DTSTAMP:20260419T111453
CREATED:20221103T211341Z
LAST-MODIFIED:20221103T211341Z
UID:10014826-1848565800-1848571200@gslookout.org
SUMMARY:Holy Eucharist\, Rite II
DESCRIPTION:Rite II with hymns and choir at 10:30 am
URL:https://gslookout.org/event/holy-eucharist-rite-ii-4/2028-07-30/
LOCATION:Church
CATEGORIES:Worship
END:VEVENT
BEGIN:VEVENT
DTSTART;TZID=America/New_York:20280731T093000
DTEND;TZID=America/New_York:20280731T100000
DTSTAMP:20260419T111453
CREATED:20221018T212105Z
LAST-MODIFIED:20221018T212105Z
UID:10015446-1848648600-1848650400@gslookout.org
SUMMARY:Preschool Chapel
DESCRIPTION:
URL:https://gslookout.org/event/preschool-chapel/2028-07-31/
LOCATION:Church
CATEGORIES:Good Shepherd School
END:VEVENT
BEGIN:VEVENT
DTSTART;TZID=America/New_York:20280806T080000
DTEND;TZID=America/New_York:20280806T090000
DTSTAMP:20260419T111453
CREATED:20221103T212229Z
LAST-MODIFIED:20221103T212229Z
UID:10015075-1849161600-1849165200@gslookout.org
SUMMARY:Holy Eucharist\, Rite I
DESCRIPTION:Rite I\, spoken service at 8:00 am
URL:https://gslookout.org/event/holy-eucharist-rite-i/2028-08-06/
LOCATION:Church
CATEGORIES:Worship
END:VEVENT
BEGIN:VEVENT
DTSTART;TZID=America/New_York:20280806T103000
DTEND;TZID=America/New_York:20280806T120000
DTSTAMP:20260419T111453
CREATED:20221103T211341Z
LAST-MODIFIED:20221103T211341Z
UID:10014827-1849170600-1849176000@gslookout.org
SUMMARY:Holy Eucharist\, Rite II
DESCRIPTION:Rite II with hymns and choir at 10:30 am
URL:https://gslookout.org/event/holy-eucharist-rite-ii-4/2028-08-06/
LOCATION:Church
CATEGORIES:Worship
END:VEVENT
BEGIN:VEVENT
DTSTART;TZID=America/New_York:20280807T093000
DTEND;TZID=America/New_York:20280807T100000
DTSTAMP:20260419T111453
CREATED:20221018T212105Z
LAST-MODIFIED:20221018T212105Z
UID:10015447-1849253400-1849255200@gslookout.org
SUMMARY:Preschool Chapel
DESCRIPTION:
URL:https://gslookout.org/event/preschool-chapel/2028-08-07/
LOCATION:Church
CATEGORIES:Good Shepherd School
END:VEVENT
BEGIN:VEVENT
DTSTART;TZID=America/New_York:20280813T080000
DTEND;TZID=America/New_York:20280813T090000
DTSTAMP:20260419T111453
CREATED:20221103T212229Z
LAST-MODIFIED:20221103T212229Z
UID:10015076-1849766400-1849770000@gslookout.org
SUMMARY:Holy Eucharist\, Rite I
DESCRIPTION:Rite I\, spoken service at 8:00 am
URL:https://gslookout.org/event/holy-eucharist-rite-i/2028-08-13/
LOCATION:Church
CATEGORIES:Worship
END:VEVENT
BEGIN:VEVENT
DTSTART;TZID=America/New_York:20280813T103000
DTEND;TZID=America/New_York:20280813T120000
DTSTAMP:20260419T111453
CREATED:20221103T211341Z
LAST-MODIFIED:20221103T211341Z
UID:10014828-1849775400-1849780800@gslookout.org
SUMMARY:Holy Eucharist\, Rite II
DESCRIPTION:Rite II with hymns and choir at 10:30 am
URL:https://gslookout.org/event/holy-eucharist-rite-ii-4/2028-08-13/
LOCATION:Church
CATEGORIES:Worship
END:VEVENT
BEGIN:VEVENT
DTSTART;TZID=America/New_York:20280814T093000
DTEND;TZID=America/New_York:20280814T100000
DTSTAMP:20260419T111453
CREATED:20221018T212105Z
LAST-MODIFIED:20221018T212105Z
UID:10015448-1849858200-1849860000@gslookout.org
SUMMARY:Preschool Chapel
DESCRIPTION:
URL:https://gslookout.org/event/preschool-chapel/2028-08-14/
LOCATION:Church
CATEGORIES:Good Shepherd School
END:VEVENT
BEGIN:VEVENT
DTSTART;TZID=America/New_York:20280820T080000
DTEND;TZID=America/New_York:20280820T090000
DTSTAMP:20260419T111453
CREATED:20221103T212229Z
LAST-MODIFIED:20221103T212229Z
UID:10015077-1850371200-1850374800@gslookout.org
SUMMARY:Holy Eucharist\, Rite I
DESCRIPTION:Rite I\, spoken service at 8:00 am
URL:https://gslookout.org/event/holy-eucharist-rite-i/2028-08-20/
LOCATION:Church
CATEGORIES:Worship
END:VEVENT
BEGIN:VEVENT
DTSTART;TZID=America/New_York:20280820T103000
DTEND;TZID=America/New_York:20280820T120000
DTSTAMP:20260419T111453
CREATED:20221103T211341Z
LAST-MODIFIED:20221103T211341Z
UID:10014829-1850380200-1850385600@gslookout.org
SUMMARY:Holy Eucharist\, Rite II
DESCRIPTION:Rite II with hymns and choir at 10:30 am
URL:https://gslookout.org/event/holy-eucharist-rite-ii-4/2028-08-20/
LOCATION:Church
CATEGORIES:Worship
END:VEVENT
BEGIN:VEVENT
DTSTART;TZID=America/New_York:20280821T093000
DTEND;TZID=America/New_York:20280821T100000
DTSTAMP:20260419T111453
CREATED:20221018T212105Z
LAST-MODIFIED:20221018T212105Z
UID:10015449-1850463000-1850464800@gslookout.org
SUMMARY:Preschool Chapel
DESCRIPTION:
URL:https://gslookout.org/event/preschool-chapel/2028-08-21/
LOCATION:Church
CATEGORIES:Good Shepherd School
END:VEVENT
BEGIN:VEVENT
DTSTART;TZID=America/New_York:20280827T080000
DTEND;TZID=America/New_York:20280827T090000
DTSTAMP:20260419T111453
CREATED:20221103T212229Z
LAST-MODIFIED:20221103T212229Z
UID:10015078-1850976000-1850979600@gslookout.org
SUMMARY:Holy Eucharist\, Rite I
DESCRIPTION:Rite I\, spoken service at 8:00 am
URL:https://gslookout.org/event/holy-eucharist-rite-i/2028-08-27/
LOCATION:Church
CATEGORIES:Worship
END:VEVENT
BEGIN:VEVENT
DTSTART;TZID=America/New_York:20280827T103000
DTEND;TZID=America/New_York:20280827T120000
DTSTAMP:20260419T111453
CREATED:20221103T211341Z
LAST-MODIFIED:20221103T211341Z
UID:10014830-1850985000-1850990400@gslookout.org
SUMMARY:Holy Eucharist\, Rite II
DESCRIPTION:Rite II with hymns and choir at 10:30 am
URL:https://gslookout.org/event/holy-eucharist-rite-ii-4/2028-08-27/
LOCATION:Church
CATEGORIES:Worship
END:VEVENT
BEGIN:VEVENT
DTSTART;TZID=America/New_York:20280828T093000
DTEND;TZID=America/New_York:20280828T100000
DTSTAMP:20260419T111453
CREATED:20221018T212105Z
LAST-MODIFIED:20221018T212105Z
UID:10015450-1851067800-1851069600@gslookout.org
SUMMARY:Preschool Chapel
DESCRIPTION:
URL:https://gslookout.org/event/preschool-chapel/2028-08-28/
LOCATION:Church
CATEGORIES:Good Shepherd School
END:VEVENT
BEGIN:VEVENT
DTSTART;TZID=America/New_York:20280903T080000
DTEND;TZID=America/New_York:20280903T090000
DTSTAMP:20260419T111453
CREATED:20221103T212229Z
LAST-MODIFIED:20221103T212229Z
UID:10015079-1851580800-1851584400@gslookout.org
SUMMARY:Holy Eucharist\, Rite I
DESCRIPTION:Rite I\, spoken service at 8:00 am
URL:https://gslookout.org/event/holy-eucharist-rite-i/2028-09-03/
LOCATION:Church
CATEGORIES:Worship
END:VEVENT
BEGIN:VEVENT
DTSTART;TZID=America/New_York:20280903T103000
DTEND;TZID=America/New_York:20280903T120000
DTSTAMP:20260419T111453
CREATED:20221103T211341Z
LAST-MODIFIED:20221103T211341Z
UID:10014831-1851589800-1851595200@gslookout.org
SUMMARY:Holy Eucharist\, Rite II
DESCRIPTION:Rite II with hymns and choir at 10:30 am
URL:https://gslookout.org/event/holy-eucharist-rite-ii-4/2028-09-03/
LOCATION:Church
CATEGORIES:Worship
END:VEVENT
BEGIN:VEVENT
DTSTART;TZID=America/New_York:20280904T093000
DTEND;TZID=America/New_York:20280904T100000
DTSTAMP:20260419T111453
CREATED:20221018T212105Z
LAST-MODIFIED:20221018T212105Z
UID:10015451-1851672600-1851674400@gslookout.org
SUMMARY:Preschool Chapel
DESCRIPTION:
URL:https://gslookout.org/event/preschool-chapel/2028-09-04/
LOCATION:Church
CATEGORIES:Good Shepherd School
END:VEVENT
BEGIN:VEVENT
DTSTART;TZID=America/New_York:20280910T080000
DTEND;TZID=America/New_York:20280910T090000
DTSTAMP:20260419T111453
CREATED:20221103T212229Z
LAST-MODIFIED:20221103T212229Z
UID:10015080-1852185600-1852189200@gslookout.org
SUMMARY:Holy Eucharist\, Rite I
DESCRIPTION:Rite I\, spoken service at 8:00 am
URL:https://gslookout.org/event/holy-eucharist-rite-i/2028-09-10/
LOCATION:Church
CATEGORIES:Worship
END:VEVENT
BEGIN:VEVENT
DTSTART;TZID=America/New_York:20280910T103000
DTEND;TZID=America/New_York:20280910T120000
DTSTAMP:20260419T111453
CREATED:20221103T211341Z
LAST-MODIFIED:20221103T211341Z
UID:10014832-1852194600-1852200000@gslookout.org
SUMMARY:Holy Eucharist\, Rite II
DESCRIPTION:Rite II with hymns and choir at 10:30 am
URL:https://gslookout.org/event/holy-eucharist-rite-ii-4/2028-09-10/
LOCATION:Church
CATEGORIES:Worship
END:VEVENT
BEGIN:VEVENT
DTSTART;TZID=America/New_York:20280911T093000
DTEND;TZID=America/New_York:20280911T100000
DTSTAMP:20260419T111453
CREATED:20221018T212105Z
LAST-MODIFIED:20221018T212105Z
UID:10015452-1852277400-1852279200@gslookout.org
SUMMARY:Preschool Chapel
DESCRIPTION:
URL:https://gslookout.org/event/preschool-chapel/2028-09-11/
LOCATION:Church
CATEGORIES:Good Shepherd School
END:VEVENT
BEGIN:VEVENT
DTSTART;TZID=America/New_York:20280917T080000
DTEND;TZID=America/New_York:20280917T090000
DTSTAMP:20260419T111453
CREATED:20221103T212229Z
LAST-MODIFIED:20221103T212229Z
UID:10015081-1852790400-1852794000@gslookout.org
SUMMARY:Holy Eucharist\, Rite I
DESCRIPTION:Rite I\, spoken service at 8:00 am
URL:https://gslookout.org/event/holy-eucharist-rite-i/2028-09-17/
LOCATION:Church
CATEGORIES:Worship
END:VEVENT
BEGIN:VEVENT
DTSTART;TZID=America/New_York:20280917T103000
DTEND;TZID=America/New_York:20280917T120000
DTSTAMP:20260419T111453
CREATED:20221103T211341Z
LAST-MODIFIED:20221103T211341Z
UID:10014833-1852799400-1852804800@gslookout.org
SUMMARY:Holy Eucharist\, Rite II
DESCRIPTION:Rite II with hymns and choir at 10:30 am
URL:https://gslookout.org/event/holy-eucharist-rite-ii-4/2028-09-17/
LOCATION:Church
CATEGORIES:Worship
END:VEVENT
BEGIN:VEVENT
DTSTART;TZID=America/New_York:20280918T093000
DTEND;TZID=America/New_York:20280918T100000
DTSTAMP:20260419T111453
CREATED:20221018T212105Z
LAST-MODIFIED:20221018T212105Z
UID:10015453-1852882200-1852884000@gslookout.org
SUMMARY:Preschool Chapel
DESCRIPTION:
URL:https://gslookout.org/event/preschool-chapel/2028-09-18/
LOCATION:Church
CATEGORIES:Good Shepherd School
END:VEVENT
BEGIN:VEVENT
DTSTART;TZID=America/New_York:20280924T080000
DTEND;TZID=America/New_York:20280924T090000
DTSTAMP:20260419T111453
CREATED:20221103T212229Z
LAST-MODIFIED:20221103T212229Z
UID:10015082-1853395200-1853398800@gslookout.org
SUMMARY:Holy Eucharist\, Rite I
DESCRIPTION:Rite I\, spoken service at 8:00 am
URL:https://gslookout.org/event/holy-eucharist-rite-i/2028-09-24/
LOCATION:Church
CATEGORIES:Worship
END:VEVENT
BEGIN:VEVENT
DTSTART;TZID=America/New_York:20280924T103000
DTEND;TZID=America/New_York:20280924T120000
DTSTAMP:20260419T111453
CREATED:20221103T211341Z
LAST-MODIFIED:20221103T211341Z
UID:10014834-1853404200-1853409600@gslookout.org
SUMMARY:Holy Eucharist\, Rite II
DESCRIPTION:Rite II with hymns and choir at 10:30 am
URL:https://gslookout.org/event/holy-eucharist-rite-ii-4/2028-09-24/
LOCATION:Church
CATEGORIES:Worship
END:VEVENT
BEGIN:VEVENT
DTSTART;TZID=America/New_York:20280925T093000
DTEND;TZID=America/New_York:20280925T100000
DTSTAMP:20260419T111453
CREATED:20221018T212105Z
LAST-MODIFIED:20221018T212105Z
UID:10015454-1853487000-1853488800@gslookout.org
SUMMARY:Preschool Chapel
DESCRIPTION:
URL:https://gslookout.org/event/preschool-chapel/2028-09-25/
LOCATION:Church
CATEGORIES:Good Shepherd School
END:VEVENT
BEGIN:VEVENT
DTSTART;TZID=America/New_York:20281001T080000
DTEND;TZID=America/New_York:20281001T090000
DTSTAMP:20260419T111453
CREATED:20221103T212229Z
LAST-MODIFIED:20221103T212229Z
UID:10015083-1854000000-1854003600@gslookout.org
SUMMARY:Holy Eucharist\, Rite I
DESCRIPTION:Rite I\, spoken service at 8:00 am
URL:https://gslookout.org/event/holy-eucharist-rite-i/2028-10-01/
LOCATION:Church
CATEGORIES:Worship
END:VEVENT
END:VCALENDAR